Workbook

Sheet Teams
A1: Player Name | B1: Div | C1: Year | D1: Player # | E1: Team | F1: Born | G1: Age | H1: 30+ | I1: 40+ | J1: 50+ | K1: Exemptions | S1: Total Rating | T1: Tee | W1: Long Iron | Z1: Short Iron | AC1: Fairway Wood | AF1: Chipping | AI1: Putting | AL1: Aggression
K2: CA | L2: CA | M2: CA | N2: CA | O2: CH | P2: CH | Q2: CH | R2: PO | T2: 10-20 (.2) | U2: Inc/Dec | V2: New Rating | W2: 5-10 (.1) | X2: Inc/Dec | Y2: New Rating | Z2: 10-20 (.2) | AA2: Inc/Dec | AB2: New Rating | AC2: 5-10 (.1) | AD2: Inc/Dec | AE2: New Rating | AF2: 5-10 (.1) | AG2: Inc/Dec | AH2: New Rating | AI2: 15-30 (.3) | AJ2: Inc/Dec | AK2: New Rating | AL2: 0-100 (1) | AM2: Inc/Dec | AN2: New Rating
A3: Patrick Cantlay | B3: PGA | C3: 2024 | D3: 1 | E3: Drive | F3: 1992 | G3: =C3-F3 -> 32 | H3: 1 | S3: =V3+Y3+AB3+AE3+AH3+AK3 -> 76 | T3: 10 | U3: 28 | V3: =T3+(U3*0.2)-(H3*0.2)-(I3*0.2)-(J3*0.2) -> 15.4 | W3: 5 | X3: 20 | Y3: =W3+(X3*0.1)-(H3*0.1)-(I3*0.1)-(J3*0.1) -> 6.9 | Z3: 10 | AA3: 28 | AB3: =Z3+(AA3*0.2)-(H3*0.2)-(I3*0.2)-(J3*0.2) -> 15.4 | AC3: 5 | AD3: 23 | AE3: =AC3+(AD3*0.1)-(H3*0.1)-(I3*0.1)-(J3*0.1) -> 7.2 | AF3: 5 | AG3: 28 | AH3: =AF3+(AG3*0.1)-(H3*0.1)-(I3*0.1)-(J3*0.1) -> 7.7 | AI3: 15 | AJ3: 29 | AK3: =AI3+(AJ3*0.3)-(H3*0.3)-(I3*0.3)-(J3*0.3) -> 23.4 | AL3: 0 | AM3: 51 | AN3: =AL3+AM3 -> 51
A4: Justin Thomas | B4: PGA | C4: 2024 | D4: 2 | E4: Drive | F4: 1993 | G4: =C4-F4 -> 31 | H4: 1 | S4: =V4+Y4+AB4+AE4+AH4+AK4 -> 75.7 | T4: 10 | U4: 26 | V4: =T4+(U4*0.2)-(H4*0.2)-(I4*0.2)-(J4*0.2) -> 15 | W4: 5 | X4: 38 | Y4: =W4+(X4*0.1)-(H4*0.1)-(I4*0.1)-(J4*0.1) -> 8.7 | Z4: 10 | AA4: 25 | AB4: =Z4+(AA4*0.2)-(H4*0.2)-(I4*0.2)-(J4*0.2) -> 14.8 | AC4: 5 | AD4: 24 | AE4: =AC4+(AD4*0.1)-(H4*0.1)-(I4*0.1)-(J4*0.1) -> 7.3 | AF4: 5 | AG4: 25 | AH4: =AF4+(AG4*0.1)-(H4*0.1)-(I4*0.1)-(J4*0.1) -> 7.4 | AI4: 15 | AJ4: 26 | AK4: =AI4+(AJ4*0.3)-(H4*0.3)-(I4*0.3)-(J4*0.3) -> 22.5 | AL4: 0 | AM4: 48 | AN4: =AL4+AM4 -> 48
A5: Billy Horschel | B5: PGA | C5: 2024 | D5: 3 | E5: Drive | F5: 1986 | G5: =C5-F5 -> 38 | H5: 1 | S5: =V5+Y5+AB5+AE5+AH5+AK5 -> 74.2 | T5: 10 | U5: 36 | V5: =T5+(U5*0.2)-(H5*0.2)-(I5*0.2)-(J5*0.2) -> 17 | W5: 5 | X5: 30 | Y5: =W5+(X5*0.1)-(H5*0.1)-(I5*0.1)-(J5*0.1) -> 7.9 | Z5: 10 | AA5: 19 | AB5: =Z5+(AA5*0.2)-(H5*0.2)-(I5*0.2)-(J5*0.2) -> 13.6 | AC5: 5 | AD5: 22 | AE5: =AC5+(AD5*0.1)-(H5*0.1)-(I5*0.1)-(J5*0.1) -> 7.1 | AF5: 5 | AG5: 21 | AH5: =AF5+(AG5*0.1)-(H5*0.1)-(I5*0.1)-(J5*0.1) -> 7 | AI5: 15 | AJ5: 23 | AK5: =AI5+(AJ5*0.3)-(H5*0.3)-(I5*0.3)-(J5*0.3) -> 21.6 | AL5: 0 | AM5: 42 | AN5: =AL5+AM5 -> 42
A6: Lucas Glover | B6: PGA | C6: 2024 | D6: 4 | E6: Drive | F6: 1979 | G6: =C6-F6 -> 45 | H6: 1 | I6: 2 | K6: X | L6: X | M6: X | N6: X | S6: =V6+Y6+AB6+AE6+AH6+AK6 -> 74.2 | T6: 10 | U6: 31 | V6: =T6+(U6*0.2)-(H6*0.2)-(I6*0.2)-(J6*0.2) -> 15.6 | W6: 5 | X6: 39 | Y6: =W6+(X6*0.1)-(H6*0.1)-(I6*0.1)-(J6*0.1) -> 8.6 | Z6: 10 | AA6: 13 | AB6: =Z6+(AA6*0.2)-(H6*0.2)-(I6*0.2)-(J6*0.2) -> 12 | AC6: 5 | AD6: 41 | AE6: =AC6+(AD6*0.1)-(H6*0.1)-(I6*0.1)-(J6*0.1) -> 8.8 | AF6: 5 | AG6: 26 | AH6: =AF6+(AG6*0.1)-(H6*0.1)-(I6*0.1)-(J6*0.1) -> 7.3 | AI6: 15 | AJ6: 26 | AK6: =AI6+(AJ6*0.3)-(H6*0.3)-(I6*0.3)-(J6*0.3) -> 21.9 | AL6: 0 | AM6: 56 | AN6: =AL6+AM6 -> 56
A7: Drive Totals | E7: Average Age | G7: =AVERAGE(G3:G6) -> 36.5 | S7: =AVERAGE(S3:S6) -> 75.025 | T7: Tee Avg. | V7: =AVERAGE(V3:V6) -> 15.75 | W7: Long Iron Avg | Y7: =AVERAGE(Y3:Y6) -> 8.025 | Z7: Short Iron Avg | AB7: =AVERAGE(AB3:AB6) -> 13.95 | AC7: Fairway Wood Avg | AE7: =AVERAGE(AE3:AE6) -> 7.6 | AF7: Chipping Avg | AH7: =AVERAGE(AH3:AH6) -> 7.35 | AI7: Putting Avg | AK7: =AVERAGE(AK3:AK6) -> 22.35
A8: Hideki Matsuyama | B8: PGA | C8: 2024 | D8: 1 | E8: Common | F8: 1992 | G8: =C8-F8 -> 32 | H8: 1 | S8: =V8+Y8+AB8+AE8+AH8+AK8 -> 79.4 | T8: 10 | U8: 32 | V8: =T8+(U8*0.2)-(H8*0.2)-(I8*0.2)-(J8*0.2) -> 16.2 | W8: 5 | X8: 11 | Y8: =W8+(X8*0.1)-(H8*0.1)-(I8*0.1)-(J8*0.1) -> 6 | Z8: 10 | AA8: 31 | AB8: =Z8+(AA8*0.2)-(H8*0.2)-(I8*0.2)-(J8*0.2) -> 16 | AC8: 5 | AD8: 32 | AE8: =AC8+(AD8*0.1)-(H8*0.1)-(I8*0.1)-(J8*0.1) -> 8.1 | AF8: 5 | AG8: 15 | AH8: =AF8+(AG8*0.1)-(H8*0.1)-(I8*0.1)-(J8*0.1) -> 6.4 | AI8: 15 | AJ8: 40 | AK8: =AI8+(AJ8*0.3)-(H8*0.3)-(I8*0.3)-(J8*0.3) -> 26.7 | AL8: 0 | AM8: 41 | AN8: =AL8+AM8 -> 41
A9: Keegan Bradley | B9: PGA | C9: 2024 | D9: 2 | E9: Common | F9: 1986 | G9: =C9-F9 -> 38 | H9: 1 | S9: =V9+Y9+AB9+AE9+AH9+AK9 -> 74.4 | T9: 10 | U9: 17 | V9: =T9+(U9*0.2)-(H9*0.2)-(I9*0.2)-(J9*0.2) -> 13.2 | W9: 5 | X9: 28 | Y9: =W9+(X9*0.1)-(H9*0.1)-(I9*0.1)-(J9*0.1) -> 7.7 | Z9: 10 | AA9: 23 | AB9: =Z9+(AA9*0.2)-(H9*0.2)-(I9*0.2)-(J9*0.2) -> 14.4 | AC9: 5 | AD9: 26 | AE9: =AC9+(AD9*0.1)-(H9*0.1)-(I9*0.1)-(J9*0.1) -> 7.5 | AF9: 5 | AG9: 27 | AH9: =AF9+(AG9*0.1)-(H9*0.1)-(I9*0.1)-(J9*0.1) -> 7.6 | AI9: 15 | AJ9: 31 | AK9: =AI9+(AJ9*0.3)-(H9*0.3)-(I9*0.3)-(J9*0.3) -> 24 | AL9: 0 | AM9: 55 | AN9: =AL9+AM9 -> 55
A10: Rory McIlroy | B10: PGA | C10: 2024 | D10: 3 | E10: Common | F10: 1989 | G10: =C10-F10 -> 35 | H10: 1 | S10: =V10+Y10+AB10+AE10+AH10+AK10 -> 74 | T10: 10 | U10: 31 | V10: =T10+(U10*0.2)-(H10*0.2)-(I10*0.2)-(J10*0.2) -> 16 | W10: 5 | X10: 21 | Y10: =W10+(X10*0.1)-(H10*0.1)-(I10*0.1)-(J10*0.1) -> 7 | Z10: 10 | AA10: 18 | AB10: =Z10+(AA10*0.2)-(H10*0.2)-(I10*0.2)-(J10*0.2) -> 13.4 | AC10: 5 | AD10: 20 | AE10: =AC10+(AD10*0.1)-(H10*0.1)-(I10*0.1)-(J10*0.1) -> 6.9 | AF10: 5 | AG10: 27 | AH10: =AF10+(AG10*0.1)-(H10*0.1)-(I10*0.1)-(J10*0.1) -> 7.6 | AI10: 15 | AJ10: 28 | AK10: =AI10+(AJ10*0.3)-(H10*0.3)-(I10*0.3)-(J10*0.3) -> 23.1 | AL10: 0 | AM10: 46 | AN10: =AL10+AM10 -> 46
A11: Adam Scott | B11: PGA | C11: 2024 | D11: 4 | E11: Common | F11: 1980 | G11: =C11-F11 -> 44 | H11: 1 | I11: 2 | K11: X | L11: X | M11: X | N11: X | S11: =V11+Y11+AB11+AE11+AH11+AK11 -> 71.8 | T11: 10 | U11: 28 | V11: =T11+(U11*0.2)-(H11*0.2)-(I11*0.2)-(J11*0.2) -> 15 | W11: 5 | X11: 33 | Y11: =W11+(X11*0.1)-(H11*0.1)-(I11*0.1)-(J11*0.1) -> 8 | Z11: 10 | AA11: 30 | AB11: =Z11+(AA11*0.2)-(H11*0.2)-(I11*0.2)-(J11*0.2) -> 15.4 | AC11: 5 | AD11: 17 | AE11: =AC11+(AD11*0.1)-(H11*0.1)-(I11*0.1)-(J11*0.1) -> 6.4 | AF11: 5 | AG11: 31 | AH11: =AF11+(AG11*0.1)-(H11*0.1)-(I11*0.1)-(J11*0.1) -> 7.8 | AI11: 15 | AJ11: 17 | AK11: =AI11+(AJ11*0.3)-(H11*0.3)-(I11*0.3)-(J11*0.3) -> 19.2 | AL11: 0 | AM11: 58 | AN11: =AL11+AM11 -> 58
A12: Common Totals | E12: Average Age | G12: =AVERAGE(G8:G11) -> 37.25 | S12: =AVERAGE(S8:S11) -> 74.9 | T12: Tee Avg. | V12: =AVERAGE(V8:V11) -> 15.1 | W12: Long Iron Avg | Y12: =AVERAGE(Y8:Y11) -> 7.175 | Z12: Short Iron Avg | AB12: =AVERAGE(AB8:AB11) -> 14.8 | AC12: Fairway Wood Avg | AE12: =AVERAGE(AE8:AE11) -> 7.225 | AF12: Chipping Avg | AH12: =AVERAGE(AH8:AH11) -> 7.35 | AI12: Putting Avg | AK12: =AVERAGE(AK8:AK11) -> 23.25
A13: Max Homa | B13: PGA | C13: 2024 | D13: 1 | E13: Links | F13: 1990 | G13: =C13-F13 -> 34 | H13: 1 | S13: =V13+Y13+AB13+AE13+AH13+AK13 -> 72.9 | T13: 10 | U13: 16 | V13: =T13+(U13*0.2)-(H13*0.2)-(I13*0.2)-(J13*0.2) -> 13 | W13: 5 | X13: 20 | Y13: =W13+(X13*0.1)-(H13*0.1)-(I13*0.1)-(J13*0.1) -> 6.9 | Z13: 10 | AA13: 28 | AB13: =Z13+(AA13*0.2)-(H13*0.2)-(I13*0.2)-(J13*0.2) -> 15.4 | AC13: 5 | AD13: 31 | AE13: =AC13+(AD13*0.1)-(H13*0.1)-(I13*0.1)-(J13*0.1) -> 8 | AF13: 5 | AG13: 31 | AH13: =AF13+(AG13*0.1)-(H13*0.1)-(I13*0.1)-(J13*0.1) -> 8 | AI13: 15 | AJ13: 23 | AK13: =AI13+(AJ13*0.3)-(H13*0.3)-(I13*0.3)-(J13*0.3) -> 21.6 | AL13: 0 | AM13: 45 | AN13: =AL13+AM13 -> 45
A14: Tiger Woods | B14: PGA | C14: 2024 | D14: 2 | E14: Links | F14: 1975 | G14: =C14-F14 -> 49 | H14: 1 | I14: 2 | K14: X | L14: X | M14: X | N14: X | S14: =V14+Y14+AB14+AE14+AH14+AK14 -> 71.4 | T14: 10 | U14: 16 | V14: =T14+(U14*0.2)-(H14*0.2)-(I14*0.2)-(J14*0.2) -> 12.6 | W14: 5 | X14: 28 | Y14: =W14+(X14*0.1)-(H14*0.1)-(I14*0.1)-(J14*0.1) -> 7.5 | Z14: 10 | AA14: 26 | AB14: =Z14+(AA14*0.2)-(H14*0.2)-(I14*0.2)-(J14*0.2) -> 14.6 | AC14: 5 | AD14: 22 | AE14: =AC14+(AD14*0.1)-(H14*0.1)-(I14*0.1)-(J14*0.1) -> 6.9 | AF14: 5 | AG14: 23 | AH14: =AF14+(AG14*0.1)-(H14*0.1)-(I14*0.1)-(J14*0.1) -> 7 | AI14: 15 | AJ14: 29 | AK14: =AI14+(AJ14*0.3)-(H14*0.3)-(I14*0.3)-(J14*0.3) -> 22.8 | AL14: 0 | AM14: 59 | AN14: =AL14+AM14 -> 59
A15: Tom Kim | B15: PGA | C15: 2024 | D15: 3 | E15: Links | F15: 2002 | G15: =C15-F15 -> 22 | S15: =V15+Y15+AB15+AE15+AH15+AK15 -> 71.1 | T15: 10 | U15: 14 | V15: =T15+(U15*0.2)-(H15*0.2)-(I15*0.2)-(J15*0.2) -> 12.8 | W15: 5 | X15: 17 | Y15: =W15+(X15*0.1)-(H15*0.1)-(I15*0.1)-(J15*0.1) -> 6.7 | Z15: 10 | AA15: 34 | AB15: =Z15+(AA15*0.2)-(H15*0.2)-(I15*0.2)-(J15*0.2) -> 16.8 | AC15: 5 | AD15: 18 | AE15: =AC15+(AD15*0.1)-(H15*0.1)-(I15*0.1)-(J15*0.1) -> 6.8 | AF15: 5 | AG15: 20 | AH15: =AF15+(AG15*0.1)-(H15*0.1)-(I15*0.1)-(J15*0.1) -> 7 | AI15: 15 | AJ15: 20 | AK15: =AI15+(AJ15*0.3)-(H15*0.3)-(I15*0.3)-(J15*0.3) -> 21 | AL15: 0 | AM15: 40 | AN15: =AL15+AM15 -> 40
A16: Kevin Kisner | B16: PGA | C16: 2024 | D16: 4 | E16: Links | F16: 1984 | G16: =C16-F16 -> 40 | H16: 1 | I16: 2 | S16: =V16+Y16+AB16+AE16+AH16+AK16 -> 67 | T16: 10 | U16: 26 | V16: =T16+(U16*0.2)-(H16*0.2)-(I16*0.2)-(J16*0.2) -> 14.6 | W16: 5 | X16: 14 | Y16: =W16+(X16*0.1)-(H16*0.1)-(I16*0.1)-(J16*0.1) -> 6.1 | Z16: 10 | AA16: 19 | AB16: =Z16+(AA16*0.2)-(H16*0.2)-(I16*0.2)-(J16*0.2) -> 13.2 | AC16: 5 | AD16: 13 | AE16: =AC16+(AD16*0.1)-(H16*0.1)-(I16*0.1)-(J16*0.1) -> 6 | AF16: 5 | AG16: 20 | AH16: =AF16+(AG16*0.1)-(H16*0.1)-(I16*0.1)-(J16*0.1) -> 6.7 | AI16: 15 | AJ16: 21 | AK16: =AI16+(AJ16*0.3)-(H16*0.3)-(I16*0.3)-(J16*0.3) -> 20.4 | AL16: 0 | AM16: 51 | AN16: =AL16+AM16 -> 51
A17: Links Totals | E17: Average Age | G17: =AVERAGE(G13:G16) -> 36.25 | S17: =AVERAGE(S13:S16) -> 70.6 | T17: Tee Avg. | V17: =AVERAGE(V13:V16) -> 13.25 | W17: Long Iron Avg | Y17: =AVERAGE(Y13:Y16) -> 6.8 | Z17: Short Iron Avg | AB17: =AVERAGE(AB13:AB16) -> 15 | AC17: Fairway Wood Avg | AE17: =AVERAGE(AE13:AE16) -> 6.925 | AF17: Chipping Avg | AH17: =AVERAGE(AH13:AH16) -> 7.175 | AI17: Putting Avg | AK17: =AVERAGE(AK13:AK16) -> 21.45
A18: Sahith Theegala | B18: PGA | C18: 2024 | D18: 1 | E18: LAGC | F18: 1997 | G18: =C18-F18 -> 27 | S18: =V18+Y18+AB18+AE18+AH18+AK18 -> 76.4 | T18: 10 | U18: 40 | V18: =T18+(U18*0.2)-(H18*0.2)-(I18*0.2)-(J18*0.2) -> 18 | W18: 5 | X18: 32 | Y18: =W18+(X18*0.1)-(H18*0.1)-(I18*0.1)-(J18*0.1) -> 8.2 | Z18: 10 | AA18: 17 | AB18: =Z18+(AA18*0.2)-(H18*0.2)-(I18*0.2)-(J18*0.2) -> 13.4 | AC18: 5 | AD18: 36 | AE18: =AC18+(AD18*0.1)-(H18*0.1)-(I18*0.1)-(J18*0.1) -> 8.6 | AF18: 5 | AG18: 22 | AH18: =AF18+(AG18*0.1)-(H18*0.1)-(I18*0.1)-(J18*0.1) -> 7.2 | AI18: 15 | AJ18: 20 | AK18: =AI18+(AJ18*0.3)-(H18*0.3)-(I18*0.3)-(J18*0.3) -> 21 | AL18: 0 | AM18: 59 | AN18: =AL18+AM18 -> 59
A19: Collin Morikawa | B19: PGA | C19: 2024 | D19: 2 | E19: LAGC | F19: 1997 | G19: =C19-F19 -> 27 | S19: =V19+Y19+AB19+AE19+AH19+AK19 -> 75.7 | T19: 10 | U19: 19 | V19: =T19+(U19*0.2)-(H19*0.2)-(I19*0.2)-(J19*0.2) -> 13.8 | W19: 5 | X19: 26 | Y19: =W19+(X19*0.1)-(H19*0.1)-(I19*0.1)-(J19*0.1) -> 7.6 | Z19: 10 | AA19: 26 | AB19: =Z19+(AA19*0.2)-(H19*0.2)-(I19*0.2)-(J19*0.2) -> 15.2 | AC19: 5 | AD19: 32 | AE19: =AC19+(AD19*0.1)-(H19*0.1)-(I19*0.1)-(J19*0.1) -> 8.2 | AF19: 5 | AG19: 25 | AH19: =AF19+(AG19*0.1)-(H19*0.1)-(I19*0.1)-(J19*0.1) -> 7.5 | AI19: 15 | AJ19: 28 | AK19: =AI19+(AJ19*0.3)-(H19*0.3)-(I19*0.3)-(J19*0.3) -> 23.4 | AL19: 0 | AM19: 59 | AN19: =AL19+AM19 -> 59
A20: Tommy Fleetwood | B20: PGA | C20: 2024 | D20: 3 | E20: LAGC | F20: 1991 | G20: =C20-F20 -> 33 | H20: 1 | S20: =V20+Y20+AB20+AE20+AH20+AK20 -> 73.3 | T20: 10 | U20: 22 | V20: =T20+(U20*0.2)-(H20*0.2)-(I20*0.2)-(J20*0.2) -> 14.2 | W20: 5 | X20: 33 | Y20: =W20+(X20*0.1)-(H20*0.1)-(I20*0.1)-(J20*0.1) -> 8.2 | Z20: 10 | AA20: 29 | AB20: =Z20+(AA20*0.2)-(H20*0.2)-(I20*0.2)-(J20*0.2) -> 15.6 | AC20: 5 | AD20: 25 | AE20: =AC20+(AD20*0.1)-(H20*0.1)-(I20*0.1)-(J20*0.1) -> 7.4 | AF20: 5 | AG20: 29 | AH20: =AF20+(AG20*0.1)-(H20*0.1)-(I20*0.1)-(J20*0.1) -> 7.8 | AI20: 15 | AJ20: 18 | AK20: =AI20+(AJ20*0.3)-(H20*0.3)-(I20*0.3)-(J20*0.3) -> 20.1 | AL20: 0 | AM20: 60 | AN20: =AL20+AM20 -> 60
A21: Justin Rose | B21: PGA | C21: 2024 | D21: 4 | E21: LAGC | F21: 1980 | G21: =C21-F21 -> 44 | H21: 1 | I21: 2 | K21: X | L21: X | M21: X | N21: X | S21: =V21+Y21+AB21+AE21+AH21+AK21 -> 72.5 | T21: 10 | U21: 29 | V21: =T21+(U21*0.2)-(H21*0.2)-(I21*0.2)-(J21*0.2) -> 15.2 | W21: 5 | X21: 10 | Y21: =W21+(X21*0.1)-(H21*0.1)-(I21*0.1)-(J21*0.1) -> 5.7 | Z21: 10 | AA21: 31 | AB21: =Z21+(AA21*0.2)-(H21*0.2)-(I21*0.2)-(J21*0.2) -> 15.6 | AC21: 5 | AD21: 19 | AE21: =AC21+(AD21*0.1)-(H21*0.1)-(I21*0.1)-(J21*0.1) -> 6.6 | AF21: 5 | AG21: 31 | AH21: =AF21+(AG21*0.1)-(H21*0.1)-(I21*0.1)-(J21*0.1) -> 7.8 | AI21: 15 | AJ21: 25 | AK21: =AI21+(AJ21*0.3)-(H21*0.3)-(I21*0.3)-(J21*0.3) -> 21.6 | AL21: 0 | AM21: 51 | AN21: =AL21+AM21 -> 51
A22: LAGC Totals | E22: Average Age | G22: =AVERAGE(G18:G21) -> 32.75 | S22: =AVERAGE(S18:S21) -> 74.475 | T22: Tee Avg. | V22: =AVERAGE(V18:V21) -> 15.3 | W22: Long Iron Avg | Y22: =AVERAGE(Y18:Y21) -> 7.425 | Z22: Short Iron Avg | AB22: =AVERAGE(AB18:AB21) -> 14.95 | AC22: Fairway Wood Avg | AE22: =AVERAGE(AE18:AE21) -> 7.7 | AF22: Chipping Avg | AH22: =AVERAGE(AH18:AH21) -> 7.575 | AI22: Putting Avg | AK22: =AVERAGE(AK18:AK21) -> 21.525
A23: Rickie Fowler | B23: PGA | C23: 2024 | D23: 1 | E23: NYGC | F23: 1988 | G23: =C23-F23 -> 36 | H23: 1 | K23: X | L23: X | M23: X | N23: X | S23: =V23+Y23+AB23+AE23+AH23+AK23 -> 74.5 | T23: 10 | U23: 35 | V23: =T23+(U23*0.2)-(H23*0.2)-(I23*0.2)-(J23*0.2) -> 16.8 | W23: 5 | X23: 17 | Y23: =W23+(X23*0.1)-(H23*0.1)-(I23*0.1)-(J23*0.1) -> 6.6 | Z23: 10 | AA23: 31 | AB23: =Z23+(AA23*0.2)-(H23*0.2)-(I23*0.2)-(J23*0.2) -> 16 | AC23: 5 | AD23: 26 | AE23: =AC23+(AD23*0.1)-(H23*0.1)-(I23*0.1)-(J23*0.1) -> 7.5 | AF23: 5 | AG23: 17 | AH23: =AF23+(AG23*0.1)-(H23*0.1)-(I23*0.1)-(J23*0.1) -> 6.6 | AI23: 15 | AJ23: 21 | AK23: =AI23+(AJ23*0.3)-(H23*0.3)-(I23*0.3)-(J23*0.3) -> 21 | AL23: 0 | AM23: 52 | AN23: =AL23+AM23 -> 52
A24: Cameron Young | B24: PGA | C24: 2024 | D24: 2 | E24: NYGC | F24: 1997 | G24: =C24-F24 -> 27 | S24: =V24+Y24+AB24+AE24+AH24+AK24 -> 74 | T24: 10 | U24: 24 | V24: =T24+(U24*0.2)-(H24*0.2)-(I24*0.2)-(J24*0.2) -> 14.8 | W24: 5 | X24: 23 | Y24: =W24+(X24*0.1)-(H24*0.1)-(I24*0.1)-(J24*0.1) -> 7.3 | Z24: 10 | AA24: 31 | AB24: =Z24+(AA24*0.2)-(H24*0.2)-(I24*0.2)-(J24*0.2) -> 16.2 | AC24: 5 | AD24: 17 | AE24: =AC24+(AD24*0.1)-(H24*0.1)-(I24*0.1)-(J24*0.1) -> 6.7 | AF24: 5 | AG24: 24 | AH24: =AF24+(AG24*0.1)-(H24*0.1)-(I24*0.1)-(J24*0.1) -> 7.4 | AI24: 15 | AJ24: 22 | AK24: =AI24+(AJ24*0.3)-(H24*0.3)-(I24*0.3)-(J24*0.3) -> 21.6 | AL24: 0 | AM24: 58 | AN24: =AL24+AM24 -> 58
A25: Matt Fitzpatrick | B25: PGA | C25: 2024 | D25: 3 | E25: NYGC | F25: 1994 | G25: =C25-F25 -> 30 | H25: 1 | S25: =V25+Y25+AB25+AE25+AH25+AK25 -> 73.6 | T25: 10 | U25: 19 | V25: =T25+(U25*0.2)-(H25*0.2)-(I25*0.2)-(J25*0.2) -> 13.6 | W25: 5 | X25: 25 | Y25: =W25+(X25*0.1)-(H25*0.1)-(I25*0.1)-(J25*0.1) -> 7.4 | Z25: 10 | AA25: 24 | AB25: =Z25+(AA25*0.2)-(H25*0.2)-(I25*0.2)-(J25*0.2) -> 14.6 | AC25: 5 | AD25: 26 | AE25: =AC25+(AD25*0.1)-(H25*0.1)-(I25*0.1)-(J25*0.1) -> 7.5 | AF25: 5 | AG25: 16 | AH25: =AF25+(AG25*0.1)-(H25*0.1)-(I25*0.1)-(J25*0.1) -> 6.5 | AI25: 15 | AJ25: 31 | AK25: =AI25+(AJ25*0.3)-(H25*0.3)-(I25*0.3)-(J25*0.3) -> 24 | AL25: 0 | AM25: 54 | AN25: =AL25+AM25 -> 54
A26: Xander Schauffele | B26: PGA | C26: 2024 | D26: 4 | E26: NYGC | F26: 1993 | G26: =C26-F26 -> 31 | H26: 1 | S26: =V26+Y26+AB26+AE26+AH26+AK26 -> 71.9 | T26: 10 | U26: 22 | V26: =T26+(U26*0.2)-(H26*0.2)-(I26*0.2)-(J26*0.2) -> 14.2 | W26: 5 | X26: 23 | Y26: =W26+(X26*0.1)-(H26*0.1)-(I26*0.1)-(J26*0.1) -> 7.2 | Z26: 10 | AA26: 21 | AB26: =Z26+(AA26*0.2)-(H26*0.2)-(I26*0.2)-(J26*0.2) -> 14 | AC26: 5 | AD26: 25 | AE26: =AC26+(AD26*0.1)-(H26*0.1)-(I26*0.1)-(J26*0.1) -> 7.4 | AF26: 5 | AG26: 23 | AH26: =AF26+(AG26*0.1)-(H26*0.1)-(I26*0.1)-(J26*0.1) -> 7.2 | AI26: 15 | AJ26: 24 | AK26: =AI26+(AJ26*0.3)-(H26*0.3)-(I26*0.3)-(J26*0.3) -> 21.9 | AL26: 0 | AM26: 49 | AN26: =AL26+AM26 -> 49
A27: NYGC Totals | E27: Average Age | G27: =AVERAGE(G23:G26) -> 31 | S27: =AVERAGE(S23:S26) -> 73.5 | T27: Tee Avg. | V27: =AVERAGE(V23:V26) -> 14.85 | W27: Long Iron Avg | Y27: =AVERAGE(Y23:Y26) -> 7.125 | Z27: Short Iron Avg | AB27: =AVERAGE(AB23:AB26) -> 15.2 | AC27: Fairway Wood Avg | AE27: =AVERAGE(AE23:AE26) -> 7.275 | AF27: Chipping Avg | AH27: =AVERAGE(AH23:AH26) -> 6.925 | AI27: Putting Avg | AK27: =AVERAGE(AK23:AK26) -> 22.125
A28: Min Woo Lee | B28: PGA | C28: 2024 | D28: 1 | E28: BGC | F28: 1998 | G28: =C28-F28 -> 26 | S28: =V28+Y28+AB28+AE28+AH28+AK28 -> 80.5 | T28: 10 | U28: 23 | V28: =T28+(U28*0.2)-(H28*0.2)-(I28*0.2)-(J28*0.2) -> 14.6 | W28: 5 | X28: 35 | Y28: =W28+(X28*0.1)-(H28*0.1)-(I28*0.1)-(J28*0.1) -> 8.5 | Z28: 10 | AA28: 26 | AB28: =Z28+(AA28*0.2)-(H28*0.2)-(I28*0.2)-(J28*0.2) -> 15.2 | AC28: 5 | AD28: 28 | AE28: =AC28+(AD28*0.1)-(H28*0.1)-(I28*0.1)-(J28*0.1) -> 7.8 | AF28: 5 | AG28: 30 | AH28: =AF28+(AG28*0.1)-(H28*0.1)-(I28*0.1)-(J28*0.1) -> 8 | AI28: 15 | AJ28: 38 | AK28: =AI28+(AJ28*0.3)-(H28*0.3)-(I28*0.3)-(J28*0.3) -> 26.4 | AL28: 0 | AM28: 55 | AN28: =AL28+AM28 -> 55
A29: Shane Lowry | B29: PGA | C29: 2024 | D29: 2 | E29: BGC | F29: 1987 | G29: =C29-F29 -> 37 | H29: 1 | K29: X | L29: X | M29: X | N29: X | S29: =V29+Y29+AB29+AE29+AH29+AK29 -> 79.1 | T29: 10 | U29: 20 | V29: =T29+(U29*0.2)-(H29*0.2)-(I29*0.2)-(J29*0.2) -> 13.8 | W29: 5 | X29: 24 | Y29: =W29+(X29*0.1)-(H29*0.1)-(I29*0.1)-(J29*0.1) -> 7.3 | Z29: 10 | AA29: 31 | AB29: =Z29+(AA29*0.2)-(H29*0.2)-(I29*0.2)-(J29*0.2) -> 16 | AC29: 5 | AD29: 42 | AE29: =AC29+(AD29*0.1)-(H29*0.1)-(I29*0.1)-(J29*0.1) -> 9.1 | AF29: 5 | AG29: 37 | AH29: =AF29+(AG29*0.1)-(H29*0.1)-(I29*0.1)-(J29*0.1) -> 8.6 | AI29: 15 | AJ29: 32 | AK29: =AI29+(AJ29*0.3)-(H29*0.3)-(I29*0.3)-(J29*0.3) -> 24.3 | AL29: 0 | AM29: 59 | AN29: =AL29+AM29 -> 59
A30: Wyndham Clark | B30: PGA | C30: 2024 | D30: 3 | E30: BGC | F30: 1993 | G30: =C30-F30 -> 31 | H30: 1 | S30: =V30+Y30+AB30+AE30+AH30+AK30 -> 74.6 | T30: 10 | U30: 31 | V30: =T30+(U30*0.2)-(H30*0.2)-(I30*0.2)-(J30*0.2) -> 16 | W30: 5 | X30: 29 | Y30: =W30+(X30*0.1)-(H30*0.1)-(I30*0.1)-(J30*0.1) -> 7.8 | Z30: 10 | AA30: 20 | AB30: =Z30+(AA30*0.2)-(H30*0.2)-(I30*0.2)-(J30*0.2) -> 13.8 | AC30: 5 | AD30: 23 | AE30: =AC30+(AD30*0.1)-(H30*0.1)-(I30*0.1)-(J30*0.1) -> 7.2 | AF30: 5 | AG30: 24 | AH30: =AF30+(AG30*0.1)-(H30*0.1)-(I30*0.1)-(J30*0.1) -> 7.3 | AI30: 15 | AJ30: 26 | AK30: =AI30+(AJ30*0.3)-(H30*0.3)-(I30*0.3)-(J30*0.3) -> 22.5 | AL30: 0 | AM30: 52 | AN30: =AL30+AM30 -> 52
A31: Ludvig Aberg | B31: PGA | C31: 2024 | D31: 4 | E31: BGC | F31: 1999 | G31: =C31-F31 -> 25 | S31: =V31+Y31+AB31+AE31+AH31+AK31 -> 72.5 | T31: 10 | U31: 28 | V31: =T31+(U31*0.2)-(H31*0.2)-(I31*0.2)-(J31*0.2) -> 15.6 | W31: 5 | X31: 23 | Y31: =W31+(X31*0.1)-(H31*0.1)-(I31*0.1)-(J31*0.1) -> 7.3 | Z31: 10 | AA31: 16 | AB31: =Z31+(AA31*0.2)-(H31*0.2)-(I31*0.2)-(J31*0.2) -> 13.2 | AC31: 5 | AD31: 24 | AE31: =AC31+(AD31*0.1)-(H31*0.1)-(I31*0.1)-(J31*0.1) -> 7.4 | AF31: 5 | AG31: 12 | AH31: =AF31+(AG31*0.1)-(H31*0.1)-(I31*0.1)-(J31*0.1) -> 6.2 | AI31: 15 | AJ31: 26 | AK31: =AI31+(AJ31*0.3)-(H31*0.3)-(I31*0.3)-(J31*0.3) -> 22.8 | AL31: 0 | AM31: 47 | AN31: =AL31+AM31 -> 47
A32: BGC Totals | E32: Average Age | G32: =AVERAGE(G28:G31) -> 29.75 | S32: =AVERAGE(S28:S31) -> 76.675 | T32: Tee Avg. | V32: =AVERAGE(V28:V31) -> 15 | W32: Long Iron Avg | Y32: =AVERAGE(Y28:Y31) -> 7.725 | Z32: Short Iron Avg | AB32: =AVERAGE(AB28:AB31) -> 14.55 | AC32: Fairway Wood Avg | AE32: =AVERAGE(AE28:AE31) -> 7.875 | AF32: Chipping Avg | AH32: =AVERAGE(AH28:AH31) -> 7.525 | AI32: Putting Avg | AK32: =AVERAGE(AK28:AK31) -> 24
A33: Scottie Scheffler | B33: PGA | C33: 2024 | D33: 1 | E33: Scramblers | F33: 1996 | G33: =C33-F33 -> 28 | S33: =V33+Y33+AB33+AE33+AH33+AK33 -> 77.2 | T33: 10 | U33: 28 | V33: =T33+(U33*0.2)-(H33*0.2)-(I33*0.2)-(J33*0.2) -> 15.6 | W33: 5 | X33: 29 | Y33: =W33+(X33*0.1)-(H33*0.1)-(I33*0.1)-(J33*0.1) -> 7.9 | Z33: 10 | AA33: 28 | AB33: =Z33+(AA33*0.2)-(H33*0.2)-(I33*0.2)-(J33*0.2) -> 15.6 | AC33: 5 | AD33: 14 | AE33: =AC33+(AD33*0.1)-(H33*0.1)-(I33*0.1)-(J33*0.1) -> 6.4 | AF33: 5 | AG33: 30 | AH33: =AF33+(AG33*0.1)-(H33*0.1)-(I33*0.1)-(J33*0.1) -> 8 | AI33: 15 | AJ33: 29 | AK33: =AI33+(AJ33*0.3)-(H33*0.3)-(I33*0.3)-(J33*0.3) -> 23.7 | AL33: 0 | AM33: 57 | AN33: =AL33+AM33 -> 57
A34: Will Zalatoris | B34: PGA | C34: 2024 | D34: 2 | E34: Scramblers | F34: 1996 | G34: =C34-F34 -> 28 | S34: =V34+Y34+AB34+AE34+AH34+AK34 -> 71.9 | T34: 10 | U34: 31 | V34: =T34+(U34*0.2)-(H34*0.2)-(I34*0.2)-(J34*0.2) -> 16.2 | W34: 5 | X34: 19 | Y34: =W34+(X34*0.1)-(H34*0.1)-(I34*0.1)-(J34*0.1) -> 6.9 | Z34: 10 | AA34: 26 | AB34: =Z34+(AA34*0.2)-(H34*0.2)-(I34*0.2)-(J34*0.2) -> 15.2 | AC34: 5 | AD34: 34 | AE34: =AC34+(AD34*0.1)-(H34*0.1)-(I34*0.1)-(J34*0.1) -> 8.4 | AF34: 5 | AG34: 28 | AH34: =AF34+(AG34*0.1)-(H34*0.1)-(I34*0.1)-(J34*0.1) -> 7.8 | AI34: 15 | AJ34: 8 | AK34: =AI34+(AJ34*0.3)-(H34*0.3)-(I34*0.3)-(J34*0.3) -> 17.4 | AL34: 0 | AM34: 57 | AN34: =AL34+AM34 -> 57
A35: Sam Burns | B35: PGA | C35: 2024 | D35: 3 | E35: Scramblers | F35: 1996 | G35: =C35-F35 -> 28 | S35: =V35+Y35+AB35+AE35+AH35+AK35 -> 71.7 | T35: 10 | U35: 24 | V35: =T35+(U35*0.2)-(H35*0.2)-(I35*0.2)-(J35*0.2) -> 14.8 | W35: 5 | X35: 29 | Y35: =W35+(X35*0.1)-(H35*0.1)-(I35*0.1)-(J35*0.1) -> 7.9 | Z35: 10 | AA35: 15 | AB35: =Z35+(AA35*0.2)-(H35*0.2)-(I35*0.2)-(J35*0.2) -> 13 | AC35: 5 | AD35: 16 | AE35: =AC35+(AD35*0.1)-(H35*0.1)-(I35*0.1)-(J35*0.1) -> 6.6 | AF35: 5 | AG35: 22 | AH35: =AF35+(AG35*0.1)-(H35*0.1)-(I35*0.1)-(J35*0.1) -> 7.2 | AI35: 15 | AJ35: 24 | AK35: =AI35+(AJ35*0.3)-(H35*0.3)-(I35*0.3)-(J35*0.3) -> 22.2 | AL35: 0 | AM35: 58 | AN35: =AL35+AM35 -> 58
A36: Tony Finau | B36: PGA | C36: 2024 | D36: 4 | E36: Scramblers | F36: 1989 | G36: =C36-F36 -> 35 | H36: 1 | K36: X | L36: X | M36: X | N36: X | S36: =V36+Y36+AB36+AE36+AH36+AK36 -> 65.9 | T36: 10 | U36: 15 | V36: =T36+(U36*0.2)-(H36*0.2)-(I36*0.2)-(J36*0.2) -> 12.8 | W36: 5 | X36: 16 | Y36: =W36+(X36*0.1)-(H36*0.1)-(I36*0.1)-(J36*0.1) -> 6.5 | Z36: 10 | AA36: 11 | AB36: =Z36+(AA36*0.2)-(H36*0.2)-(I36*0.2)-(J36*0.2) -> 12 | AC36: 5 | AD36: 21 | AE36: =AC36+(AD36*0.1)-(H36*0.1)-(I36*0.1)-(J36*0.1) -> 7 | AF36: 5 | AG36: 26 | AH36: =AF36+(AG36*0.1)-(H36*0.1)-(I36*0.1)-(J36*0.1) -> 7.5 | AI36: 15 | AJ36: 18 | AK36: =AI36+(AJ36*0.3)-(H36*0.3)-(I36*0.3)-(J36*0.3) -> 20.1 | AL36: 0 | AM36: 51 | AN36: =AL36+AM36 -> 51
A37: Scramblers Totals | E37: Average Age | G37: =AVERAGE(G33:G36) -> 29.75 | S37: =AVERAGE(S33:S36) -> 71.675 | T37: Tee Avg. | V37: =AVERAGE(V33:V36) -> 14.85 | W37: Long Iron Avg | Y37: =AVERAGE(Y33:Y36) -> 7.3 | Z37: Short Iron Avg | AB37: =AVERAGE(AB33:AB36) -> 13.95 | AC37: Fairway Wood Avg | AE37: =AVERAGE(AE33:AE36) -> 7.1 | AF37: Chipping Avg | AH37: =AVERAGE(AH33:AH36) -> 7.625 | AI37: Putting Avg | AK37: =AVERAGE(AK33:AK36) -> 20.85
A38: Chris Kirk | B38: PGA | C38: 2024 | D38: 1 | E38: Rough Riders | F38: 1985 | G38: =C38-F38 -> 39 | H38: 1 | K38: X | L38: X | M38: X | N38: X | S38: =V38+Y38+AB38+AE38+AH38+AK38 -> 76.8 | T38: 10 | U38: 27 | V38: =T38+(U38*0.2)-(H38*0.2)-(I38*0.2)-(J38*0.2) -> 15.2 | W38: 5 | X38: 12 | Y38: =W38+(X38*0.1)-(H38*0.1)-(I38*0.1)-(J38*0.1) -> 6.1 | Z38: 10 | AA38: 25 | AB38: =Z38+(AA38*0.2)-(H38*0.2)-(I38*0.2)-(J38*0.2) -> 14.8 | AC38: 5 | AD38: 38 | AE38: =AC38+(AD38*0.1)-(H38*0.1)-(I38*0.1)-(J38*0.1) -> 8.7 | AF38: 5 | AG38: 28 | AH38: =AF38+(AG38*0.1)-(H38*0.1)-(I38*0.1)-(J38*0.1) -> 7.7 | AI38: 15 | AJ38: 32 | AK38: =AI38+(AJ38*0.3)-(H38*0.3)-(I38*0.3)-(J38*0.3) -> 24.3 | AL38: 0 | AM38: 58 | AN38: =AL38+AM38 -> 58
A39: Jason Day | B39: PGA | C39: 2024 | D39: 2 | E39: Rough Riders | F39: 1987 | G39: =C39-F39 -> 37 | H39: 1 | S39: =V39+Y39+AB39+AE39+AH39+AK39 -> 76 | T39: 10 | U39: 27 | V39: =T39+(U39*0.2)-(H39*0.2)-(I39*0.2)-(J39*0.2) -> 15.2 | W39: 5 | X39: 23 | Y39: =W39+(X39*0.1)-(H39*0.1)-(I39*0.1)-(J39*0.1) -> 7.2 | Z39: 10 | AA39: 22 | AB39: =Z39+(AA39*0.2)-(H39*0.2)-(I39*0.2)-(J39*0.2) -> 14.2 | AC39: 5 | AD39: 35 | AE39: =AC39+(AD39*0.1)-(H39*0.1)-(I39*0.1)-(J39*0.1) -> 8.4 | AF39: 5 | AG39: 27 | AH39: =AF39+(AG39*0.1)-(H39*0.1)-(I39*0.1)-(J39*0.1) -> 7.6 | AI39: 15 | AJ39: 29 | AK39: =AI39+(AJ39*0.3)-(H39*0.3)-(I39*0.3)-(J39*0.3) -> 23.4 | AL39: 0 | AM39: 43 | AN39: =AL39+AM39 -> 43
A40: Akshay Bhatia | B40: PGA | C40: 2024 | D40: 3 | E40: Rough Riders | F40: 2002 | G40: =C40-F40 -> 22 | S40: =V40+Y40+AB40+AE40+AH40+AK40 -> 75.4 | T40: 10 | U40: 7 | V40: =T40+(U40*0.2)-(H40*0.2)-(I40*0.2)-(J40*0.2) -> 11.4 | W40: 5 | X40: 22 | Y40: =W40+(X40*0.1)-(H40*0.1)-(I40*0.1)-(J40*0.1) -> 7.2 | Z40: 10 | AA40: 24 | AB40: =Z40+(AA40*0.2)-(H40*0.2)-(I40*0.2)-(J40*0.2) -> 14.8 | AC40: 5 | AD40: 22 | AE40: =AC40+(AD40*0.1)-(H40*0.1)-(I40*0.1)-(J40*0.1) -> 7.2 | AF40: 5 | AG40: 19 | AH40: =AF40+(AG40*0.1)-(H40*0.1)-(I40*0.1)-(J40*0.1) -> 6.9 | AI40: 15 | AJ40: 43 | AK40: =AI40+(AJ40*0.3)-(H40*0.3)-(I40*0.3)-(J40*0.3) -> 27.9 | AL40: 0 | AM40: 50 | AN40: =AL40+AM40 -> 50
...

Sheet Free Agents
A1: Player Name | B1: Div | C1: Year | D1: Special | E1: Team | F1: Born | G1: Age | H1: 30+ | I1: 40+ | J1: 50+ | K1: Total Rating | L1: Tee | O1: Long Iron | R1: Short Iron | U1: Fairway Wood | X1: Chipping | AA1: Putting | AD1: Aggression
L2: 10-20 (.2) | M2: Inc/Dec | N2: New Rating | O2: 5-10 (.1) | P2: Inc/Dec | Q2: New Rating | R2: 10-20 (.2) | S2: Inc/Dec | T2: New Rating | U2: 5-10 (.1) | V2: Inc/Dec | W2: New Rating | X2: 5-10 (.1) | Y2: Inc/Dec | Z2: New Rating | AA2: 15-30 (.3) | AB2: Inc/Dec | AC2: New Rating | AD2: 0-100 (1) | AE2: Inc/Dec | AF2: New Rating
A3: Brendon Todd | C3: 2024 | E3: Free Agent | F3: 1985 | G3: =C3-F3 -> 39 | H3: 1 | K3: =N3+Q3+T3+W3+Z3+AC3 -> 83.9 | L3: 10 | M3: 30 | N3: =L3+(M3*0.2)-(H3*0.2)-(I3*0.2)-(J3*0.2) -> 15.8 | O3: 5 | P3: 23 | Q3: =O3+(P3*0.1)-(H3*0.1)-(I3*0.1)-(J3*0.1) -> 7.2 | R3: 10 | S3: 39 | T3: =R3+(S3*0.2)-(H3*0.2)-(I3*0.2)-(J3*0.2) -> 17.6 | U3: 5 | V3: 43 | W3: =U3+(V3*0.1)-(H3*0.1)-(I3*0.1)-(J3*0.1) -> 9.2 | X3: 5 | Y3: 43 | Z3: =X3+(Y3*0.1)-(H3*0.1)-(I3*0.1)-(J3*0.1) -> 9.2 | AA3: 15 | AB3: 34 | AC3: =AA3+(AB3*0.3)-(H3*0.3)-(I3*0.3)-(J3*0.3) -> 24.9 | AD3: 0 | AE3: 44 | AF3: =AD3+AE3 -> 44
A4: Ben Silverman | C4: 2024 | E4: Free Agent | F4: 1987 | G4: =C4-F4 -> 37 | H4: 1 | K4: =N4+Q4+T4+W4+Z4+AC4 -> 79.5 | L4: 10 | M4: 35 | N4: =L4+(M4*0.2)-(H4*0.2)-(I4*0.2)-(J4*0.2) -> 16.8 | O4: 5 | P4: 24 | Q4: =O4+(P4*0.1)-(H4*0.1)-(I4*0.1)-(J4*0.1) -> 7.3 | R4: 10 | S4: 30 | T4: =R4+(S4*0.2)-(H4*0.2)-(I4*0.2)-(J4*0.2) -> 15.8 | U4: 5 | V4: 34 | W4: =U4+(V4*0.1)-(H4*0.1)-(I4*0.1)-(J4*0.1) -> 8.3 | X4: 5 | Y4: 36 | Z4: =X4+(Y4*0.1)-(H4*0.1)-(I4*0.1)-(J4*0.1) -> 8.5 | AA4: 15 | AB4: 27 | AC4: =AA4+(AB4*0.3)-(H4*0.3)-(I4*0.3)-(J4*0.3) -> 22.8 | AD4: 0 | AE4: 49 | AF4: =AD4+AE4 -> 49
A5: Alex Noren | C5: 2024 | E5: Free Agent | F5: 1982 | G5: =C5-F5 -> 42 | H5: 1 | I5: 2 | K5: =N5+Q5+T5+W5+Z5+AC5 -> 78.3 | L5: 10 | M5: 26 | N5: =L5+(M5*0.2)-(H5*0.2)-(I5*0.2)-(J5*0.2) -> 14.6 | O5: 5 | P5: 30 | Q5: =O5+(P5*0.1)-(H5*0.1)-(I5*0.1)-(J5*0.1) -> 7.7 | R5: 10 | S5: 27 | T5: =R5+(S5*0.2)-(H5*0.2)-(I5*0.2)-(J5*0.2) -> 14.8 | U5: 5 | V5: 29 | W5: =U5+(V5*0.1)-(H5*0.1)-(I5*0.1)-(J5*0.1) -> 7.6 | X5: 5 | Y5: 28 | Z5: =X5+(Y5*0.1)-(H5*0.1)-(I5*0.1)-(J5*0.1) -> 7.5 | AA5: 15 | AB5: 40 | AC5: =AA5+(AB5*0.3)-(H5*0.3)-(I5*0.3)-(J5*0.3) -> 26.1 | AD5: 0 | AE5: 54 | AF5: =AD5+AE5 -> 54
A6: David Toms | C6: 2024 | E6: Free Agent | F6: 1967 | G6: =C6-F6 -> 57 | H6: 1 | I6: 2 | J6: 3 | K6: =N6+Q6+T6+W6+Z6+AC6 -> 77.5 | L6: 10 | M6: 27 | N6: =L6+(M6*0.2)-(H6*0.2)-(I6*0.2)-(J6*0.2) -> 14.2 | O6: 5 | P6: 26 | Q6: =O6+(P6*0.1)-(H6*0.1)-(I6*0.1)-(J6*0.1) -> 7 | R6: 10 | S6: 40 | T6: =R6+(S6*0.2)-(H6*0.2)-(I6*0.2)-(J6*0.2) -> 16.8 | U6: 5 | V6: 40 | W6: =U6+(V6*0.1)-(H6*0.1)-(I6*0.1)-(J6*0.1) -> 8.4 | X6: 5 | Y6: 30 | Z6: =X6+(Y6*0.1)-(H6*0.1)-(I6*0.1)-(J6*0.1) -> 7.4 | AA6: 15 | AB6: 35 | AC6: =AA6+(AB6*0.3)-(H6*0.3)-(I6*0.3)-(J6*0.3) -> 23.7 | AD6: 0 | AE6: 55 | AF6: =AD6+AE6 -> 55
A7: Gary Woodland | C7: 2024 | E7: Free Agent | F7: 1984 | G7: =C7-F7 -> 40 | H7: 1 | I7: 2 | K7: =N7+Q7+T7+W7+Z7+AC7 -> 77.3 | L7: 10 | M7: 35 | N7: =L7+(M7*0.2)-(H7*0.2)-(I7*0.2)-(J7*0.2) -> 16.4 | O7: 5 | P7: 15 | Q7: =O7+(P7*0.1)-(H7*0.1)-(I7*0.1)-(J7*0.1) -> 6.2 | R7: 10 | S7: 35 | T7: =R7+(S7*0.2)-(H7*0.2)-(I7*0.2)-(J7*0.2) -> 16.4 | U7: 5 | V7: 25 | W7: =U7+(V7*0.1)-(H7*0.1)-(I7*0.1)-(J7*0.1) -> 7.2 | X7: 5 | Y7: 27 | Z7: =X7+(Y7*0.1)-(H7*0.1)-(I7*0.1)-(J7*0.1) -> 7.4 | AA7: 15 | AB7: 32 | AC7: =AA7+(AB7*0.3)-(H7*0.3)-(I7*0.3)-(J7*0.3) -> 23.7 | AD7: 0 | AE7: 54 | AF7: =AD7+AE7 -> 54
A8: Brian Harman | C8: 2024 | E8: Free Agent | F8: 1987 | G8: =C8-F8 -> 37 | H8: 1 | K8: =N8+Q8+T8+W8+Z8+AC8 -> 76.4 | L8: 10 | M8: 39 | N8: =L8+(M8*0.2)-(H8*0.2)-(I8*0.2)-(J8*0.2) -> 17.6 | O8: 5 | P8: 26 | Q8: =O8+(P8*0.1)-(H8*0.1)-(I8*0.1)-(J8*0.1) -> 7.5 | R8: 10 | S8: 18 | T8: =R8+(S8*0.2)-(H8*0.2)-(I8*0.2)-(J8*0.2) -> 13.4 | U8: 5 | V8: 15 | W8: =U8+(V8*0.1)-(H8*0.1)-(I8*0.1)-(J8*0.1) -> 6.4 | X8: 5 | Y8: 38 | Z8: =X8+(Y8*0.1)-(H8*0.1)-(I8*0.1)-(J8*0.1) -> 8.7 | AA8: 15 | AB8: 27 | AC8: =AA8+(AB8*0.3)-(H8*0.3)-(I8*0.3)-(J8*0.3) -> 22.8 | AD8: 0 | AE8: 46 | AF8: =AD8+AE8 -> 46
A9: Denny McCarthy | C9: 2024 | E9: Free Agent | F9: 1993 | G9: =C9-F9 -> 31 | H9: 1 | K9: =N9+Q9+T9+W9+Z9+AC9 -> 76.2 | L9: 10 | M9: 37 | N9: =L9+(M9*0.2)-(H9*0.2)-(I9*0.2)-(J9*0.2) -> 17.2 | O9: 5 | P9: 17 | Q9: =O9+(P9*0.1)-(H9*0.1)-(I9*0.1)-(J9*0.1) -> 6.6 | R9: 10 | S9: 19 | T9: =R9+(S9*0.2)-(H9*0.2)-(I9*0.2)-(J9*0.2) -> 13.6 | U9: 5 | V9: 26 | W9: =U9+(V9*0.1)-(H9*0.1)-(I9*0.1)-(J9*0.1) -> 7.5 | X9: 5 | Y9: 27 | Z9: =X9+(Y9*0.1)-(H9*0.1)-(I9*0.1)-(J9*0.1) -> 7.6 | AA9: 15 | AB9: 30 | AC9: =AA9+(AB9*0.3)-(H9*0.3)-(I9*0.3)-(J9*0.3) -> 23.7 | AD9: 0 | AE9: 57 | AF9: =AD9+AE9 -> 57
A10: Daniel Berger | C10: 2024 | E10: Free Agent | F10: 1993 | G10: =C10-F10 -> 31 | H10: 1 | K10: =N10+Q10+T10+W10+Z10+AC10 -> 76.1 | L10: 10 | M10: 27 | N10: =L10+(M10*0.2)-(H10*0.2)-(I10*0.2)-(J10*0.2) -> 15.2 | O10: 5 | P10: 21 | Q10: =O10+(P10*0.1)-(H10*0.1)-(I10*0.1)-(J10*0.1) -> 7 | R10: 10 | S10: 31 | T10: =R10+(S10*0.2)-(H10*0.2)-(I10*0.2)-(J10*0.2) -> 16 | U10: 5 | V10: 20 | W10: =U10+(V10*0.1)-(H10*0.1)-(I10*0.1)-(J10*0.1) -> 6.9 | X10: 5 | Y10: 21 | Z10: =X10+(Y10*0.1)-(H10*0.1)-(I10*0.1)-(J10*0.1) -> 7 | AA10: 15 | AB10: 31 | AC10: =AA10+(AB10*0.3)-(H10*0.3)-(I10*0.3)-(J10*0.3) -> 24 | AD10: 0 | AE10: 46 | AF10: =AD10+AE10 -> 46
A11: Corey Conners | C11: 2024 | E11: Free Agent | F11: 1992 | G11: =C11-F11 -> 32 | H11: 1 | K11: =N11+Q11+T11+W11+Z11+AC11 -> 76.1 | L11: 10 | M11: 41 | N11: =L11+(M11*0.2)-(H11*0.2)-(I11*0.2)-(J11*0.2) -> 18 | O11: 5 | P11: 21 | Q11: =O11+(P11*0.1)-(H11*0.1)-(I11*0.1)-(J11*0.1) -> 7 | R11: 10 | S11: 36 | T11: =R11+(S11*0.2)-(H11*0.2)-(I11*0.2)-(J11*0.2) -> 17 | U11: 5 | V11: 26 | W11: =U11+(V11*0.1)-(H11*0.1)-(I11*0.1)-(J11*0.1) -> 7.5 | X11: 5 | Y11: 19 | Z11: =X11+(Y11*0.1)-(H11*0.1)-(I11*0.1)-(J11*0.1) -> 6.8 | AA11: 15 | AB11: 17 | AC11: =AA11+(AB11*0.3)-(H11*0.3)-(I11*0.3)-(J11*0.3) -> 19.8 | AD11: 0 | AE11: 45 | AF11: =AD11+AE11 -> 45
A12: Emiliano Grillo | C12: 2024 | E12: Free Agent | F12: 1992 | G12: =C12-F12 -> 32 | H12: 1 | K12: =N12+Q12+T12+W12+Z12+AC12 -> 75.8 | L12: 10 | M12: 29 | N12: =L12+(M12*0.2)-(H12*0.2)-(I12*0.2)-(J12*0.2) -> 15.6 | O12: 5 | P12: 19 | Q12: =O12+(P12*0.1)-(H12*0.1)-(I12*0.1)-(J12*0.1) -> 6.8 | R12: 10 | S12: 26 | T12: =R12+(S12*0.2)-(H12*0.2)-(I12*0.2)-(J12*0.2) -> 15 | U12: 5 | V12: 28 | W12: =U12+(V12*0.1)-(H12*0.1)-(I12*0.1)-(J12*0.1) -> 7.7 | X12: 5 | Y12: 21 | Z12: =X12+(Y12*0.1)-(H12*0.1)-(I12*0.1)-(J12*0.1) -> 7 | AA12: 15 | AB12: 30 | AC12: =AA12+(AB12*0.3)-(H12*0.3)-(I12*0.3)-(J12*0.3) -> 23.7 | AD12: 0 | AE12: 52 | AF12: =AD12+AE12 -> 52
A13: Anthony Kim | C13: 2024 | E13: Free Agent | F13: 1985 | G13: =C13-F13 -> 39 | H13: 1 | K13: =N13+Q13+T13+W13+Z13+AC13 -> 75.6 | L13: 10 | M13: 20 | N13: =L13+(M13*0.2)-(H13*0.2)-(I13*0.2)-(J13*0.2) -> 13.8 | O13: 5 | P13: 25 | Q13: =O13+(P13*0.1)-(H13*0.1)-(I13*0.1)-(J13*0.1) -> 7.4 | R13: 10 | S13: 22 | T13: =R13+(S13*0.2)-(H13*0.2)-(I13*0.2)-(J13*0.2) -> 14.2 | U13: 5 | V13: 20 | W13: =U13+(V13*0.1)-(H13*0.1)-(I13*0.1)-(J13*0.1) -> 6.9 | X13: 5 | Y13: 17 | Z13: =X13+(Y13*0.1)-(H13*0.1)-(I13*0.1)-(J13*0.1) -> 6.6 | AA13: 15 | AB13: 40 | AC13: =AA13+(AB13*0.3)-(H13*0.3)-(I13*0.3)-(J13*0.3) -> 26.7 | AD13: 0 | AE13: 57 | AF13: =AD13+AE13 -> 57
A14: Zach Johnson | C14: 2024 | E14: Free Agent | F14: 1976 | G14: =C14-F14 -> 48 | H14: 1 | I14: 2 | K14: =N14+Q14+T14+W14+Z14+AC14 -> 73.9 | L14: 10 | M14: 27 | N14: =L14+(M14*0.2)-(H14*0.2)-(I14*0.2)-(J14*0.2) -> 14.8 | O14: 5 | P14: 36 | Q14: =O14+(P14*0.1)-(H14*0.1)-(I14*0.1)-(J14*0.1) -> 8.3 | R14: 10 | S14: 29 | T14: =R14+(S14*0.2)-(H14*0.2)-(I14*0.2)-(J14*0.2) -> 15.2 | U14: 5 | V14: 31 | W14: =U14+(V14*0.1)-(H14*0.1)-(I14*0.1)-(J14*0.1) -> 7.8 | X14: 5 | Y14: 21 | Z14: =X14+(Y14*0.1)-(H14*0.1)-(I14*0.1)-(J14*0.1) -> 6.8 | AA14: 15 | AB14: 23 | AC14: =AA14+(AB14*0.3)-(H14*0.3)-(I14*0.3)-(J14*0.3) -> 21 | AD14: 0 | AE14: 54 | AF14: =AD14+AE14 -> 54
A15: Brett Quigley | C15: 2024 | E15: Free Agent | F15: 1969 | G15: =C15-F15 -> 55 | H15: 1 | I15: 2 | J15: 3 | K15: =N15+Q15+T15+W15+Z15+AC15 -> 73.8 | L15: 10 | M15: 33 | N15: =L15+(M15*0.2)-(H15*0.2)-(I15*0.2)-(J15*0.2) -> 15.4 | O15: 5 | P15: 27 | Q15: =O15+(P15*0.1)-(H15*0.1)-(I15*0.1)-(J15*0.1) -> 7.1 | R15: 10 | S15: 31 | T15: =R15+(S15*0.2)-(H15*0.2)-(I15*0.2)-(J15*0.2) -> 15 | U15: 5 | V15: 27 | W15: =U15+(V15*0.1)-(H15*0.1)-(I15*0.1)-(J15*0.1) -> 7.1 | X15: 5 | Y15: 35 | Z15: =X15+(Y15*0.1)-(H15*0.1)-(I15*0.1)-(J15*0.1) -> 7.9 | AA15: 15 | AB15: 27 | AC15: =AA15+(AB15*0.3)-(H15*0.3)-(I15*0.3)-(J15*0.3) -> 21.3 | AD15: 0 | AE15: 54 | AF15: =AD15+AE15 -> 54
A16: John Senden | C16: 2024 | E16: Free Agent | F16: 1971 | G16: =C16-F16 -> 53 | H16: 1 | I16: 2 | J16: 3 | K16: =N16+Q16+T16+W16+Z16+AC16 -> 73.6 | L16: 10 | M16: 36 | N16: =L16+(M16*0.2)-(H16*0.2)-(I16*0.2)-(J16*0.2) -> 16 | O16: 5 | P16: 24 | Q16: =O16+(P16*0.1)-(H16*0.1)-(I16*0.1)-(J16*0.1) -> 6.8 | R16: 10 | S16: 14 | T16: =R16+(S16*0.2)-(H16*0.2)-(I16*0.2)-(J16*0.2) -> 11.6 | U16: 5 | V16: 30 | W16: =U16+(V16*0.1)-(H16*0.1)-(I16*0.1)-(J16*0.1) -> 7.4 | X16: 5 | Y16: 31 | Z16: =X16+(Y16*0.1)-(H16*0.1)-(I16*0.1)-(J16*0.1) -> 7.5 | AA16: 15 | AB16: 37 | AC16: =AA16+(AB16*0.3)-(H16*0.3)-(I16*0.3)-(J16*0.3) -> 24.3 | AD16: 0 | AE16: 43 | AF16: =AD16+AE16 -> 43
A17: Maverick McNealy | C17: 2024 | E17: Free Agent | F17: 1995 | G17: =C17-F17 -> 29 | K17: =N17+Q17+T17+W17+Z17+AC17 -> 73.2 | L17: 10 | M17: 29 | N17: =L17+(M17*0.2)-(H17*0.2)-(I17*0.2)-(J17*0.2) -> 15.8 | O17: 5 | P17: 29 | Q17: =O17+(P17*0.1)-(H17*0.1)-(I17*0.1)-(J17*0.1) -> 7.9 | R17: 10 | S17: 22 | T17: =R17+(S17*0.2)-(H17*0.2)-(I17*0.2)-(J17*0.2) -> 14.4 | U17: 5 | V17: 28 | W17: =U17+(V17*0.1)-(H17*0.1)-(I17*0.1)-(J17*0.1) -> 7.8 | X17: 5 | Y17: 25 | Z17: =X17+(Y17*0.1)-(H17*0.1)-(I17*0.1)-(J17*0.1) -> 7.5 | AA17: 15 | AB17: 16 | AC17: =AA17+(AB17*0.3)-(H17*0.3)-(I17*0.3)-(J17*0.3) -> 19.8 | AD17: 0 | AE17: 58 | AF17: =AD17+AE17 -> 58
A18: Jose Maria Olazabal | C18: 2024 | E18: Free Agent | F18: 1966 | G18: =C18-F18 -> 58 | H18: 1 | I18: 2 | J18: 3 | K18: =N18+Q18+T18+W18+Z18+AC18 -> 73.1 | L18: 10 | M18: 40 | N18: =L18+(M18*0.2)-(H18*0.2)-(I18*0.2)-(J18*0.2) -> 16.8 | O18: 5 | P18: 27 | Q18: =O18+(P18*0.1)-(H18*0.1)-(I18*0.1)-(J18*0.1) -> 7.1 | R18: 10 | S18: 29 | T18: =R18+(S18*0.2)-(H18*0.2)-(I18*0.2)-(J18*0.2) -> 14.6 | U18: 5 | V18: 27 | W18: =U18+(V18*0.1)-(H18*0.1)-(I18*0.1)-(J18*0.1) -> 7.1 | X18: 5 | Y18: 21 | Z18: =X18+(Y18*0.1)-(H18*0.1)-(I18*0.1)-(J18*0.1) -> 6.5 | AA18: 15 | AB18: 26 | AC18: =AA18+(AB18*0.3)-(H18*0.3)-(I18*0.3)-(J18*0.3) -> 21 | AD18: 0 | AE18: 56 | AF18: =AD18+AE18 -> 56
A19: Stewart Cink | C19: 2024 | E19: Free Agent | F19: 1973 | G19: =C19-F19 -> 51 | H19: 1 | I19: 2 | J19: 3 | K19: =N19+Q19+T19+W19+Z19+AC19 -> 72.8 | L19: 10 | M19: 23 | N19: =L19+(M19*0.2)-(H19*0.2)-(I19*0.2)-(J19*0.2) -> 13.4 | O19: 5 | P19: 35 | Q19: =O19+(P19*0.1)-(H19*0.1)-(I19*0.1)-(J19*0.1) -> 7.9 | R19: 10 | S19: 25 | T19: =R19+(S19*0.2)-(H19*0.2)-(I19*0.2)-(J19*0.2) -> 13.8 | U19: 5 | V19: 30 | W19: =U19+(V19*0.1)-(H19*0.1)-(I19*0.1)-(J19*0.1) -> 7.4 | X19: 5 | Y19: 22 | Z19: =X19+(Y19*0.1)-(H19*0.1)-(I19*0.1)-(J19*0.1) -> 6.6 | AA19: 15 | AB19: 35 | AC19: =AA19+(AB19*0.3)-(H19*0.3)-(I19*0.3)-(J19*0.3) -> 23.7 | AD19: 0 | AE19: 49 | AF19: =AD19+AE19 -> 49
A20: Francesco Molinari | C20: 2024 | E20: Free Agent | F20: 1982 | G20: =C20-F20 -> 42 | H20: 1 | I20: 2 | K20: =N20+Q20+T20+W20+Z20+AC20 -> 72.6 | L20: 10 | M20: 28 | N20: =L20+(M20*0.2)-(H20*0.2)-(I20*0.2)-(J20*0.2) -> 15 | O20: 5 | P20: 24 | Q20: =O20+(P20*0.1)-(H20*0.1)-(I20*0.1)-(J20*0.1) -> 7.1 | R20: 10 | S20: 31 | T20: =R20+(S20*0.2)-(H20*0.2)-(I20*0.2)-(J20*0.2) -> 15.6 | U20: 5 | V20: 31 | W20: =U20+(V20*0.1)-(H20*0.1)-(I20*0.1)-(J20*0.1) -> 7.8 | X20: 5 | Y20: 29 | Z20: =X20+(Y20*0.1)-(H20*0.1)-(I20*0.1)-(J20*0.1) -> 7.6 | AA20: 15 | AB20: 18 | AC20: =AA20+(AB20*0.3)-(H20*0.3)-(I20*0.3)-(J20*0.3) -> 19.5 | AD20: 0 | AE20: 43 | AF20: =AD20+AE20 -> 43
A21: Russell Henley | C21: 2024 | E21: Free Agent | F21: 1989 | G21: =C21-F21 -> 35 | H21: 1 | K21: =N21+Q21+T21+W21+Z21+AC21 -> 72.3 | L21: 10 | M21: 27 | N21: =L21+(M21*0.2)-(H21*0.2)-(I21*0.2)-(J21*0.2) -> 15.2 | O21: 5 | P21: 21 | Q21: =O21+(P21*0.1)-(H21*0.1)-(I21*0.1)-(J21*0.1) -> 7 | R21: 10 | S21: 14 | T21: =R21+(S21*0.2)-(H21*0.2)-(I21*0.2)-(J21*0.2) -> 12.6 | U21: 5 | V21: 27 | W21: =U21+(V21*0.1)-(H21*0.1)-(I21*0.1)-(J21*0.1) -> 7.6 | X21: 5 | Y21: 40 | Z21: =X21+(Y21*0.1)-(H21*0.1)-(I21*0.1)-(J21*0.1) -> 8.9 | AA21: 15 | AB21: 21 | AC21: =AA21+(AB21*0.3)-(H21*0.3)-(I21*0.3)-(J21*0.3) -> 21 | AD21: 0 | AE21: 59 | AF21: =AD21+AE21 -> 59
A22: Andrew Putnam | C22: 2024 | E22: Free Agent | F22: 1989 | G22: =C22-F22 -> 35 | H22: 1 | K22: =N22+Q22+T22+W22+Z22+AC22 -> 72 | L22: 10 | M22: 21 | N22: =L22+(M22*0.2)-(H22*0.2)-(I22*0.2)-(J22*0.2) -> 14 | O22: 5 | P22: 16 | Q22: =O22+(P22*0.1)-(H22*0.1)-(I22*0.1)-(J22*0.1) -> 6.5 | R22: 10 | S22: 32 | T22: =R22+(S22*0.2)-(H22*0.2)-(I22*0.2)-(J22*0.2) -> 16.2 | U22: 5 | V22: 23 | W22: =U22+(V22*0.1)-(H22*0.1)-(I22*0.1)-(J22*0.1) -> 7.2 | X22: 5 | Y22: 19 | Z22: =X22+(Y22*0.1)-(H22*0.1)-(I22*0.1)-(J22*0.1) -> 6.8 | AA22: 15 | AB22: 22 | AC22: =AA22+(AB22*0.3)-(H22*0.3)-(I22*0.3)-(J22*0.3) -> 21.3 | AD22: 0 | AE22: 55 | AF22: =AD22+AE22 -> 55
A23: Brandt Snedeker | C23: 2024 | E23: Free Agent | F23: 1980 | G23: =C23-F23 -> 44 | H23: 1 | I23: 2 | K23: =N23+Q23+T23+W23+Z23+AC23 -> 72 | L23: 10 | M23: 24 | N23: =L23+(M23*0.2)-(H23*0.2)-(I23*0.2)-(J23*0.2) -> 14.2 | O23: 5 | P23: 12 | Q23: =O23+(P23*0.1)-(H23*0.1)-(I23*0.1)-(J23*0.1) -> 5.9 | R23: 10 | S23: 32 | T23: =R23+(S23*0.2)-(H23*0.2)-(I23*0.2)-(J23*0.2) -> 15.8 | U23: 5 | V23: 9 | W23: =U23+(V23*0.1)-(H23*0.1)-(I23*0.1)-(J23*0.1) -> 5.6 | X23: 5 | Y23: 30 | Z23: =X23+(Y23*0.1)-(H23*0.1)-(I23*0.1)-(J23*0.1) -> 7.7 | AA23: 15 | AB23: 29 | AC23: =AA23+(AB23*0.3)-(H23*0.3)-(I23*0.3)-(J23*0.3) -> 22.8 | AD23: 0 | AE23: 60 | AF23: =AD23+AE23 -> 60
A24: Jordan Spieth | C24: 2024 | E24: Free Agent | F24: 1993 | G24: =C24-F24 -> 31 | H24: 1 | K24: =N24+Q24+T24+W24+Z24+AC24 -> 71.6 | L24: 10 | M24: 34 | N24: =L24+(M24*0.2)-(H24*0.2)-(I24*0.2)-(J24*0.2) -> 16.6 | O24: 5 | P24: 21 | Q24: =O24+(P24*0.1)-(H24*0.1)-(I24*0.1)-(J24*0.1) -> 7 | R24: 10 | S24: 15 | T24: =R24+(S24*0.2)-(H24*0.2)-(I24*0.2)-(J24*0.2) -> 12.8 | U24: 5 | V24: 31 | W24: =U24+(V24*0.1)-(H24*0.1)-(I24*0.1)-(J24*0.1) -> 8 | X24: 5 | Y24: 16 | Z24: =X24+(Y24*0.1)-(H24*0.1)-(I24*0.1)-(J24*0.1) -> 6.5 | AA24: 15 | AB24: 20 | AC24: =AA24+(AB24*0.3)-(H24*0.3)-(I24*0.3)-(J24*0.3) -> 20.7 | AD24: 0 | AE24: 54 | AF24: =AD24+AE24 -> 54
A25: Webb Simpson | C25: 2024 | E25: Free Agent | F25: 1985 | G25: =C25-F25 -> 39 | H25: 1 | K25: =N25+Q25+T25+W25+Z25+AC25 -> 71.5 | L25: 10 | M25: 22 | N25: =L25+(M25*0.2)-(H25*0.2)-(I25*0.2)-(J25*0.2) -> 14.2 | O25: 5 | P25: 7 | Q25: =O25+(P25*0.1)-(H25*0.1)-(I25*0.1)-(J25*0.1) -> 5.6 | R25: 10 | S25: 31 | T25: =R25+(S25*0.2)-(H25*0.2)-(I25*0.2)-(J25*0.2) -> 16 | U25: 5 | V25: 34 | W25: =U25+(V25*0.1)-(H25*0.1)-(I25*0.1)-(J25*0.1) -> 8.3 | X25: 5 | Y25: 27 | Z25: =X25+(Y25*0.1)-(H25*0.1)-(I25*0.1)-(J25*0.1) -> 7.6 | AA25: 15 | AB25: 17 | AC25: =AA25+(AB25*0.3)-(H25*0.3)-(I25*0.3)-(J25*0.3) -> 19.8 | AD25: 0 | AE25: 43 | AF25: =AD25+AE25 -> 43
A26: Steve Stricker | C26: 2024 | E26: Free Agent | F26: 1967 | G26: =C26-F26 -> 57 | H26: 1 | I26: 2 | J26: 3 | K26: =N26+Q26+T26+W26+Z26+AC26 -> 70.7 | L26: 10 | M26: 32 | N26: =L26+(M26*0.2)-(H26*0.2)-(I26*0.2)-(J26*0.2) -> 15.2 | O26: 5 | P26: 30 | Q26: =O26+(P26*0.1)-(H26*0.1)-(I26*0.1)-(J26*0.1) -> 7.4 | R26: 10 | S26: 32 | T26: =R26+(S26*0.2)-(H26*0.2)-(I26*0.2)-(J26*0.2) -> 15.2 | U26: 5 | V26: 24 | W26: =U26+(V26*0.1)-(H26*0.1)-(I26*0.1)-(J26*0.1) -> 6.8 | X26: 5 | Y26: 25 | Z26: =X26+(Y26*0.1)-(H26*0.1)-(I26*0.1)-(J26*0.1) -> 6.9 | AA26: 15 | AB26: 20 | AC26: =AA26+(AB26*0.3)-(H26*0.3)-(I26*0.3)-(J26*0.3) -> 19.2 | AD26: 0 | AE26: 46 | AF26: =AD26+AE26 -> 46
A27: Chris DiMarco | C27: 2024 | E27: Free Agent | F27: 1968 | G27: =C27-F27 -> 56 | H27: 1 | I27: 2 | J27: 3 | K27: =N27+Q27+T27+W27+Z27+AC27 -> 70.5 | L27: 10 | M27: 23 | N27: =L27+(M27*0.2)-(H27*0.2)-(I27*0.2)-(J27*0.2) -> 13.4 | O27: 5 | P27: 26 | Q27: =O27+(P27*0.1)-(H27*0.1)-(I27*0.1)-(J27*0.1) -> 7 | R27: 10 | S27: 35 | T27: =R27+(S27*0.2)-(H27*0.2)-(I27*0.2)-(J27*0.2) -> 15.8 | U27: 5 | V27: 37 | W27: =U27+(V27*0.1)-(H27*0.1)-(I27*0.1)-(J27*0.1) -> 8.1 | X27: 5 | Y27: 23 | Z27: =X27+(Y27*0.1)-(H27*0.1)-(I27*0.1)-(J27*0.1) -> 6.7 | AA27: 15 | AB27: 21 | AC27: =AA27+(AB27*0.3)-(H27*0.3)-(I27*0.3)-(J27*0.3) -> 19.5 | AD27: 0 | AE27: 45 | AF27: =AD27+AE27 -> 45
A28: Robert Gamez | C28: 2024 | E28: Free Agent | F28: 1968 | G28: =C28-F28 -> 56 | H28: 1 | I28: 2 | J28: 3 | K28: =N28+Q28+T28+W28+Z28+AC28 -> 70.2 | L28: 10 | M28: 32 | N28: =L28+(M28*0.2)-(H28*0.2)-(I28*0.2)-(J28*0.2) -> 15.2 | O28: 5 | P28: 20 | Q28: =O28+(P28*0.1)-(H28*0.1)-(I28*0.1)-(J28*0.1) -> 6.4 | R28: 10 | S28: 26 | T28: =R28+(S28*0.2)-(H28*0.2)-(I28*0.2)-(J28*0.2) -> 14 | U28: 5 | V28: 25 | W28: =U28+(V28*0.1)-(H28*0.1)-(I28*0.1)-(J28*0.1) -> 6.9 | X28: 5 | Y28: 32 | Z28: =X28+(Y28*0.1)-(H28*0.1)-(I28*0.1)-(J28*0.1) -> 7.6 | AA28: 15 | AB28: 23 | AC28: =AA28+(AB28*0.3)-(H28*0.3)-(I28*0.3)-(J28*0.3) -> 20.1 | AD28: 0 | AE28: 40 | AF28: =AD28+AE28 -> 40
A29: Keith Mitchell | C29: 2024 | E29: Free Agent | F29: 1992 | G29: =C29-F29 -> 32 | H29: 1 | K29: =N29+Q29+T29+W29+Z29+AC29 -> 70 | L29: 10 | M29: 22 | N29: =L29+(M29*0.2)-(H29*0.2)-(I29*0.2)-(J29*0.2) -> 14.2 | O29: 5 | P29: 28 | Q29: =O29+(P29*0.1)-(H29*0.1)-(I29*0.1)-(J29*0.1) -> 7.7 | R29: 10 | S29: 12 | T29: =R29+(S29*0.2)-(H29*0.2)-(I29*0.2)-(J29*0.2) -> 12.2 | U29: 5 | V29: 14 | W29: =U29+(V29*0.1)-(H29*0.1)-(I29*0.1)-(J29*0.1) -> 6.3 | X29: 5 | Y29: 19 | Z29: =X29+(Y29*0.1)-(H29*0.1)-(I29*0.1)-(J29*0.1) -> 6.8 | AA29: 15 | AB29: 27 | AC29: =AA29+(AB29*0.3)-(H29*0.3)-(I29*0.3)-(J29*0.3) -> 22.8 | AD29: 0 | AE29: 59 | AF29: =AD29+AE29 -> 59
A30: Taylor Pendrith | C30: 2024 | E30: Free Agent | F30: 1991 | G30: =C30-F30 -> 33 | H30: 1 | K30: =N30+Q30+T30+W30+Z30+AC30 -> 70 | L30: 10 | M30: 32 | N30: =L30+(M30*0.2)-(H30*0.2)-(I30*0.2)-(J30*0.2) -> 16.2 | O30: 5 | P30: 21 | Q30: =O30+(P30*0.1)-(H30*0.1)-(I30*0.1)-(J30*0.1) -> 7 | R30: 10 | S30: 16 | T30: =R30+(S30*0.2)-(H30*0.2)-(I30*0.2)-(J30*0.2) -> 13 | U30: 5 | V30: 13 | W30: =U30+(V30*0.1)-(H30*0.1)-(I30*0.1)-(J30*0.1) -> 6.2 | X30: 5 | Y30: 29 | Z30: =X30+(Y30*0.1)-(H30*0.1)-(I30*0.1)-(J30*0.1) -> 7.8 | AA30: 15 | AB30: 17 | AC30: =AA30+(AB30*0.3)-(H30*0.3)-(I30*0.3)-(J30*0.3) -> 19.8 | AD30: 0 | AE30: 56 | AF30: =AD30+AE30 -> 56
A31: Billy Mayfair | C31: 2024 | E31: Free Agent | F31: 1966 | G31: =C31-F31 -> 58 | H31: 1 | I31: 2 | J31: 3 | K31: =N31+Q31+T31+W31+Z31+AC31 -> 70 | L31: 10 | M31: 17 | N31: =L31+(M31*0.2)-(H31*0.2)-(I31*0.2)-(J31*0.2) -> 12.2 | O31: 5 | P31: 27 | Q31: =O31+(P31*0.1)-(H31*0.1)-(I31*0.1)-(J31*0.1) -> 7.1 | R31: 10 | S31: 34 | T31: =R31+(S31*0.2)-(H31*0.2)-(I31*0.2)-(J31*0.2) -> 15.6 | U31: 5 | V31: 35 | W31: =U31+(V31*0.1)-(H31*0.1)-(I31*0.1)-(J31*0.1) -> 7.9 | X31: 5 | Y31: 21 | Z31: =X31+(Y31*0.1)-(H31*0.1)-(I31*0.1)-(J31*0.1) -> 6.5 | AA31: 15 | AB31: 25 | AC31: =AA31+(AB31*0.3)-(H31*0.3)-(I31*0.3)-(J31*0.3) -> 20.7 | AD31: 0 | AE31: 53 | AF31: =AD31+AE31 -> 53
A32: Jimmy Walker | C32: 2024 | E32: Free Agent | F32: 1979 | G32: =C32-F32 -> 45 | H32: 1 | I32: 2 | K32: =N32+Q32+T32+W32+Z32+AC32 -> 69.9 | L32: 10 | M32: 10 | N32: =L32+(M32*0.2)-(H32*0.2)-(I32*0.2)-(J32*0.2) -> 11.4 | O32: 5 | P32: 31 | Q32: =O32+(P32*0.1)-(H32*0.1)-(I32*0.1)-(J32*0.1) -> 7.8 | R32: 10 | S32: 25 | T32: =R32+(S32*0.2)-(H32*0.2)-(I32*0.2)-(J32*0.2) -> 14.4 | U32: 5 | V32: 43 | W32: =U32+(V32*0.1)-(H32*0.1)-(I32*0.1)-(J32*0.1) -> 9 | X32: 5 | Y32: 28 | Z32: =X32+(Y32*0.1)-(H32*0.1)-(I32*0.1)-(J32*0.1) -> 7.5 | AA32: 15 | AB32: 19 | AC32: =AA32+(AB32*0.3)-(H32*0.3)-(I32*0.3)-(J32*0.3) -> 19.8 | AD32: 0 | AE32: 57 | AF32: =AD32+AE32 -> 57
A33: Jim Furyk | C33: 2024 | E33: Free Agent | F33: 1970 | G33: =C33-F33 -> 54 | H33: 1 | I33: 2 | J33: 3 | K33: =N33+Q33+T33+W33+Z33+AC33 -> 69.8 | L33: 10 | M33: 17 | N33: =L33+(M33*0.2)-(H33*0.2)-(I33*0.2)-(J33*0.2) -> 12.2 | O33: 5 | P33: 30 | Q33: =O33+(P33*0.1)-(H33*0.1)-(I33*0.1)-(J33*0.1) -> 7.4 | R33: 10 | S33: 31 | T33: =R33+(S33*0.2)-(H33*0.2)-(I33*0.2)-(J33*0.2) -> 15 | U33: 5 | V33: 18 | W33: =U33+(V33*0.1)-(H33*0.1)-(I33*0.1)-(J33*0.1) -> 6.2 | X33: 5 | Y33: 24 | Z33: =X33+(Y33*0.1)-(H33*0.1)-(I33*0.1)-(J33*0.1) -> 6.8 | AA33: 15 | AB33: 30 | AC33: =AA33+(AB33*0.3)-(H33*0.3)-(I33*0.3)-(J33*0.3) -> 22.2 | AD33: 0 | AE33: 50 | AF33: =AD33+AE33 -> 50
A34: John Daly | C34: 2024 | E34: Free Agent | F34: 1966 | G34: =C34-F34 -> 58 | H34: 1 | I34: 2 | J34: 3 | K34: =N34+Q34+T34+W34+Z34+AC34 -> 69.8 | L34: 10 | M34: 29 | N34: =L34+(M34*0.2)-(H34*0.2)-(I34*0.2)-(J34*0.2) -> 14.6 | O34: 5 | P34: 27 | Q34: =O34+(P34*0.1)-(H34*0.1)-(I34*0.1)-(J34*0.1) -> 7.1 | R34: 10 | S34: 21 | T34: =R34+(S34*0.2)-(H34*0.2)-(I34*0.2)-(J34*0.2) -> 13 | U34: 5 | V34: 31 | W34: =U34+(V34*0.1)-(H34*0.1)-(I34*0.1)-(J34*0.1) -> 7.5 | X34: 5 | Y34: 22 | Z34: =X34+(Y34*0.1)-(H34*0.1)-(I34*0.1)-(J34*0.1) -> 6.6 | AA34: 15 | AB34: 26 | AC34: =AA34+(AB34*0.3)-(H34*0.3)-(I34*0.3)-(J34*0.3) -> 21 | AD34: 0 | AE34: 55 | AF34: =AD34+AE34 -> 55
A35: Darren Clarke | C35: 2024 | E35: Free Agent | F35: 1968 | G35: =C35-F35 -> 56 | H35: 1 | I35: 2 | J35: 3 | K35: =N35+Q35+T35+W35+Z35+AC35 -> 69.8 | L35: 10 | M35: 26 | N35: =L35+(M35*0.2)-(H35*0.2)-(I35*0.2)-(J35*0.2) -> 14 | O35: 5 | P35: 17 | Q35: =O35+(P35*0.1)-(H35*0.1)-(I35*0.1)-(J35*0.1) -> 6.1 | R35: 10 | S35: 24 | T35: =R35+(S35*0.2)-(H35*0.2)-(I35*0.2)-(J35*0.2) -> 13.6 | U35: 5 | V35: 28 | W35: =U35+(V35*0.1)-(H35*0.1)-(I35*0.1)-(J35*0.1) -> 7.2 | X35: 5 | Y35: 29 | Z35: =X35+(Y35*0.1)-(H35*0.1)-(I35*0.1)-(J35*0.1) -> 7.3 | AA35: 15 | AB35: 28 | AC35: =AA35+(AB35*0.3)-(H35*0.3)-(I35*0.3)-(J35*0.3) -> 21.6 | AD35: 0 | AE35: 55 | AF35: =AD35+AE35 -> 55
A36: Padraig Harrington | C36: 2024 | E36: Free Agent | F36: 1971 | G36: =C36-F36 -> 53 | H36: 1 | I36: 2 | J36: 3 | K36: =N36+Q36+T36+W36+Z36+AC36 -> 69.7 | L36: 10 | M36: 28 | N36: =L36+(M36*0.2)-(H36*0.2)-(I36*0.2)-(J36*0.2) -> 14.4 | O36: 5 | P36: 35 | Q36: =O36+(P36*0.1)-(H36*0.1)-(I36*0.1)-(J36*0.1) -> 7.9 | R36: 10 | S36: 25 | T36: =R36+(S36*0.2)-(H36*0.2)-(I36*0.2)-(J36*0.2) -> 13.8 | U36: 5 | V36: 14 | W36: =U36+(V36*0.1)-(H36*0.1)-(I36*0.1)-(J36*0.1) -> 5.8 | X36: 5 | Y36: 18 | Z36: =X36+(Y36*0.1)-(H36*0.1)-(I36*0.1)-(J36*0.1) -> 6.2 | AA36: 15 | AB36: 28 | AC36: =AA36+(AB36*0.3)-(H36*0.3)-(I36*0.3)-(J36*0.3) -> 21.6 | AD36: 0 | AE36: 49 | AF36: =AD36+AE36 -> 49
A37: Bob Estes | C37: 2024 | E37: Free Agent | F37: 1966 | G37: =C37-F37 -> 58 | H37: 1 | I37: 2 | J37: 3 | K37: =N37+Q37+T37+W37+Z37+AC37 -> 69.5 | L37: 10 | M37: 39 | N37: =L37+(M37*0.2)-(H37*0.2)-(I37*0.2)-(J37*0.2) -> 16.6 | O37: 5 | P37: 20 | Q37: =O37+(P37*0.1)-(H37*0.1)-(I37*0.1)-(J37*0.1) -> 6.4 | R37: 10 | S37: 20 | T37: =R37+(S37*0.2)-(H37*0.2)-(I37*0.2)-(J37*0.2) -> 12.8 | U37: 5 | V37: 18 | W37: =U37+(V37*0.1)-(H37*0.1)-(I37*0.1)-(J37*0.1) -> 6.2 | X37: 5 | Y37: 15 | Z37: =X37+(Y37*0.1)-(H37*0.1)-(I37*0.1)-(J37*0.1) -> 5.9 | AA37: 15 | AB37: 28 | AC37: =AA37+(AB37*0.3)-(H37*0.3)-(I37*0.3)-(J37*0.3) -> 21.6 | AD37: 0 | AE37: 58 | AF37: =AD37+AE37 -> 58
A38: Dudley Hart | C38: 2024 | E38: Free Agent | F38: 1968 | G38: =C38-F38 -> 56 | H38: 1 | I38: 2 | J38: 3 | K38: =N38+Q38+T38+W38+Z38+AC38 -> 69 | L38: 10 | M38: 19 | N38: =L38+(M38*0.2)-(H38*0.2)-(I38*0.2)-(J38*0.2) -> 12.6 | O38: 5 | P38: 29 | Q38: =O38+(P38*0.1)-(H38*0.1)-(I38*0.1)-(J38*0.1) -> 7.3 | R38: 10 | S38: 35 | T38: =R38+(S38*0.2)-(H38*0.2)-(I38*0.2)-(J38*0.2) -> 15.8 | U38: 5 | V38: 28 | W38: =U38+(V38*0.1)-(H38*0.1)-(I38*0.1)-(J38*0.1) -> 7.2 | X38: 5 | Y38: 16 | Z38: =X38+(Y38*0.1)-(H38*0.1)-(I38*0.1)-(J38*0.1) -> 6 | AA38: 15 | AB38: 23 | AC38: =AA38+(AB38*0.3)-(H38*0.3)-(I38*0.3)-(J38*0.3) -> 20.1 | AD38: 0 | AE38: 58 | AF38: =AD38+AE38 -> 58
A39: Jhonattan Vegas | C39: 2024 | E39: Free Agent | F39: 1984 | G39: =C39-F39 -> 40 | H39: 1 | I39: 2 | K39: =N39+Q39+T39+W39+Z39+AC39 -> 68.7 | L39: 10 | M39: 22 | N39: =L39+(M39*0.2)-(H39*0.2)-(I39*0.2)-(J39*0.2) -> 13.8 | O39: 5 | P39: 33 | Q39: =O39+(P39*0.1)-(H39*0.1)-(I39*0.1)-(J39*0.1) -> 8 | R39: 10 | S39: 8 | T39: =R39+(S39*0.2)-(H39*0.2)-(I39*0.2)-(J39*0.2) -> 11 | U39: 5 | V39: 27 | W39: =U39+(V39*0.1)-(H39*0.1)-(I39*0.1)-(J39*0.1) -> 7.4 | X39: 5 | Y39: 37 | Z39: =X39+(Y39*0.1)-(H39*0.1)-(I39*0.1)-(J39*0.1) -> 8.4 | AA39: 15 | AB39: 20 | AC39: =AA39+(AB39*0.3)-(H39*0.3)-(I39*0.3)-(J39*0.3) -> 20.1 | AD39: 0 | AE39: 47 | AF39: =AD39+AE39 -> 47
A40: Stuart Appleby | C40: 2024 | E40: Free Agent | F40: 1971 | G40: =C40-F40 -> 53 | H40: 1 | I40: 2 | J40: 3 | K40: =N40+Q40+T40+W40+Z40+AC40 -> 68.6 | L40: 10 | M40: 25 | N40: =L40+(M40*0.2)-(H40*0.2)-(I40*0.2)-(J40*0.2) -> 13.8 | O40: 5 | P40: 28 | Q40: =O40+(P40*0.1)-(H40*0.1)-(I40*0.1)-(J40*0.1) -> 7.2 | R40: 10 | S40: 21 | T40: =R40+(S40*0.2)-(H40*0.2)-(I40*0.2)-(J40*0.2) -> 13 | U40: 5 | V40: 28 | W40: =U40+(V40*0.1)-(H40*0.1)-(I40*0.1)-(J40*0.1) -> 7.2 | X40: 5 | Y40: 23 | Z40: =X40+(Y40*0.1)-(H40*0.1)-(I40*0.1)-(J40*0.1) -> 6.7 | AA40: 15 | AB40: 25 | AC40: =AA40+(AB40*0.3)-(H40*0.3)-(I40*0.3)-(J40*0.3) -> 20.7 | AD40: 0 | AE40: 41 | AF40: =AD40+AE40 -> 41
...

Sheet Schedule
A1: Week 1 | H1: Week 12 | P1: Drive | Q1: Common | R1: Links | S1: NYGC | T1: BGC | U1: LAGC | V1: Scramblers | W1: Rough Riders
A2: Home | B2: Course | C2: Away | D2: Home | E2: Course | F2: Away | H2: Home | I2: Course | J2: Away | K2: Home | L2: Course | M2: Away | O2: Drive | Q2: 1 | R2: 1 | S2: 1 | T2: 1 | U2: 1 | V2: 1 | W2: 1
A3: Drive | B3: Coastal Pines Golf Resort | C3: NYGC | D3: Crushers | E3: Duine Mara | F3: Aces | H3: Common | I3: Bull Run HD | J3: Drive | K3: Crushers | L3: Duine Mara | M3: Majesticks | O3: Common | P3: 1 | R3: 1 | S3: 1 | T3: 1 | U3: 1 | V3: 1 | W3: 1
A4: Common | B4: Bull Run HD | C4: BGC | D4: Majesticks | E4: Bakers Flat | F4: Stinger | H4: Links | I4: Faerne the Ancient Course | J4: NYGC | K4: Aces | L4: West Coast Links | M4: Fireballs | O4: Links | P4: 1 | Q4: 1 | S4: 1 | T4: 1 | U4: 1 | V4: 1 | W4: 1
A5: Scramblers | B5: Cara Brae | C5: Links | D5: Fireballs | E5: Kill Devils Hill HD | F5: KGC | H5: BGC | I5: Bartlett Springs | J5: LAGC | K5: Torque | L5: Dark Woods Golf Club | M5: Stinger | O5: NYGC | P5: 1 | Q5: 1 | R5: 1 | T5: 1 | U5: 1 | V5: 1 | W5: 1
A6: Rough Riders | B6: Sands Hill Club | C6: LAGC | D6: Pin Seekers | E6: The Glen | F6: Torque | H6: Scramblers | I6: Cara Brae | J6: Rough Riders | K6: Pin Seekers | L6: The Glen | M6: KGC | O6: BGC | P6: 1 | Q6: 1 | R6: 1 | S6: 1 | U6: 1 | V6: 1 | W6: 1
A7: Week 2 | H7: Week 13 | O7: LAGC | P7: 1 | Q7: 1 | R7: 1 | S7: 1 | T7: 1 | V7: 1 | W7: 1
A8: Home | B8: Course | C8: Away | D8: Home | E8: Course | F8: Away | H8: Home | I8: Course | J8: Away | K8: Home | L8: Course | M8: Away | O8: Scramblers | P8: 1 | Q8: 1 | R8: 1 | S8: 1 | T8: 1 | U8: 1 | W8: 1
A9: Crushers | B9: Duine Mara | C9: Drive | D9: Aces | E9: West Coast Links | F9: NYGC | H9: Torque | I9: Dark Woods Golf Club | J9: Drive | K9: Pin Seekers | L9: The Glen | M9: NYGC | O9: Rough Riders | P9: 1 | Q9: 1 | R9: 1 | S9: 1 | T9: 1 | U9: 1 | V9: 1
A10: Majesticks | B10: Bakers Flat | C10: Common | D10: Stinger | E10: Burns Old Links HD | F10: BGC | H10: Fireballs | I10: Kill Devils Hill HD | J10: Common | K10: KGC | L10: Las Joyas HD | M10: BGC
A11: Fireballs | B11: Kill Devils Hill HD | C11: Links | D11: KGC | E11: Las Joyas HD | F11: Scramblers | H11: Majesticks | I11: Bakers Flat | J11: Links | K11: Stinger | L11: Burns Old Links HD | M11: Scramblers | P11: Crushers | Q11: Majesticks | R11: Aces | S11: Stinger | T11: Fireballs | U11: Torque | V11: KGC | W11: Pin Seekers
A12: Torque | B12: Dark Woods Golf Club | C12: LAGC | D12: Pin Seekers | E12: The Glen | F12: Rough Riders | H12: Crushers | I12: Duine Mara | J12: LAGC | K12: Aces | L12: West Coast Links | M12: Rough Riders | O12: Drive | P12: 1 | Q12: 1 | R12: 1 | S12: 1 | T12: 1 | U12: 1 | V12: 1 | W12: 1
A13: Week 3 | H13: Week 14 | O13: Common | P13: 1 | Q13: 1 | R13: 1 | S13: 1 | T13: 1 | U13: 1 | V13: 1 | W13: 1
A14: Home | B14: Course | C14: Away | D14: Home | E14: Course | F14: Away | H14: Home | I14: Course | J14: Away | K14: Home | L14: Course | M14: Away | O14: Links | P14: 1 | Q14: 1 | R14: 1 | S14: 1 | T14: 1 | U14: 1 | V14: 1 | W14: 1
A15: Drive | B15: Coastal Pines Golf Resort | C15: Common | D15: Majesticks | E15: Bakers Flat | F15: Crushers | H15: Drive | I15: Coastal Pines Golf Resort | J15: Links | K15: Fireballs | L15: Kill Devils Hill HD | M15: Crushers | O15: NYGC | P15: 1 | Q15: 1 | R15: 1 | S15: 1 | T15: 1 | U15: 1 | V15: 1 | W15: 1
A16: NYGC | B16: Crystal Pines HD | C16: Links | D16: Fireballs | E16: Kill Devils Hill HD | F16: Aces | H16: LAGC | I16: Crooked Creek HD | J16: Common | K16: Majesticks | L16: Bakers Flat | M16: Torque | O16: BGC | P16: 1 | Q16: 1 | R16: 1 | S16: 1 | T16: 1 | U16: 1 | V16: 1 | W16: 1
A17: LAGC | B17: Crooked Creek HD | C17: BGC | D17: Stinger | E17: Burns Old Links HD | F17: Torque | H17: NYGC | I17: Crystal Pines HD | J17: Rough Riders | K17: Aces | L17: West Coast Links | M17: Pin Seekers | O17: LAGC | P17: 1 | Q17: 1 | R17: 1 | S17: 1 | T17: 1 | U17: 1 | V17: 1 | W17: 1
A18: Rough Riders | B18: Sands Hill Club | C18: Scramblers | D18: KGC | E18: Las Joyas HD | F18: Pin Seekers | H18: BGC | I18: Bartlett Springs | J18: Scramblers | K18: KGC | L18: Las Joyas HD | M18: Stinger | O18: Scramblers | P18: 1 | Q18: 1 | R18: 1 | S18: 1 | T18: 1 | U18: 1 | V18: 1 | W18: 1
A19: Week 4 | H19: Week 15 | O19: Rough Riders | P19: 1 | Q19: 1 | R19: 1 | S19: 1 | T19: 1 | U19: 1 | V19: 1 | W19: 1
A20: Home | B20: Course | C20: Away | D20: Home | E20: Course | F20: Away | H20: Home | I20: Course | J20: Away | K20: Home | L20: Course | M20: Away
A21: Majesticks | B21: Bakers Flat | C21: Drive | D21: Stinger | E21: Burns Old Links HD | F21: NYGC | H21: Drive | I21: Coastal Pines Golf Resort | J21: Aces | K21: NYGC | L21: Crystal Pines HD | M21: Crushers | P21: Crushers | Q21: Majesticks | R21: Aces | S21: Stinger | T21: Fireballs | U21: Torque | V21: KGC | W21: Pin Seekers
A22: Crushers | B22: Duine Mara | C22: Common | D22: Aces | E22: West Coast Links | F22: BGC | H22: Common | I22: Bull Run HD | J22: Stinger | K22: BGC | L22: Bartlett Springs | M22: Majesticks | O22: Crushers | Q22: 1 | R22: 1 | S22: 1 | T22: 1 | U22: 1 | V22: 1 | W22: 1
A23: Torque | B23: Dark Woods Golf Club | C23: Links | D23: Pin Seekers | E23: The Glen | F23: Scramblers | H23: Links | I23: Faerne the Ancient Course | J23: KGC | K23: Scramblers | L23: Cara Brae | M23: Fireballs | O23: Majesticks | P23: 1 | R23: 1 | S23: 1 | T23: 1 | U23: 1 | V23: 1 | W23: 1
A24: Fireballs | B24: Kill Devils Hill HD | C24: LAGC | D24: KGC | E24: Las Joyas HD | F24: Rough Riders | H24: LAGC | I24: Crooked Creek HD | J24: Pin Seekers | K24: Rough Riders | L24: Sands Hill Club | M24: Torque | O24: Aces | P24: 1 | Q24: 1 | S24: 1 | T24: 1 | U24: 1 | V24: 1 | W24: 1
A25: Week 5 | H25: Week 16 | O25: Stinger | P25: 1 | Q25: 1 | R25: 1 | T25: 1 | U25: 1 | V25: 1 | W25: 1
A26: Home | B26: Course | C26: Away | D26: Home | E26: Course | F26: Away | H26: Home | I26: Course | J26: Away | K26: Home | L26: Course | M26: Away | O26: Fireballs | P26: 1 | Q26: 1 | R26: 1 | S26: 1 | U26: 1 | V26: 1 | W26: 1
A27: Drive | B27: Coastal Pines Golf Resort | C27: LAGC | D27: Torque | E27: Dark Woods Golf Club | F27: Crushers | H27: LAGC | I27: Crooked Creek HD | J27: Drive | K27: Crushers | L27: Duine Mara | M27: Torque | O27: Torque | P27: 1 | Q27: 1 | R27: 1 | S27: 1 | T27: 1 | V27: 1 | W27: 1
A28: Links | B28: Faerne the Ancient Course | C28: Rough Riders | D28: Pin Seekers | E28: The Glen | F28: Fireballs | H28: Rough Riders | I28: Sands Hill Club | J28: Links | K28: Fireballs | L28: Kill Devils Hill HD | M28: Pin Seekers | O28: KGC | P28: 1 | Q28: 1 | R28: 1 | S28: 1 | T28: 1 | U28: 1 | W28: 1
A29: Scramblers | B29: Cara Brae | C29: Common | D29: KGC | E29: Las Joyas HD | F29: Majesticks | H29: Common | I29: Bull Run HD | J29: Scramblers | K29: Majesticks | L29: Bakers Flat | M29: KGC | O29: Pin Seekers | P29: 1 | Q29: 1 | R29: 1 | S29: 1 | T29: 1 | U29: 1 | V29: 1
A30: NYGC | B30: Crystal Pines HD | C30: BGC | D30: Stinger | E30: Burns Old Links HD | F30: Aces | H30: BGC | I30: Bartlett Springs | J30: NYGC | K30: Aces | L30: West Coast Links | M30: Stinger
A31: Week 6 | H31: Week 17 | P31: Home | Q31: Away | R31: HD | S31: AD | T31: HND | U31: AND
A32: Home | B32: Course | C32: Away | D32: Home | E32: Course | F32: Away | H32: Home | I32: Course | J32: Away | K32: Home | L32: Course | M32: Away | O32: Drive | P32: 11 | Q32: 11 | R32: 7 | S32: 7 | T32: 4 | U32: 4
A33: Fireballs | B33: Kill Devils Hill HD | C33: Drive | D33: KGC | E33: Las Joyas HD | F33: NYGC | H33: Drive | I33: Coastal Pines Golf Resort | J33: Rough Riders | K33: Pin Seekers | L33: The Glen | M33: Crushers | O33: Common | P33: 11 | Q33: 11 | R33: 7 | S33: 7 | T33: 4 | U33: 4
A34: Torque | B34: Dark Woods Golf Club | C34: Common | D34: Pin Seekers | E34: The Glen | F34: BGC | H34: LAGC | I34: Crooked Creek HD | J34: Scramblers | K34: Torque | L34: Dark Woods Golf Club | M34: KGC | O34: Links | P34: 11 | Q34: 11 | R34: 7 | S34: 7 | T34: 4 | U34: 4
A35: Crushers | B35: Duine Mara | C35: Links | D35: Aces | E35: West Coast Links | F35: Scramblers | H35: Links | I35: Faerne the Ancient Course | J35: BGC | K35: Fireballs | L35: Kill Devils Hill HD | M35: Stinger | O35: NYGC | P35: 11 | Q35: 11 | R35: 7 | S35: 7 | T35: 4 | U35: 4
A36: Majesticks | B36: Bakers Flat | C36: LAGC | D36: Stinger | E36: Burns Old Links HD | F36: Rough Riders | H36: Common | I36: Bull Run HD | J36: NYGC | K36: Aces | L36: West Coast Links | M36: Majesticks | O36: BGC | P36: 11 | Q36: 11 | R36: 7 | S36: 7 | T36: 4 | U36: 4
A37: Week 7 | H37: Week 18 | O37: LAGC | P37: 11 | Q37: 11 | R37: 7 | S37: 7 | T37: 4 | U37: 4
A38: Home | B38: Course | C38: Away | D38: Home | E38: Course | F38: Away | H38: Home | I38: Course | J38: Away | K38: Home | L38: Course | M38: Away | O38: Scramblers | P38: 11 | Q38: 11 | R38: 7 | S38: 7 | T38: 4 | U38: 4
A39: Rough Riders | B39: Sands Hill Club | C39: Drive | D39: Crushers | E39: Duine Mara | F39: Pin Seekers | H39: Drive | I39: Coastal Pines Golf Resort | J39: Stinger | K39: NYGC | L39: Crystal Pines HD | M39: Majesticks | O39: Rough Riders | P39: 11 | Q39: 11 | R39: 7 | S39: 7 | T39: 4 | U39: 4
A40: Scramblers | B40: Cara Brae | C40: LAGC | D40: KGC | E40: Las Joyas HD | F40: Torque | H40: Common | I40: Bull Run HD | J40: Aces | K40: BGC | L40: Bartlett Springs | M40: Crushers | O40: Crushers | P40: 11 | Q40: 11 | R40: 7 | S40: 7 | T40: 4 | U40: 4
...

Sheet Standings
A1: Teams/Div | B1: Team Points | I1: Stroke | O1: Alternate Shot | U1: Scramble | AA1: Match
