Workbook

Sheet Teams
A1: Player Name | B1: Div | C1: Year | D1: Player # | E1: Team | F1: Born | G1: Age | H1: 30+ | I1: 40+ | J1: 50+ | K1: Exemptions | S1: Total Rating | T1: Tee | W1: Long Iron | Z1: Short Iron | AC1: Fairway Wood | AF1: Chipping | AI1: Putting | AL1: Aggression
K2: CA | L2: CA | M2: CA | N2: CA | O2: CH | P2: CH | Q2: CH | R2: PO | T2: 10-20 (.2) | U2: Inc/Dec | V2: New Rating | W2: 5-10 (.1) | X2: Inc/Dec | Y2: New Rating | Z2: 10-20 (.2) | AA2: Inc/Dec | AB2: New Rating | AC2: 5-10 (.1) | AD2: Inc/Dec | AE2: New Rating | AF2: 5-10 (.1) | AG2: Inc/Dec | AH2: New Rating | AI2: 15-30 (.3) | AJ2: Inc/Dec | AK2: New Rating | AL2: 0-100 (1) | AM2: Inc/Dec | AN2: New Rating
A3: Patrick Cantlay | B3: PGA | C3: 2024 | D3: 1 | E3: Drive | F3: 1992 | G3: =C3-F3 -> 32 | H3: 1 | S3: =V3+Y3+AB3+AE3+AH3+AK3 -> 76 | T3: 10 | U3: 28 | V3: =T3+(U3*0.2)-(H3*0.2)-(I3*0.2)-(J3*0.2) -> 15.4 | W3: 5 | X3: 20 | Y3: =W3+(X3*0.1)-(H3*0.1)-(I3*0.1)-(J3*0.1) -> 6.9 | Z3: 10 | AA3: 28 | AB3: =Z3+(AA3*0.2)-(H3*0.2)-(I3*0.2)-(J3*0.2) -> 15.4 | AC3: 5 | AD3: 23 | AE3: =AC3+(AD3*0.1)-(H3*0.1)-(I3*0.1)-(J3*0.1) -> 7.2 | AF3: 5 | AG3: 28 | AH3: =AF3+(AG3*0.1)-(H3*0.1)-(I3*0.1)-(J3*0.1) -> 7.7 | AI3: 15 | AJ3: 29 | AK3: =AI3+(AJ3*0.3)-(H3*0.3)-(I3*0.3)-(J3*0.3) -> 23.4 | AL3: 0 | AM3: 51 | AN3: =AL3+AM3 -> 51
A4: Justin Thomas | B4: PGA | C4: 2024 | D4: 2 | E4: Drive | F4: 1993 | G4: =C4-F4 -> 31 | H4: 1 | S4: =V4+Y4+AB4+AE4+AH4+AK4 -> 75.7 | T4: 10 | U4: 26 | V4: =T4+(U4*0.2)-(H4*0.2)-(I4*0.2)-(J4*0.2) -> 15 | W4: 5 | X4: 38 | Y4: =W4+(X4*0.1)-(H4*0.1)-(I4*0.1)-(J4*0.1) -> 8.7 | Z4: 10 | AA4: 25 | AB4: =Z4+(AA4*0.2)-(H4*0.2)-(I4*0.2)-(J4*0.2) -> 14.8 | AC4: 5 | AD4: 24 | AE4: =AC4+(AD4*0.1)-(H4*0.1)-(I4*0.1)-(J4*0.1) -> 7.3 | AF4: 5 | AG4: 25 | AH4: =AF4+(AG4*0.1)-(H4*0.1)-(I4*0.1)-(J4*0.1) -> 7.4 | AI4: 15 | AJ4: 26 | AK4: =AI4+(AJ4*0.3)-(H4*0.3)-(I4*0.3)-(J4*0.3) -> 22.5 | AL4: 0 | AM4: 48 | AN4: =AL4+AM4 -> 48
A5: Billy Horschel | B5: PGA | C5: 2024 | D5: 3 | E5: Drive | F5: 1986 | G5: =C5-F5 -> 38 | H5: 1 | S5: =V5+Y5+AB5+AE5+AH5+AK5 -> 74.2 | T5: 10 | U5: 36 | V5: =T5+(U5*0.2)-(H5*0.2)-(I5*0.2)-(J5*0.2) -> 17 | W5: 5 | X5: 30 | Y5: =W5+(X5*0.1)-(H5*0.1)-(I5*0.1)-(J5*0.1) -> 7.9 | Z5: 10 | AA5: 19 | AB5: =Z5+(AA5*0.2)-(H5*0.2)-(I5*0.2)-(J5*0.2) -> 13.6 | AC5: 5 | AD5: 22 | AE5: =AC5+(AD5*0.1)-(H5*0.1)-(I5*0.1)-(J5*0.1) -> 7.1 | AF5: 5 | AG5: 21 | AH5: =AF5+(AG5*0.1)-(H5*0.1)-(I5*0.1)-(J5*0.1) -> 7 | AI5: 15 | AJ5: 23 | AK5: =AI5+(AJ5*0.3)-(H5*0.3)-(I5*0.3)-(J5*0.3) -> 21.6 | AL5: 0 | AM5: 42 | AN5: =AL5+AM5 -> 42
A6: Lucas Glover | B6: PGA | C6: 2024 | D6: 4 | E6: Drive | F6: 1979 | G6: =C6-F6 -> 45 | H6: 1 | I6: 2 | K6: X | L6: X | M6: X | N6: X | S6: =V6+Y6+AB6+AE6+AH6+AK6 -> 74.2 | T6: 10 | U6: 31 | V6: =T6+(U6*0.2)-(H6*0.2)-(I6*0.2)-(J6*0.2) -> 15.6 | W6: 5 | X6: 39 | Y6: =W6+(X6*0.1)-(H6*0.1)-(I6*0.1)-(J6*0.1) -> 8.6 | Z6: 10 | AA6: 13 | AB6: =Z6+(AA6*0.2)-(H6*0.2)-(I6*0.2)-(J6*0.2) -> 12 | AC6: 5 | AD6: 41 | AE6: =AC6+(AD6*0.1)-(H6*0.1)-(I6*0.1)-(J6*0.1) -> 8.8 | AF6: 5 | AG6: 26 | AH6: =AF6+(AG6*0.1)-(H6*0.1)-(I6*0.1)-(J6*0.1) -> 7.3 | AI6: 15 | AJ6: 26 | AK6: =AI6+(AJ6*0.3)-(H6*0.3)-(I6*0.3)-(J6*0.3) -> 21.9 | AL6: 0 | AM6: 56 | AN6: =AL6+AM6 -> 56
A7: Drive Totals | E7: Average Age | G7: =AVERAGE(G3:G6) -> 36.5 | S7: =AVERAGE(S3:S6) -> 75.025 | T7: Tee Avg. | V7: =AVERAGE(V3:V6) -> 15.75 | W7: Long Iron Avg | Y7: =AVERAGE(Y3:Y6) -> 8.025 | Z7: Short Iron Avg | AB7: =AVERAGE(AB3:AB6) -> 13.95 | AC7: Fairway Wood Avg | AE7: =AVERAGE(AE3:AE6) -> 7.6 | AF7: Chipping Avg | AH7: =AVERAGE(AH3:AH6) -> 7.35 | AI7: Putting Avg | AK7: =AVERAGE(AK3:AK6) -> 22.35
A8: Hideki Matsuyama | B8: PGA | C8: 2024 | D8: 1 | E8: Common | F8: 1992 | G8: =C8-F8 -> 32 | H8: 1 | S8: =V8+Y8+AB8+AE8+AH8+AK8 -> 79.4 | T8: 10 | U8: 32 | V8: =T8+(U8*0.2)-(H8*0.2)-(I8*0.2)-(J8*0.2) -> 16.2 | W8: 5 | X8: 11 | Y8: =W8+(X8*0.1)-(H8*0.1)-(I8*0.1)-(J8*0.1) -> 6 | Z8: 10 | AA8: 31 | AB8: =Z8+(AA8*0.2)-(H8*0.2)-(I8*0.2)-(J8*0.2) -> 16 | AC8: 5 | AD8: 32 | AE8: =AC8+(AD8*0.1)-(H8*0.1)-(I8*0.1)-(J8*0.1) -> 8.1 | AF8: 5 | AG8: 15 | AH8: =AF8+(AG8*0.1)-(H8*0.1)-(I8*0.1)-(J8*0.1) -> 6.4 | AI8: 15 | AJ8: 40 | AK8: =AI8+(AJ8*0.3)-(H8*0.3)-(I8*0.3)-(J8*0.3) -> 26.7 | AL8: 0 | AM8: 41 | AN8: =AL8+AM8 -> 41
A9: Keegan Bradley | B9: PGA | C9: 2024 | D9: 2 | E9: Common | F9: 1986 | G9: =C9-F9 -> 38 | H9: 1 | S9: =V9+Y9+AB9+AE9+AH9+AK9 -> 74.4 | T9: 10 | U9: 17 | V9: =T9+(U9*0.2)-(H9*0.2)-(I9*0.2)-(J9*0.2) -> 13.2 | W9: 5 | X9: 28 | Y9: =W9+(X9*0.1)-(H9*0.1)-(I9*0.1)-(J9*0.1) -> 7.7 | Z9: 10 | AA9: 23 | AB9: =Z9+(AA9*0.2)-(H9*0.2)-(I9*0.2)-(J9*0.2) -> 14.4 | AC9: 5 | AD9: 26 | AE9: =AC9+(AD9*0.1)-(H9*0.1)-(I9*0.1)-(J9*0.1) -> 7.5 | AF9: 5 | AG9: 27 | AH9: =AF9+(AG9*0.1)-(H9*0.1)-(I9*0.1)-(J9*0.1) -> 7.6 | AI9: 15 | AJ9: 31 | AK9: =AI9+(AJ9*0.3)-(H9*0.3)-(I9*0.3)-(J9*0.3) -> 24 | AL9: 0 | AM9: 55 | AN9: =AL9+AM9 -> 55
A10: Rory McIlroy | B10: PGA | C10: 2024 | D10: 3 | E10: Common | F10: 1989 | G10: =C10-F10 -> 35 | H10: 1 | S10: =V10+Y10+AB10+AE10+AH10+AK10 -> 74 | T10: 10 | U10: 31 | V10: =T10+(U10*0.2)-(H10*0.2)-(I10*0.2)-(J10*0.2) -> 16 | W10: 5 | X10: 21 | Y10: =W10+(X10*0.1)-(H10*0.1)-(I10*0.1)-(J10*0.1) -> 7 | Z10: 10 | AA10: 18 | AB10: =Z10+(AA10*0.2)-(H10*0.2)-(I10*0.2)-(J10*0.2) -> 13.4 | AC10: 5 | AD10: 20 | AE10: =AC10+(AD10*0.1)-(H10*0.1)-(I10*0.1)-(J10*0.1) -> 6.9 | AF10: 5 | AG10: 27 | AH10: =AF10+(AG10*0.1)-(H10*0.1)-(I10*0.1)-(J10*0.1) -> 7.6 | AI10: 15 | AJ10: 28 | AK10: =AI10+(AJ10*0.3)-(H10*0.3)-(I10*0.3)-(J10*0.3) -> 23.1 | AL10: 0 | AM10: 46 | AN10: =AL10+AM10 -> 46
A11: Adam Scott | B11: PGA | C11: 2024 | D11: 4 | E11: Common | F11: 1980 | G11: =C11-F11 -> 44 | H11: 1 | I11: 2 | K11: X | L11: X | M11: X | N11: X | S11: =V11+Y11+AB11+AE11+AH11+AK11 -> 71.8 | T11: 10 | U11: 28 | V11: =T11+(U11*0.2)-(H11*0.2)-(I11*0.2)-(J11*0.2) -> 15 | W11: 5 | X11: 33 | Y11: =W11+(X11*0.1)-(H11*0.1)-(I11*0.1)-(J11*0.1) -> 8 | Z11: 10 | AA11: 30 | AB11: =Z11+(AA11*0.2)-(H11*0.2)-(I11*0.2)-(J11*0.2) -> 15.4 | AC11: 5 | AD11: 17 | AE11: =AC11+(AD11*0.1)-(H11*0.1)-(I11*0.1)-(J11*0.1) -> 6.4 | AF11: 5 | AG11: 31 | AH11: =AF11+(AG11*0.1)-(H11*0.1)-(I11*0.1)-(J11*0.1) -> 7.8 | AI11: 15 | AJ11: 17 | AK11: =AI11+(AJ11*0.3)-(H11*0.3)-(I11*0.3)-(J11*0.3) -> 19.2 | AL11: 0 | AM11: 58 | AN11: =AL11+AM11 -> 58
A12: Common Totals | E12: Average Age | G12: =AVERAGE(G8:G11) -> 37.25 | S12: =AVERAGE(S8:S11) -> 74.9 | T12: Tee Avg. | V12: =AVERAGE(V8:V11) -> 15.1 | W12: Long Iron Avg | Y12: =AVERAGE(Y8:Y11) -> 7.175 | Z12: Short Iron Avg | AB12: =AVERAGE(AB8:AB11) -> 14.8 | AC12: Fairway Wood Avg | AE12: =AVERAGE(AE8:AE11) -> 7.225 | AF12: Chipping Avg | AH12: =AVERAGE(AH8:AH11) -> 7.35 | AI12: Putting Avg | AK12: =AVERAGE(AK8:AK11) -> 23.25
A13: Max Homa | B13: PGA | C13: 2024 | D13: 1 | E13: Links | F13: 1990 | G13: =C13-F13 -> 34 | H13: 1 | S13: =V13+Y13+AB13+AE13+AH13+AK13 -> 72.9 | T13: 10 | U13: 16 | V13: =T13+(U13*0.2)-(H13*0.2)-(I13*0.2)-(J13*0.2) -> 13 | W13: 5 | X13: 20 | Y13: =W13+(X13*0.1)-(H13*0.1)-(I13*0.1)-(J13*0.1) -> 6.9 | Z13: 10 | AA13: 28 | AB13: =Z13+(AA13*0.2)-(H13*0.2)-(I13*0.2)-(J13*0.2) -> 15.4 | AC13: 5 | AD13: 31 | AE13: =AC13+(AD13*0.1)-(H13*0.1)-(I13*0.1)-(J13*0.1) -> 8 | AF13: 5 | AG13: 31 | AH13: =AF13+(AG13*0.1)-(H13*0.1)-(I13*0.1)-(J13*0.1) -> 8 | AI13: 15 | AJ13: 23 | AK13: =AI13+(AJ13*0.3)-(H13*0.3)-(I13*0.3)-(J13*0.3) -> 21.6 | AL13: 0 | AM13: 45 | AN13: =AL13+AM13 -> 45
A14: Tiger Woods | B14: PGA | C14: 2024 | D14: 2 | E14: Links | F14: 1975 | G14: =C14-F14 -> 49 | H14: 1 | I14: 2 | K14: X | L14: X | M14: X | N14: X | S14: =V14+Y14+AB14+AE14+AH14+AK14 -> 71.4 | T14: 10 | U14: 16 | V14: =T14+(U14*0.2)-(H14*0.2)-(I14*0.2)-(J14*0.2) -> 12.6 | W14: 5 | X14: 28 | Y14: =W14+(X14*0.1)-(H14*0.1)-(I14*0.1)-(J14*0.1) -> 7.5 | Z14: 10 | AA14: 26 | AB14: =Z14+(AA14*0.2)-(H14*0.2)-(I14*0.2)-(J14*0.2) -> 14.6 | AC14: 5 | AD14: 22 | AE14: =AC14+(AD14*0.1)-(H14*0.1)-(I14*0.1)-(J14*0.1) -> 6.9 | AF14: 5 | AG14: 23 | AH14: =AF14+(AG14*0.1)-(H14*0.1)-(I14*0.1)-(J14*0.1) -> 7 | AI14: 15 | AJ14: 29 | AK14: =AI14+(AJ14*0.3)-(H14*0.3)-(I14*0.3)-(J14*0.3) -> 22.8 | AL14: 0 | AM14: 59 | AN14: =AL14+AM14 -> 59
A15: Tom Kim | B15: PGA | C15: 2024 | D15: 3 | E15: Links | F15: 2002 | G15: =C15-F15 -> 22 | S15: =V15+Y15+AB15+AE15+AH15+AK15 -> 71.1 | T15: 10 | U15: 14 | V15: =T15+(U15*0.2)-(H15*0.2)-(I15*0.2)-(J15*0.2) -> 12.8 | W15: 5 | X15: 17 | Y15: =W15+(X15*0.1)-(H15*0.1)-(I15*0.1)-(J15*0.1) -> 6.7 | Z15: 10 | AA15: 34 | AB15: =Z15+(AA15*0.2)-(H15*0.2)-(I15*0.2)-(J15*0.2) -> 16.8 | AC15: 5 | AD15: 18 | AE15: =AC15+(AD15*0.1)-(H15*0.1)-(I15*0.1)-(J15*0.1) -> 6.8 | AF15: 5 | AG15: 20 | AH15: =AF15+(AG15*0.1)-(H15*0.1)-(I15*0.1)-(J15*0.1) -> 7 | AI15: 15 | AJ15: 20 | AK15: =AI15+(AJ15*0.3)-(H15*0.3)-(I15*0.3)-(J15*0.3) -> 21 | AL15: 0 | AM15: 40 | AN15: =AL15+AM15 -> 40
A16: Kevin Kisner | B16: PGA | C16: 2024 | D16: 4 | E16: Links | F16: 1984 | G16: =C16-F16 -> 40 | H16: 1 | I16: 2 | S16: =V16+Y16+AB16+AE16+AH16+AK16 -> 67 | T16: 10 | U16: 26 | V16: =T16+(U16*0.2)-(H16*0.2)-(I16*0.2)-(J16*0.2) -> 14.6 | W16: 5 | X16: 14 | Y16: =W16+(X16*0.1)-(H16*0.1)-(I16*0.1)-(J16*0.1) -> 6.1 | Z16: 10 | AA16: 19 | AB16: =Z16+(AA16*0.2)-(H16*0.2)-(I16*0.2)-(J16*0.2) -> 13.2 | AC16: 5 | AD16: 13 | AE16: =AC16+(AD16*0.1)-(H16*0.1)-(I16*0.1)-(J16*0.1) -> 6 | AF16: 5 | AG16: 20 | AH16: =AF16+(AG16*0.1)-(H16*0.1)-(I16*0.1)-(J16*0.1) -> 6.7 | AI16: 15 | AJ16: 21 | AK16: =AI16+(AJ16*0.3)-(H16*0.3)-(I16*0.3)-(J16*0.3) -> 20.4 | AL16: 0 | AM16: 51 | AN16: =AL16+AM16 -> 51
A17: Links Totals | E17: Average Age | G17: =AVERAGE(G13:G16) -> 36.25 | S17: =AVERAGE(S13:S16) -> 70.6 | T17: Tee Avg. | V17: =AVERAGE(V13:V16) -> 13.25 | W17: Long Iron Avg | Y17: =AVERAGE(Y13:Y16) -> 6.8 | Z17: Short Iron Avg | AB17: =AVERAGE(AB13:AB16) -> 15 | AC17: Fairway Wood Avg | AE17: =AVERAGE(AE13:AE16) -> 6.925 | AF17: Chipping Avg | AH17: =AVERAGE(AH13:AH16) -> 7.175 | AI17: Putting Avg | AK17: =AVERAGE(AK13:AK16) -> 21.45
A18: Sahith Theegala | B18: PGA | C18: 2024 | D18: 1 | E18: LAGC | F18: 1997 | G18: =C18-F18 -> 27 | S18: =V18+Y18+AB18+AE18+AH18+AK18 -> 76.4 | T18: 10 | U18: 40 | V18: =T18+(U18*0.2)-(H18*0.2)-(I18*0.2)-(J18*0.2) -> 18 | W18: 5 | X18: 32 | Y18: =W18+(X18*0.1)-(H18*0.1)-(I18*0.1)-(J18*0.1) -> 8.2 | Z18: 10 | AA18: 17 | AB18: =Z18+(AA18*0.2)-(H18*0.2)-(I18*0.2)-(J18*0.2) -> 13.4 | AC18: 5 | AD18: 36 | AE18: =AC18+(AD18*0.1)-(H18*0.1)-(I18*0.1)-(J18*0.1) -> 8.6 | AF18: 5 | AG18: 22 | AH18: =AF18+(AG18*0.1)-(H18*0.1)-(I18*0.1)-(J18*0.1) -> 7.2 | AI18: 15 | AJ18: 20 | AK18: =AI18+(AJ18*0.3)-(H18*0.3)-(I18*0.3)-(J18*0.3) -> 21 | AL18: 0 | AM18: 59 | AN18: =AL18+AM18 -> 59
A19: Collin Morikawa | B19: PGA | C19: 2024 | D19: 2 | E19: LAGC | F19: 1997 | G19: =C19-F19 -> 27 | S19: =V19+Y19+AB19+AE19+AH19+AK19 -> 75.7 | T19: 10 | U19: 19 | V19: =T19+(U19*0.2)-(H19*0.2)-(I19*0.2)-(J19*0.2) -> 13.8 | W19: 5 | X19: 26 | Y19: =W19+(X19*0.1)-(H19*0.1)-(I19*0.1)-(J19*0.1) -> 7.6 | Z19: 10 | AA19: 26 | AB19: =Z19+(AA19*0.2)-(H19*0.2)-(I19*0.2)-(J19*0.2) -> 15.2 | AC19: 5 | AD19: 32 | AE19: =AC19+(AD19*0.1)-(H19*0.1)-(I19*0.1)-(J19*0.1) -> 8.2 | AF19: 5 | AG19: 25 | AH19: =AF19+(AG19*0.1)-(H19*0.1)-(I19*0.1)-(J19*0.1) -> 7.5 | AI19: 15 | AJ19: 28 | AK19: =AI19+(AJ19*0.3)-(H19*0.3)-(I19*0.3)-(J19*0.3) -> 23.4 | AL19: 0 | AM19: 59 | AN19: =AL19+AM19 -> 59
A20: Tommy Fleetwood | B20: PGA | C20: 2024 | D20: 3 | E20: LAGC | F20: 1991 | G20: =C20-F20 -> 33 | H20: 1 | S20: =V20+Y20+AB20+AE20+AH20+AK20 -> 73.3 | T20: 10 | U20: 22 | V20: =T20+(U20*0.2)-(H20*0.2)-(I20*0.2)-(J20*0.2) -> 14.2 | W20: 5 | X20: 33 | Y20: =W20+(X20*0.1)-(H20*0.1)-(I20*0.1)-(J20*0.1) -> 8.2 | Z20: 10 | AA20: 29 | AB20: =Z20+(AA20*0.2)-(H20*0.2)-(I20*0.2)-(J20*0.2) -> 15.6 | AC20: 5 | AD20: 25 | AE20: =AC20+(AD20*0.1)-(H20*0.1)-(I20*0.1)-(J20*0.1) -> 7.4 | AF20: 5 | AG20: 29 | AH20: =AF20+(AG20*0.1)-(H20*0.1)-(I20*0.1)-(J20*0.1) -> 7.8 | AI20: 15 | AJ20: 18 | AK20: =AI20+(AJ20*0.3)-(H20*0.3)-(I20*0.3)-(J20*0.3) -> 20.1 | AL20: 0 | AM20: 60 | AN20: =AL20+AM20 -> 60
A21: Justin Rose | B21: PGA | C21: 2024 | D21: 4 | E21: LAGC | F21: 1980 | G21: =C21-F21 -> 44 | H21: 1 | I21: 2 | K21: X | L21: X | M21: X | N21: X | S21: =V21+Y21+AB21+AE21+AH21+AK21 -> 72.5 | T21: 10 | U21: 29 | V21: =T21+(U21*0.2)-(H21*0.2)-(I21*0.2)-(J21*0.2) -> 15.2 | W21: 5 | X21: 10 | Y21: =W21+(X21*0.1)-(H21*0.1)-(I21*0.1)-(J21*0.1) -> 5.7 | Z21: 10 | AA21: 31 | AB21: =Z21+(AA21*0.2)-(H21*0.2)-(I21*0.2)-(J21*0.2) -> 15.6 | AC21: 5 | AD21: 19 | AE21: =AC21+(AD21*0.1)-(H21*0.1)-(I21*0.1)-(J21*0.1) -> 6.6 | AF21: 5 | AG21: 31 | AH21: =AF21+(AG21*0.1)-(H21*0.1)-(I21*0.1)-(J21*0.1) -> 7.8 | AI21: 15 | AJ21: 25 | AK21: =AI21+(AJ21*0.3)-(H21*0.3)-(I21*0.3)-(J21*0.3) -> 21.6 | AL21: 0 | AM21: 51 | AN21: =AL21+AM21 -> 51
A22: LAGC Totals | E22: Average Age | G22: =AVERAGE(G18:G21) -> 32.75 | S22: =AVERAGE(S18:S21) -> 74.475 | T22: Tee Avg. | V22: =AVERAGE(V18:V21) -> 15.3 | W22: Long Iron Avg | Y22: =AVERAGE(Y18:Y21) -> 7.425 | Z22: Short Iron Avg | AB22: =AVERAGE(AB18:AB21) -> 14.95 | AC22: Fairway Wood Avg | AE22: =AVERAGE(AE18:AE21) -> 7.7 | AF22: Chipping Avg | AH22: =AVERAGE(AH18:AH21) -> 7.575 | AI22: Putting Avg | AK22: =AVERAGE(AK18:AK21) -> 21.525
A23: Rickie Fowler | B23: PGA | C23: 2024 | D23: 1 | E23: NYGC | F23: 1988 | G23: =C23-F23 -> 36 | H23: 1 | K23: X | L23: X | M23: X | N23: X | S23: =V23+Y23+AB23+AE23+AH23+AK23 -> 74.5 | T23: 10 | U23: 35 | V23: =T23+(U23*0.2)-(H23*0.2)-(I23*0.2)-(J23*0.2) -> 16.8 | W23: 5 | X23: 17 | Y23: =W23+(X23*0.1)-(H23*0.1)-(I23*0.1)-(J23*0.1) -> 6.6 | Z23: 10 | AA23: 31 | AB23: =Z23+(AA23*0.2)-(H23*0.2)-(I23*0.2)-(J23*0.2) -> 16 | AC23: 5 | AD23: 26 | AE23: =AC23+(AD23*0.1)-(H23*0.1)-(I23*0.1)-(J23*0.1) -> 7.5 | AF23: 5 | AG23: 17 | AH23: =AF23+(AG23*0.1)-(H23*0.1)-(I23*0.1)-(J23*0.1) -> 6.6 | AI23: 15 | AJ23: 21 | AK23: =AI23+(AJ23*0.3)-(H23*0.3)-(I23*0.3)-(J23*0.3) -> 21 | AL23: 0 | AM23: 52 | AN23: =AL23+AM23 -> 52
A24: Cameron Young | B24: PGA | C24: 2024 | D24: 2 | E24: NYGC | F24: 1997 | G24: =C24-F24 -> 27 | S24: =V24+Y24+AB24+AE24+AH24+AK24 -> 74 | T24: 10 | U24: 24 | V24: =T24+(U24*0.2)-(H24*0.2)-(I24*0.2)-(J24*0.2) -> 14.8 | W24: 5 | X24: 23 | Y24: =W24+(X24*0.1)-(H24*0.1)-(I24*0.1)-(J24*0.1) -> 7.3 | Z24: 10 | AA24: 31 | AB24: =Z24+(AA24*0.2)-(H24*0.2)-(I24*0.2)-(J24*0.2) -> 16.2 | AC24: 5 | AD24: 17 | AE24: =AC24+(AD24*0.1)-(H24*0.1)-(I24*0.1)-(J24*0.1) -> 6.7 | AF24: 5 | AG24: 24 | AH24: =AF24+(AG24*0.1)-(H24*0.1)-(I24*0.1)-(J24*0.1) -> 7.4 | AI24: 15 | AJ24: 22 | AK24: =AI24+(AJ24*0.3)-(H24*0.3)-(I24*0.3)-(J24*0.3) -> 21.6 | AL24: 0 | AM24: 58 | AN24: =AL24+AM24 -> 58
A25: Matt Fitzpatrick | B25: PGA | C25: 2024 | D25: 3 | E25: NYGC | F25: 1994 | G25: =C25-F25 -> 30 | H25: 1 | S25: =V25+Y25+AB25+AE25+AH25+AK25 -> 73.6 | T25: 10 | U25: 19 | V25: =T25+(U25*0.2)-(H25*0.2)-(I25*0.2)-(J25*0.2) -> 13.6 | W25: 5 | X25: 25 | Y25: =W25+(X25*0.1)-(H25*0.1)-(I25*0.1)-(J25*0.1) -> 7.4 | Z25: 10 | AA25: 24 | AB25: =Z25+(AA25*0.2)-(H25*0.2)-(I25*0.2)-(J25*0.2) -> 14.6 | AC25: 5 | AD25: 26 | AE25: =AC25+(AD25*0.1)-(H25*0.1)-(I25*0.1)-(J25*0.1) -> 7.5 | AF25: 5 | AG25: 16 | AH25: =AF25+(AG25*0.1)-(H25*0.1)-(I25*0.1)-(J25*0.1) -> 6.5 | AI25: 15 | AJ25: 31 | AK25: =AI25+(AJ25*0.3)-(H25*0.3)-(I25*0.3)-(J25*0.3) -> 24 | AL25: 0 | AM25: 54 | AN25: =AL25+AM25 -> 54
A26: Xander Schauffele | B26: PGA | C26: 2024 | D26: 4 | E26: NYGC | F26: 1993 | G26: =C26-F26 -> 31 | H26: 1 | S26: =V26+Y26+AB26+AE26+AH26+AK26 -> 71.9 | T26: 10 | U26: 22 | V26: =T26+(U26*0.2)-(H26*0.2)-(I26*0.2)-(J26*0.2) -> 14.2 | W26: 5 | X26: 23 | Y26: =W26+(X26*0.1)-(H26*0.1)-(I26*0.1)-(J26*0.1) -> 7.2 | Z26: 10 | AA26: 21 | AB26: =Z26+(AA26*0.2)-(H26*0.2)-(I26*0.2)-(J26*0.2) -> 14 | AC26: 5 | AD26: 25 | AE26: =AC26+(AD26*0.1)-(H26*0.1)-(I26*0.1)-(J26*0.1) -> 7.4 | AF26: 5 | AG26: 23 | AH26: =AF26+(AG26*0.1)-(H26*0.1)-(I26*0.1)-(J26*0.1) -> 7.2 | AI26: 15 | AJ26: 24 | AK26: =AI26+(AJ26*0.3)-(H26*0.3)-(I26*0.3)-(J26*0.3) -> 21.9 | AL26: 0 | AM26: 49 | AN26: =AL26+AM26 -> 49
A27: NYGC Totals | E27: Average Age | G27: =AVERAGE(G23:G26) -> 31 | S27: =AVERAGE(S23:S26) -> 73.5 | T27: Tee Avg. | V27: =AVERAGE(V23:V26) -> 14.85 | W27: Long Iron Avg | Y27: =AVERAGE(Y23:Y26) -> 7.125 | Z27: Short Iron Avg | AB27: =AVERAGE(AB23:AB26) -> 15.2 | AC27: Fairway Wood Avg | AE27: =AVERAGE(AE23:AE26) -> 7.275 | AF27: Chipping Avg | AH27: =AVERAGE(AH23:AH26) -> 6.925 | AI27: Putting Avg | AK27: =AVERAGE(AK23:AK26) -> 22.125
A28: Min Woo Lee | B28: PGA | C28: 2024 | D28: 1 | E28: BGC | F28: 1998 | G28: =C28-F28 -> 26 | S28: =V28+Y28+AB28+AE28+AH28+AK28 -> 80.5 | T28: 10 | U28: 23 | V28: =T28+(U28*0.2)-(H28*0.2)-(I28*0.2)-(J28*0.2) -> 14.6 | W28: 5 | X28: 35 | Y28: =W28+(X28*0.1)-(H28*0.1)-(I28*0.1)-(J28*0.1) -> 8.5 | Z28: 10 | AA28: 26 | AB28: =Z28+(AA28*0.2)-(H28*0.2)-(I28*0.2)-(J28*0.2) -> 15.2 | AC28: 5 | AD28: 28 | AE28: =AC28+(AD28*0.1)-(H28*0.1)-(I28*0.1)-(J28*0.1) -> 7.8 | AF28: 5 | AG28: 30 | AH28: =AF28+(AG28*0.1)-(H28*0.1)-(I28*0.1)-(J28*0.1) -> 8 | AI28: 15 | AJ28: 38 | AK28: =AI28+(AJ28*0.3)-(H28*0.3)-(I28*0.3)-(J28*0.3) -> 26.4 | AL28: 0 | AM28: 55 | AN28: =AL28+AM28 -> 55
A29: Shane Lowry | B29: PGA | C29: 2024 | D29: 2 | E29: BGC | F29: 1987 | G29: =C29-F29 -> 37 | H29: 1 | K29: X | L29: X | M29: X | N29: X | S29: =V29+Y29+AB29+AE29+AH29+AK29 -> 79.1 | T29: 10 | U29: 20 | V29: =T29+(U29*0.2)-(H29*0.2)-(I29*0.2)-(J29*0.2) -> 13.8 | W29: 5 | X29: 24 | Y29: =W29+(X29*0.1)-(H29*0.1)-(I29*0.1)-(J29*0.1) -> 7.3 | Z29: 10 | AA29: 31 | AB29: =Z29+(AA29*0.2)-(H29*0.2)-(I29*0.2)-(J29*0.2) -> 16 | AC29: 5 | AD29: 42 | AE29: =AC29+(AD29*0.1)-(H29*0.1)-(I29*0.1)-(J29*0.1) -> 9.1 | AF29: 5 | AG29: 37 | AH29: =AF29+(AG29*0.1)-(H29*0.1)-(I29*0.1)-(J29*0.1) -> 8.6 | AI29: 15 | AJ29: 32 | AK29: =AI29+(AJ29*0.3)-(H29*0.3)-(I29*0.3)-(J29*0.3) -> 24.3 | AL29: 0 | AM29: 59 | AN29: =AL29+AM29 -> 59
A30: Wyndham Clark | B30: PGA | C30: 2024 | D30: 3 | E30: BGC | F30: 1993 | G30: =C30-F30 -> 31 | H30: 1 | S30: =V30+Y30+AB30+AE30+AH30+AK30 -> 74.6 | T30: 10 | U30: 31 | V30: =T30+(U30*0.2)-(H30*0.2)-(I30*0.2)-(J30*0.2) -> 16 | W30: 5 | X30: 29 | Y30: =W30+(X30*0.1)-(H30*0.1)-(I30*0.1)-(J30*0.1) -> 7.8 | Z30: 10 | AA30: 20 | AB30: =Z30+(AA30*0.2)-(H30*0.2)-(I30*0.2)-(J30*0.2) -> 13.8 | AC30: 5 | AD30: 23 | AE30: =AC30+(AD30*0.1)-(H30*0.1)-(I30*0.1)-(J30*0.1) -> 7.2 | AF30: 5 | AG30: 24 | AH30: =AF30+(AG30*0.1)-(H30*0.1)-(I30*0.1)-(J30*0.1) -> 7.3 | AI30: 15 | AJ30: 26 | AK30: =AI30+(AJ30*0.3)-(H30*0.3)-(I30*0.3)-(J30*0.3) -> 22.5 | AL30: 0 | AM30: 52 | AN30: =AL30+AM30 -> 52
A31: Ludvig Aberg | B31: PGA | C31: 2024 | D31: 4 | E31: BGC | F31: 1999 | G31: =C31-F31 -> 25 | S31: =V31+Y31+AB31+AE31+AH31+AK31 -> 72.5 | T31: 10 | U31: 28 | V31: =T31+(U31*0.2)-(H31*0.2)-(I31*0.2)-(J31*0.2) -> 15.6 | W31: 5 | X31: 23 | Y31: =W31+(X31*0.1)-(H31*0.1)-(I31*0.1)-(J31*0.1) -> 7.3 | Z31: 10 | AA31: 16 | AB31: =Z31+(AA31*0.2)-(H31*0.2)-(I31*0.2)-(J31*0.2) -> 13.2 | AC31: 5 | AD31: 24 | AE31: =AC31+(AD31*0.1)-(H31*0.1)-(I31*0.1)-(J31*0.1) -> 7.4 | AF31: 5 | AG31: 12 | AH31: =AF31+(AG31*0.1)-(H31*0.1)-(I31*0.1)-(J31*0.1) -> 6.2 | AI31: 15 | AJ31: 26 | AK31: =AI31+(AJ31*0.3)-(H31*0.3)-(I31*0.3)-(J31*0.3) -> 22.8 | AL31: 0 | AM31: 47 | AN31: =AL31+AM31 -> 47
A32: BGC Totals | E32: Average Age | G32: =AVERAGE(G28:G31) -> 29.75 | S32: =AVERAGE(S28:S31) -> 76.675 | T32: Tee Avg. | V32: =AVERAGE(V28:V31) -> 15 | W32: Long Iron Avg | Y32: =AVERAGE(Y28:Y31) -> 7.725 | Z32: Short Iron Avg | AB32: =AVERAGE(AB28:AB31) -> 14.55 | AC32: Fairway Wood Avg | AE32: =AVERAGE(AE28:AE31) -> 7.875 | AF32: Chipping Avg | AH32: =AVERAGE(AH28:AH31) -> 7.525 | AI32: Putting Avg | AK32: =AVERAGE(AK28:AK31) -> 24
A33: Scottie Scheffler | B33: PGA | C33: 2024 | D33: 1 | E33: Scramblers | F33: 1996 | G33: =C33-F33 -> 28 | S33: =V33+Y33+AB33+AE33+AH33+AK33 -> 77.2 | T33: 10 | U33: 28 | V33: =T33+(U33*0.2)-(H33*0.2)-(I33*0.2)-(J33*0.2) -> 15.6 | W33: 5 | X33: 29 | Y33: =W33+(X33*0.1)-(H33*0.1)-(I33*0.1)-(J33*0.1) -> 7.9 | Z33: 10 | AA33: 28 | AB33: =Z33+(AA33*0.2)-(H33*0.2)-(I33*0.2)-(J33*0.2) -> 15.6 | AC33: 5 | AD33: 14 | AE33: =AC33+(AD33*0.1)-(H33*0.1)-(I33*0.1)-(J33*0.1) -> 6.4 | AF33: 5 | AG33: 30 | AH33: =AF33+(AG33*0.1)-(H33*0.1)-(I33*0.1)-(J33*0.1) -> 8 | AI33: 15 | AJ33: 29 | AK33: =AI33+(AJ33*0.3)-(H33*0.3)-(I33*0.3)-(J33*0.3) -> 23.7 | AL33: 0 | AM33: 57 | AN33: =AL33+AM33 -> 57
A34: Will Zalatoris | B34: PGA | C34: 2024 | D34: 2 | E34: Scramblers | F34: 1996 | G34: =C34-F34 -> 28 | S34: =V34+Y34+AB34+AE34+AH34+AK34 -> 71.9 | T34: 10 | U34: 31 | V34: =T34+(U34*0.2)-(H34*0.2)-(I34*0.2)-(J34*0.2) -> 16.2 | W34: 5 | X34: 19 | Y34: =W34+(X34*0.1)-(H34*0.1)-(I34*0.1)-(J34*0.1) -> 6.9 | Z34: 10 | AA34: 26 | AB34: =Z34+(AA34*0.2)-(H34*0.2)-(I34*0.2)-(J34*0.2) -> 15.2 | AC34: 5 | AD34: 34 | AE34: =AC34+(AD34*0.1)-(H34*0.1)-(I34*0.1)-(J34*0.1) -> 8.4 | AF34: 5 | AG34: 28 | AH34: =AF34+(AG34*0.1)-(H34*0.1)-(I34*0.1)-(J34*0.1) -> 7.8 | AI34: 15 | AJ34: 8 | AK34: =AI34+(AJ34*0.3)-(H34*0.3)-(I34*0.3)-(J34*0.3) -> 17.4 | AL34: 0 | AM34: 57 | AN34: =AL34+AM34 -> 57
A35: Sam Burns | B35: PGA | C35: 2024 | D35: 3 | E35: Scramblers | F35: 1996 | G35: =C35-F35 -> 28 | S35: =V35+Y35+AB35+AE35+AH35+AK35 -> 71.7 | T35: 10 | U35: 24 | V35: =T35+(U35*0.2)-(H35*0.2)-(I35*0.2)-(J35*0.2) -> 14.8 | W35: 5 | X35: 29 | Y35: =W35+(X35*0.1)-(H35*0.1)-(I35*0.1)-(J35*0.1) -> 7.9 | Z35: 10 | AA35: 15 | AB35: =Z35+(AA35*0.2)-(H35*0.2)-(I35*0.2)-(J35*0.2) -> 13 | AC35: 5 | AD35: 16 | AE35: =AC35+(AD35*0.1)-(H35*0.1)-(I35*0.1)-(J35*0.1) -> 6.6 | AF35: 5 | AG35: 22 | AH35: =AF35+(AG35*0.1)-(H35*0.1)-(I35*0.1)-(J35*0.1) -> 7.2 | AI35: 15 | AJ35: 24 | AK35: =AI35+(AJ35*0.3)-(H35*0.3)-(I35*0.3)-(J35*0.3) -> 22.2 | AL35: 0 | AM35: 58 | AN35: =AL35+AM35 -> 58
A36: Tony Finau | B36: PGA | C36: 2024 | D36: 4 | E36: Scramblers | F36: 1989 | G36: =C36-F36 -> 35 | H36: 1 | K36: X | L36: X | M36: X | N36: X | S36: =V36+Y36+AB36+AE36+AH36+AK36 -> 65.9 | T36: 10 | U36: 15 | V36: =T36+(U36*0.2)-(H36*0.2)-(I36*0.2)-(J36*0.2) -> 12.8 | W36: 5 | X36: 16 | Y36: =W36+(X36*0.1)-(H36*0.1)-(I36*0.1)-(J36*0.1) -> 6.5 | Z36: 10 | AA36: 11 | AB36: =Z36+(AA36*0.2)-(H36*0.2)-(I36*0.2)-(J36*0.2) -> 12 | AC36: 5 | AD36: 21 | AE36: =AC36+(AD36*0.1)-(H36*0.1)-(I36*0.1)-(J36*0.1) -> 7 | AF36: 5 | AG36: 26 | AH36: =AF36+(AG36*0.1)-(H36*0.1)-(I36*0.1)-(J36*0.1) -> 7.5 | AI36: 15 | AJ36: 18 | AK36: =AI36+(AJ36*0.3)-(H36*0.3)-(I36*0.3)-(J36*0.3) -> 20.1 | AL36: 0 | AM36: 51 | AN36: =AL36+AM36 -> 51
A37: Scramblers Totals | E37: Average Age | G37: =AVERAGE(G33:G36) -> 29.75 | S37: =AVERAGE(S33:S36) -> 71.675 | T37: Tee Avg. | V37: =AVERAGE(V33:V36) -> 14.85 | W37: Long Iron Avg | Y37: =AVERAGE(Y33:Y36) -> 7.3 | Z37: Short Iron Avg | AB37: =AVERAGE(AB33:AB36) -> 13.95 | AC37: Fairway Wood Avg | AE37: =AVERAGE(AE33:AE36) -> 7.1 | AF37: Chipping Avg | AH37: =AVERAGE(AH33:AH36) -> 7.625 | AI37: Putting Avg | AK37: =AVERAGE(AK33:AK36) -> 20.85
A38: Chris Kirk | B38: PGA | C38: 2024 | D38: 1 | E38: Rough Riders | F38: 1985 | G38: =C38-F38 -> 39 | H38: 1 | K38: X | L38: X | M38: X | N38: X | S38: =V38+Y38+AB38+AE38+AH38+AK38 -> 76.8 | T38: 10 | U38: 27 | V38: =T38+(U38*0.2)-(H38*0.2)-(I38*0.2)-(J38*0.2) -> 15.2 | W38: 5 | X38: 12 | Y38: =W38+(X38*0.1)-(H38*0.1)-(I38*0.1)-(J38*0.1) -> 6.1 | Z38: 10 | AA38: 25 | AB38: =Z38+(AA38*0.2)-(H38*0.2)-(I38*0.2)-(J38*0.2) -> 14.8 | AC38: 5 | AD38: 38 | AE38: =AC38+(AD38*0.1)-(H38*0.1)-(I38*0.1)-(J38*0.1) -> 8.7 | AF38: 5 | AG38: 28 | AH38: =AF38+(AG38*0.1)-(H38*0.1)-(I38*0.1)-(J38*0.1) -> 7.7 | AI38: 15 | AJ38: 32 | AK38: =AI38+(AJ38*0.3)-(H38*0.3)-(I38*0.3)-(J38*0.3) -> 24.3 | AL38: 0 | AM38: 58 | AN38: =AL38+AM38 -> 58
A39: Jason Day | B39: PGA | C39: 2024 | D39: 2 | E39: Rough Riders | F39: 1987 | G39: =C39-F39 -> 37 | H39: 1 | S39: =V39+Y39+AB39+AE39+AH39+AK39 -> 76 | T39: 10 | U39: 27 | V39: =T39+(U39*0.2)-(H39*0.2)-(I39*0.2)-(J39*0.2) -> 15.2 | W39: 5 | X39: 23 | Y39: =W39+(X39*0.1)-(H39*0.1)-(I39*0.1)-(J39*0.1) -> 7.2 | Z39: 10 | AA39: 22 | AB39: =Z39+(AA39*0.2)-(H39*0.2)-(I39*0.2)-(J39*0.2) -> 14.2 | AC39: 5 | AD39: 35 | AE39: =AC39+(AD39*0.1)-(H39*0.1)-(I39*0.1)-(J39*0.1) -> 8.4 | AF39: 5 | AG39: 27 | AH39: =AF39+(AG39*0.1)-(H39*0.1)-(I39*0.1)-(J39*0.1) -> 7.6 | AI39: 15 | AJ39: 29 | AK39: =AI39+(AJ39*0.3)-(H39*0.3)-(I39*0.3)-(J39*0.3) -> 23.4 | AL39: 0 | AM39: 43 | AN39: =AL39+AM39 -> 43
A40: Akshay Bhatia | B40: PGA | C40: 2024 | D40: 3 | E40: Rough Riders | F40: 2002 | G40: =C40-F40 -> 22 | S40: =V40+Y40+AB40+AE40+AH40+AK40 -> 75.4 | T40: 10 | U40: 7 | V40: =T40+(U40*0.2)-(H40*0.2)-(I40*0.2)-(J40*0.2) -> 11.4 | W40: 5 | X40: 22 | Y40: =W40+(X40*0.1)-(H40*0.1)-(I40*0.1)-(J40*0.1) -> 7.2 | Z40: 10 | AA40: 24 | AB40: =Z40+(AA40*0.2)-(H40*0.2)-(I40*0.2)-(J40*0.2) -> 14.8 | AC40: 5 | AD40: 22 | AE40: =AC40+(AD40*0.1)-(H40*0.1)-(I40*0.1)-(J40*0.1) -> 7.2 | AF40: 5 | AG40: 19 | AH40: =AF40+(AG40*0.1)-(H40*0.1)-(I40*0.1)-(J40*0.1) -> 6.9 | AI40: 15 | AJ40: 43 | AK40: =AI40+(AJ40*0.3)-(H40*0.3)-(I40*0.3)-(J40*0.3) -> 27.9 | AL40: 0 | AM40: 50 | AN40: =AL40+AM40 -> 50
A41: Viktor Hovland | B41: PGA | C41: 2024 | D41: 4 | E41: Rough Riders | F41: 1997 | G41: =C41-F41 -> 27 | S41: =V41+Y41+AB41+AE41+AH41+AK41 -> 73.9 | T41: 10 | U41: 28 | V41: =T41+(U41*0.2)-(H41*0.2)-(I41*0.2)-(J41*0.2) -> 15.6 | W41: 5 | X41: 12 | Y41: =W41+(X41*0.1)-(H41*0.1)-(I41*0.1)-(J41*0.1) -> 6.2 | Z41: 10 | AA41: 17 | AB41: =Z41+(AA41*0.2)-(H41*0.2)-(I41*0.2)-(J41*0.2) -> 13.4 | AC41: 5 | AD41: 22 | AE41: =AC41+(AD41*0.1)-(H41*0.1)-(I41*0.1)-(J41*0.1) -> 7.2 | AF41: 5 | AG41: 28 | AH41: =AF41+(AG41*0.1)-(H41*0.1)-(I41*0.1)-(J41*0.1) -> 7.8 | AI41: 15 | AJ41: 29 | AK41: =AI41+(AJ41*0.3)-(H41*0.3)-(I41*0.3)-(J41*0.3) -> 23.7 | AL41: 0 | AM41: 55 | AN41: =AL41+AM41 -> 55
A42: Rough Riders Totals | E42: Average Age | G42: =AVERAGE(G38:G41) -> 31.25 | S42: =AVERAGE(S38:S41) -> 75.525 | T42: Tee Avg. | V42: =AVERAGE(V38:V41) -> 14.35 | W42: Long Iron Avg | Y42: =AVERAGE(Y38:Y41) -> 6.675 | Z42: Short Iron Avg | AB42: =AVERAGE(AB38:AB41) -> 14.3 | AC42: Fairway Wood Avg | AE42: =AVERAGE(AE38:AE41) -> 7.875 | AF42: Chipping Avg | AH42: =AVERAGE(AH38:AH41) -> 7.5 | AI42: Putting Avg | AK42: =AVERAGE(AK38:AK41) -> 24.825
A43: Bryson DeChambeau | B43: LIV | C43: 2024 | D43: 1 | E43: Crushers | F43: 1993 | G43: =C43-F43 -> 31 | H43: 1 | S43: =V43+Y43+AB43+AE43+AH43+AK43 -> 78.7 | T43: 10 | U43: 36 | V43: =T43+(U43*0.2)-(H43*0.2)-(I43*0.2)-(J43*0.2) -> 17 | W43: 5 | X43: 29 | Y43: =W43+(X43*0.1)-(H43*0.1)-(I43*0.1)-(J43*0.1) -> 7.8 | Z43: 10 | AA43: 42 | AB43: =Z43+(AA43*0.2)-(H43*0.2)-(I43*0.2)-(J43*0.2) -> 18.2 | AC43: 5 | AD43: 29 | AE43: =AC43+(AD43*0.1)-(H43*0.1)-(I43*0.1)-(J43*0.1) -> 7.8 | AF43: 5 | AG43: 20 | AH43: =AF43+(AG43*0.1)-(H43*0.1)-(I43*0.1)-(J43*0.1) -> 6.9 | AI43: 15 | AJ43: 21 | AK43: =AI43+(AJ43*0.3)-(H43*0.3)-(I43*0.3)-(J43*0.3) -> 21 | AL43: 0 | AM43: 51 | AN43: =AL43+AM43 -> 51
A44: Paul Casey | B44: LIV | C44: 2024 | D44: 2 | E44: Crushers | F44: 1977 | G44: =C44-F44 -> 47 | H44: 1 | I44: 2 | K44: X | L44: X | M44: X | N44: X | S44: =V44+Y44+AB44+AE44+AH44+AK44 -> 71.4 | T44: 10 | U44: 38 | V44: =T44+(U44*0.2)-(H44*0.2)-(I44*0.2)-(J44*0.2) -> 17 | W44: 5 | X44: 7 | Y44: =W44+(X44*0.1)-(H44*0.1)-(I44*0.1)-(J44*0.1) -> 5.4 | Z44: 10 | AA44: 28 | AB44: =Z44+(AA44*0.2)-(H44*0.2)-(I44*0.2)-(J44*0.2) -> 15 | AC44: 5 | AD44: 16 | AE44: =AC44+(AD44*0.1)-(H44*0.1)-(I44*0.1)-(J44*0.1) -> 6.3 | AF44: 5 | AG44: 23 | AH44: =AF44+(AG44*0.1)-(H44*0.1)-(I44*0.1)-(J44*0.1) -> 7 | AI44: 15 | AJ44: 22 | AK44: =AI44+(AJ44*0.3)-(H44*0.3)-(I44*0.3)-(J44*0.3) -> 20.7 | AL44: 0 | AM44: 49 | AN44: =AL44+AM44 -> 49
A45: Charles Howell III | B45: LIV | C45: 2024 | D45: 3 | E45: Crushers | F45: 1979 | G45: =C45-F45 -> 45 | H45: 1 | I45: 2 | S45: =V45+Y45+AB45+AE45+AH45+AK45 -> 69.2 | T45: 10 | U45: 29 | V45: =T45+(U45*0.2)-(H45*0.2)-(I45*0.2)-(J45*0.2) -> 15.2 | W45: 5 | X45: 28 | Y45: =W45+(X45*0.1)-(H45*0.1)-(I45*0.1)-(J45*0.1) -> 7.5 | Z45: 10 | AA45: 17 | AB45: =Z45+(AA45*0.2)-(H45*0.2)-(I45*0.2)-(J45*0.2) -> 12.8 | AC45: 5 | AD45: 21 | AE45: =AC45+(AD45*0.1)-(H45*0.1)-(I45*0.1)-(J45*0.1) -> 6.8 | AF45: 5 | AG45: 24 | AH45: =AF45+(AG45*0.1)-(H45*0.1)-(I45*0.1)-(J45*0.1) -> 7.1 | AI45: 15 | AJ45: 19 | AK45: =AI45+(AJ45*0.3)-(H45*0.3)-(I45*0.3)-(J45*0.3) -> 19.8 | AL45: 0 | AM45: 45 | AN45: =AL45+AM45 -> 45
A46: Bubba Watson | B46: LIV | C46: 2024 | D46: 4 | E46: Crushers | F46: 1978 | G46: =C46-F46 -> 46 | H46: 1 | I46: 2 | S46: =V46+Y46+AB46+AE46+AH46+AK46 -> 68.9 | T46: 10 | U46: 30 | V46: =T46+(U46*0.2)-(H46*0.2)-(I46*0.2)-(J46*0.2) -> 15.4 | W46: 5 | X46: 13 | Y46: =W46+(X46*0.1)-(H46*0.1)-(I46*0.1)-(J46*0.1) -> 6 | Z46: 10 | AA46: 28 | AB46: =Z46+(AA46*0.2)-(H46*0.2)-(I46*0.2)-(J46*0.2) -> 15 | AC46: 5 | AD46: 27 | AE46: =AC46+(AD46*0.1)-(H46*0.1)-(I46*0.1)-(J46*0.1) -> 7.4 | AF46: 5 | AG46: 18 | AH46: =AF46+(AG46*0.1)-(H46*0.1)-(I46*0.1)-(J46*0.1) -> 6.5 | AI46: 15 | AJ46: 15 | AK46: =AI46+(AJ46*0.3)-(H46*0.3)-(I46*0.3)-(J46*0.3) -> 18.6 | AL46: 0 | AM46: 58 | AN46: =AL46+AM46 -> 58
A47: Crushers Totals | E47: Average Age | G47: =AVERAGE(G43:G46) -> 42.25 | S47: =AVERAGE(S43:S46) -> 72.05 | T47: Tee Avg. | V47: =AVERAGE(V43:V46) -> 16.15 | W47: Long Iron Avg | Y47: =AVERAGE(Y43:Y46) -> 6.675 | Z47: Short Iron Avg | AB47: =AVERAGE(AB43:AB46) -> 15.25 | AC47: Fairway Wood Avg | AE47: =AVERAGE(AE43:AE46) -> 7.075 | AF47: Chipping Avg | AH47: =AVERAGE(AH43:AH46) -> 6.875 | AI47: Putting Avg | AK47: =AVERAGE(AK43:AK46) -> 20.025
A48: Phil Mickelson | B48: LIV | C48: 2024 | D48: 1 | E48: Majesticks | F48: 1970 | G48: =C48-F48 -> 54 | H48: 1 | I48: 2 | J48: 3 | K48: X | L48: X | M48: X | N48: X | S48: =V48+Y48+AB48+AE48+AH48+AK48 -> 70.4 | T48: 10 | U48: 35 | V48: =T48+(U48*0.2)-(H48*0.2)-(I48*0.2)-(J48*0.2) -> 15.8 | W48: 5 | X48: 15 | Y48: =W48+(X48*0.1)-(H48*0.1)-(I48*0.1)-(J48*0.1) -> 5.9 | Z48: 10 | AA48: 24 | AB48: =Z48+(AA48*0.2)-(H48*0.2)-(I48*0.2)-(J48*0.2) -> 13.6 | AC48: 5 | AD48: 13 | AE48: =AC48+(AD48*0.1)-(H48*0.1)-(I48*0.1)-(J48*0.1) -> 5.7 | AF48: 5 | AG48: 25 | AH48: =AF48+(AG48*0.1)-(H48*0.1)-(I48*0.1)-(J48*0.1) -> 6.9 | AI48: 15 | AJ48: 31 | AK48: =AI48+(AJ48*0.3)-(H48*0.3)-(I48*0.3)-(J48*0.3) -> 22.5 | AL48: 0 | AM48: 55 | AN48: =AL48+AM48 -> 55
A49: Ian Poulter | B49: LIV | C49: 2024 | D49: 2 | E49: Majesticks | F49: 1976 | G49: =C49-F49 -> 48 | H49: 1 | I49: 2 | S49: =V49+Y49+AB49+AE49+AH49+AK49 -> 70 | T49: 10 | U49: 35 | V49: =T49+(U49*0.2)-(H49*0.2)-(I49*0.2)-(J49*0.2) -> 16.4 | W49: 5 | X49: 11 | Y49: =W49+(X49*0.1)-(H49*0.1)-(I49*0.1)-(J49*0.1) -> 5.8 | Z49: 10 | AA49: 31 | AB49: =Z49+(AA49*0.2)-(H49*0.2)-(I49*0.2)-(J49*0.2) -> 15.6 | AC49: 5 | AD49: 12 | AE49: =AC49+(AD49*0.1)-(H49*0.1)-(I49*0.1)-(J49*0.1) -> 5.9 | AF49: 5 | AG49: 21 | AH49: =AF49+(AG49*0.1)-(H49*0.1)-(I49*0.1)-(J49*0.1) -> 6.8 | AI49: 15 | AJ49: 18 | AK49: =AI49+(AJ49*0.3)-(H49*0.3)-(I49*0.3)-(J49*0.3) -> 19.5 | AL49: 0 | AM49: 45 | AN49: =AL49+AM49 -> 45
A50: Lee Westwood | B50: LIV | C50: 2024 | D50: 3 | E50: Majesticks | F50: 1973 | G50: =C50-F50 -> 51 | H50: 1 | I50: 2 | J50: 3 | S50: =V50+Y50+AB50+AE50+AH50+AK50 -> 67.8 | T50: 10 | U50: 24 | V50: =T50+(U50*0.2)-(H50*0.2)-(I50*0.2)-(J50*0.2) -> 13.6 | W50: 5 | X50: 31 | Y50: =W50+(X50*0.1)-(H50*0.1)-(I50*0.1)-(J50*0.1) -> 7.5 | Z50: 10 | AA50: 19 | AB50: =Z50+(AA50*0.2)-(H50*0.2)-(I50*0.2)-(J50*0.2) -> 12.6 | AC50: 5 | AD50: 31 | AE50: =AC50+(AD50*0.1)-(H50*0.1)-(I50*0.1)-(J50*0.1) -> 7.5 | AF50: 5 | AG50: 15 | AH50: =AF50+(AG50*0.1)-(H50*0.1)-(I50*0.1)-(J50*0.1) -> 5.9 | AI50: 15 | AJ50: 25 | AK50: =AI50+(AJ50*0.3)-(H50*0.3)-(I50*0.3)-(J50*0.3) -> 20.7 | AL50: 0 | AM50: 45 | AN50: =AL50+AM50 -> 45
A51: Henrik Stenson | B51: LIV | C51: 2024 | D51: 4 | E51: Majesticks | F51: 1976 | G51: =C51-F51 -> 48 | H51: 1 | I51: 2 | S51: =V51+Y51+AB51+AE51+AH51+AK51 -> 67.3 | T51: 10 | U51: 25 | V51: =T51+(U51*0.2)-(H51*0.2)-(I51*0.2)-(J51*0.2) -> 14.4 | W51: 5 | X51: 19 | Y51: =W51+(X51*0.1)-(H51*0.1)-(I51*0.1)-(J51*0.1) -> 6.6 | Z51: 10 | AA51: 26 | AB51: =Z51+(AA51*0.2)-(H51*0.2)-(I51*0.2)-(J51*0.2) -> 14.6 | AC51: 5 | AD51: 31 | AE51: =AC51+(AD51*0.1)-(H51*0.1)-(I51*0.1)-(J51*0.1) -> 7.8 | AF51: 5 | AG51: 21 | AH51: =AF51+(AG51*0.1)-(H51*0.1)-(I51*0.1)-(J51*0.1) -> 6.8 | AI51: 15 | AJ51: 10 | AK51: =AI51+(AJ51*0.3)-(H51*0.3)-(I51*0.3)-(J51*0.3) -> 17.1 | AL51: 0 | AM51: 58 | AN51: =AL51+AM51 -> 58
A52: Majesticks Totals | E52: Average Age | G52: =AVERAGE(G48:G51) -> 50.25 | S52: =AVERAGE(S48:S51) -> 68.875 | T52: Tee Avg. | V52: =AVERAGE(V48:V51) -> 15.05 | W52: Long Iron Avg | Y52: =AVERAGE(Y48:Y51) -> 6.45 | Z52: Short Iron Avg | AB52: =AVERAGE(AB48:AB51) -> 14.1 | AC52: Fairway Wood Avg | AE52: =AVERAGE(AE48:AE51) -> 6.725 | AF52: Chipping Avg | AH52: =AVERAGE(AH48:AH51) -> 6.6 | AI52: Putting Avg | AK52: =AVERAGE(AK48:AK51) -> 19.95
A53: Tyrrell Hatton | B53: LIV | C53: 2024 | D53: 1 | E53: Fireballs | F53: 1991 | G53: =C53-F53 -> 33 | H53: 1 | S53: =V53+Y53+AB53+AE53+AH53+AK53 -> 76.9 | T53: 10 | U53: 23 | V53: =T53+(U53*0.2)-(H53*0.2)-(I53*0.2)-(J53*0.2) -> 14.4 | W53: 5 | X53: 19 | Y53: =W53+(X53*0.1)-(H53*0.1)-(I53*0.1)-(J53*0.1) -> 6.8 | Z53: 10 | AA53: 26 | AB53: =Z53+(AA53*0.2)-(H53*0.2)-(I53*0.2)-(J53*0.2) -> 15 | AC53: 5 | AD53: 30 | AE53: =AC53+(AD53*0.1)-(H53*0.1)-(I53*0.1)-(J53*0.1) -> 7.9 | AF53: 5 | AG53: 21 | AH53: =AF53+(AG53*0.1)-(H53*0.1)-(I53*0.1)-(J53*0.1) -> 7 | AI53: 15 | AJ53: 37 | AK53: =AI53+(AJ53*0.3)-(H53*0.3)-(I53*0.3)-(J53*0.3) -> 25.8 | AL53: 0 | AM53: 41 | AN53: =AL53+AM53 -> 41
A54: Cam Smith | B54: LIV | C54: 2024 | D54: 2 | E54: Fireballs | F54: 1993 | G54: =C54-F54 -> 31 | H54: 1 | S54: =V54+Y54+AB54+AE54+AH54+AK54 -> 74.5 | T54: 10 | U54: 23 | V54: =T54+(U54*0.2)-(H54*0.2)-(I54*0.2)-(J54*0.2) -> 14.4 | W54: 5 | X54: 34 | Y54: =W54+(X54*0.1)-(H54*0.1)-(I54*0.1)-(J54*0.1) -> 8.3 | Z54: 10 | AA54: 35 | AB54: =Z54+(AA54*0.2)-(H54*0.2)-(I54*0.2)-(J54*0.2) -> 16.8 | AC54: 5 | AD54: 18 | AE54: =AC54+(AD54*0.1)-(H54*0.1)-(I54*0.1)-(J54*0.1) -> 6.7 | AF54: 5 | AG54: 15 | AH54: =AF54+(AG54*0.1)-(H54*0.1)-(I54*0.1)-(J54*0.1) -> 6.4 | AI54: 15 | AJ54: 24 | AK54: =AI54+(AJ54*0.3)-(H54*0.3)-(I54*0.3)-(J54*0.3) -> 21.9 | AL54: 0 | AM54: 47 | AN54: =AL54+AM54 -> 47
A55: Sergio Garcia | B55: LIV | C55: 2024 | D55: 3 | E55: Fireballs | F55: 1980 | G55: =C55-F55 -> 44 | H55: 1 | I55: 2 | K55: X | L55: X | M55: X | N55: X | S55: =V55+Y55+AB55+AE55+AH55+AK55 -> 74.3 | T55: 10 | U55: 27 | V55: =T55+(U55*0.2)-(H55*0.2)-(I55*0.2)-(J55*0.2) -> 14.8 | W55: 5 | X55: 37 | Y55: =W55+(X55*0.1)-(H55*0.1)-(I55*0.1)-(J55*0.1) -> 8.4 | Z55: 10 | AA55: 20 | AB55: =Z55+(AA55*0.2)-(H55*0.2)-(I55*0.2)-(J55*0.2) -> 13.4 | AC55: 5 | AD55: 8 | AE55: =AC55+(AD55*0.1)-(H55*0.1)-(I55*0.1)-(J55*0.1) -> 5.5 | AF55: 5 | AG55: 20 | AH55: =AF55+(AG55*0.1)-(H55*0.1)-(I55*0.1)-(J55*0.1) -> 6.7 | AI55: 15 | AJ55: 38 | AK55: =AI55+(AJ55*0.3)-(H55*0.3)-(I55*0.3)-(J55*0.3) -> 25.5 | AL55: 0 | AM55: 49 | AN55: =AL55+AM55 -> 49
A56: Jon Rahm | B56: LIV | C56: 2024 | D56: 4 | E56: Fireballs | F56: 1994 | G56: =C56-F56 -> 30 | H56: 1 | S56: =V56+Y56+AB56+AE56+AH56+AK56 -> 74.2 | T56: 10 | U56: 26 | V56: =T56+(U56*0.2)-(H56*0.2)-(I56*0.2)-(J56*0.2) -> 15 | W56: 5 | X56: 19 | Y56: =W56+(X56*0.1)-(H56*0.1)-(I56*0.1)-(J56*0.1) -> 6.8 | Z56: 10 | AA56: 29 | AB56: =Z56+(AA56*0.2)-(H56*0.2)-(I56*0.2)-(J56*0.2) -> 15.6 | AC56: 5 | AD56: 19 | AE56: =AC56+(AD56*0.1)-(H56*0.1)-(I56*0.1)-(J56*0.1) -> 6.8 | AF56: 5 | AG56: 35 | AH56: =AF56+(AG56*0.1)-(H56*0.1)-(I56*0.1)-(J56*0.1) -> 8.4 | AI56: 15 | AJ56: 23 | AK56: =AI56+(AJ56*0.3)-(H56*0.3)-(I56*0.3)-(J56*0.3) -> 21.6 | AL56: 0 | AM56: 46 | AN56: =AL56+AM56 -> 46
A57: Fireballs Totals | E57: Average Age | G57: =AVERAGE(G53:G56) -> 34.5 | S57: =AVERAGE(S53:S56) -> 74.975 | T57: Tee Avg. | V57: =AVERAGE(V53:V56) -> 14.65 | W57: Long Iron Avg | Y57: =AVERAGE(Y53:Y56) -> 7.575 | Z57: Short Iron Avg | AB57: =AVERAGE(AB53:AB56) -> 15.2 | AC57: Fairway Wood Avg | AE57: =AVERAGE(AE53:AE56) -> 6.725 | AF57: Chipping Avg | AH57: =AVERAGE(AH53:AH56) -> 7.125 | AI57: Putting Avg | AK57: =AVERAGE(AK53:AK56) -> 23.7
A58: Mito Pereira | B58: LIV | C58: 2024 | D58: 1 | E58: Torque | F58: 1995 | G58: =C58-F58 -> 29 | S58: =V58+Y58+AB58+AE58+AH58+AK58 -> 72.2 | T58: 10 | U58: 20 | V58: =T58+(U58*0.2)-(H58*0.2)-(I58*0.2)-(J58*0.2) -> 14 | W58: 5 | X58: 17 | Y58: =W58+(X58*0.1)-(H58*0.1)-(I58*0.1)-(J58*0.1) -> 6.7 | Z58: 10 | AA58: 19 | AB58: =Z58+(AA58*0.2)-(H58*0.2)-(I58*0.2)-(J58*0.2) -> 13.8 | AC58: 5 | AD58: 27 | AE58: =AC58+(AD58*0.1)-(H58*0.1)-(I58*0.1)-(J58*0.1) -> 7.7 | AF58: 5 | AG58: 28 | AH58: =AF58+(AG58*0.1)-(H58*0.1)-(I58*0.1)-(J58*0.1) -> 7.8 | AI58: 15 | AJ58: 24 | AK58: =AI58+(AJ58*0.3)-(H58*0.3)-(I58*0.3)-(J58*0.3) -> 22.2 | AL58: 0 | AM58: 50 | AN58: =AL58+AM58 -> 50
A59: Sebastian Munoz | B59: LIV | C59: 2024 | D59: 2 | E59: Torque | F59: 1993 | G59: =C59-F59 -> 31 | H59: 1 | S59: =V59+Y59+AB59+AE59+AH59+AK59 -> 71.8 | T59: 10 | U59: 27 | V59: =T59+(U59*0.2)-(H59*0.2)-(I59*0.2)-(J59*0.2) -> 15.2 | W59: 5 | X59: 25 | Y59: =W59+(X59*0.1)-(H59*0.1)-(I59*0.1)-(J59*0.1) -> 7.4 | Z59: 10 | AA59: 27 | AB59: =Z59+(AA59*0.2)-(H59*0.2)-(I59*0.2)-(J59*0.2) -> 15.2 | AC59: 5 | AD59: 23 | AE59: =AC59+(AD59*0.1)-(H59*0.1)-(I59*0.1)-(J59*0.1) -> 7.2 | AF59: 5 | AG59: 21 | AH59: =AF59+(AG59*0.1)-(H59*0.1)-(I59*0.1)-(J59*0.1) -> 7 | AI59: 15 | AJ59: 17 | AK59: =AI59+(AJ59*0.3)-(H59*0.3)-(I59*0.3)-(J59*0.3) -> 19.8 | AL59: 0 | AM59: 60 | AN59: =AL59+AM59 -> 60
A60: Joaquin Niemann | B60: LIV | C60: 2024 | D60: 3 | E60: Torque | F60: 1998 | G60: =C60-F60 -> 26 | S60: =V60+Y60+AB60+AE60+AH60+AK60 -> 68.5 | T60: 10 | U60: 14 | V60: =T60+(U60*0.2)-(H60*0.2)-(I60*0.2)-(J60*0.2) -> 12.8 | W60: 5 | X60: 26 | Y60: =W60+(X60*0.1)-(H60*0.1)-(I60*0.1)-(J60*0.1) -> 7.6 | Z60: 10 | AA60: 14 | AB60: =Z60+(AA60*0.2)-(H60*0.2)-(I60*0.2)-(J60*0.2) -> 12.8 | AC60: 5 | AD60: 19 | AE60: =AC60+(AD60*0.1)-(H60*0.1)-(I60*0.1)-(J60*0.1) -> 6.9 | AF60: 5 | AG60: 30 | AH60: =AF60+(AG60*0.1)-(H60*0.1)-(I60*0.1)-(J60*0.1) -> 8 | AI60: 15 | AJ60: 18 | AK60: =AI60+(AJ60*0.3)-(H60*0.3)-(I60*0.3)-(J60*0.3) -> 20.4 | AL60: 0 | AM60: 57 | AN60: =AL60+AM60 -> 57
A61: Kevin Na | B61: LIV | C61: 2024 | D61: 4 | E61: Torque | F61: 1983 | G61: =C61-F61 -> 41 | H61: 1 | I61: 2 | K61: X | L61: X | M61: X | N61: X | S61: =V61+Y61+AB61+AE61+AH61+AK61 -> 66.5 | T61: 10 | U61: 26 | V61: =T61+(U61*0.2)-(H61*0.2)-(I61*0.2)-(J61*0.2) -> 14.6 | W61: 5 | X61: 22 | Y61: =W61+(X61*0.1)-(H61*0.1)-(I61*0.1)-(J61*0.1) -> 6.9 | Z61: 10 | AA61: 20 | AB61: =Z61+(AA61*0.2)-(H61*0.2)-(I61*0.2)-(J61*0.2) -> 13.4 | AC61: 5 | AD61: 5 | AE61: =AC61+(AD61*0.1)-(H61*0.1)-(I61*0.1)-(J61*0.1) -> 5.2 | AF61: 5 | AG61: 19 | AH61: =AF61+(AG61*0.1)-(H61*0.1)-(I61*0.1)-(J61*0.1) -> 6.6 | AI61: 15 | AJ61: 19 | AK61: =AI61+(AJ61*0.3)-(H61*0.3)-(I61*0.3)-(J61*0.3) -> 19.8 | AL61: 0 | AM61: 57 | AN61: =AL61+AM61 -> 57
A62: Torque Totals | E62: Average Age | G62: =AVERAGE(G58:G61) -> 31.75 | S62: =AVERAGE(S58:S61) -> 69.75 | T62: Tee Avg. | V62: =AVERAGE(V58:V61) -> 14.15 | W62: Long Iron Avg | Y62: =AVERAGE(Y58:Y61) -> 7.15 | Z62: Short Iron Avg | AB62: =AVERAGE(AB58:AB61) -> 13.8 | AC62: Fairway Wood Avg | AE62: =AVERAGE(AE58:AE61) -> 6.75 | AF62: Chipping Avg | AH62: =AVERAGE(AH58:AH61) -> 7.35 | AI62: Putting Avg | AK62: =AVERAGE(AK58:AK61) -> 20.55
A63: Dustin Johnson | B63: LIV | C63: 2024 | D63: 1 | E63: Aces | F63: 1984 | G63: =C63-F63 -> 40 | H63: 1 | I63: 2 | K63: X | L63: X | M63: X | N63: X | S63: =V63+Y63+AB63+AE63+AH63+AK63 -> 78.5 | T63: 10 | U63: 25 | V63: =T63+(U63*0.2)-(H63*0.2)-(I63*0.2)-(J63*0.2) -> 14.4 | W63: 5 | X63: 30 | Y63: =W63+(X63*0.1)-(H63*0.1)-(I63*0.1)-(J63*0.1) -> 7.7 | Z63: 10 | AA63: 26 | AB63: =Z63+(AA63*0.2)-(H63*0.2)-(I63*0.2)-(J63*0.2) -> 14.6 | AC63: 5 | AD63: 30 | AE63: =AC63+(AD63*0.1)-(H63*0.1)-(I63*0.1)-(J63*0.1) -> 7.7 | AF63: 5 | AG63: 21 | AH63: =AF63+(AG63*0.1)-(H63*0.1)-(I63*0.1)-(J63*0.1) -> 6.8 | AI63: 15 | AJ63: 44 | AK63: =AI63+(AJ63*0.3)-(H63*0.3)-(I63*0.3)-(J63*0.3) -> 27.3 | AL63: 0 | AM63: 45 | AN63: =AL63+AM63 -> 45
A64: Jason Kokrak | B64: LIV | C64: 2024 | D64: 2 | E64: Aces | F64: 1985 | G64: =C64-F64 -> 39 | H64: 1 | S64: =V64+Y64+AB64+AE64+AH64+AK64 -> 78.3 | T64: 10 | U64: 25 | V64: =T64+(U64*0.2)-(H64*0.2)-(I64*0.2)-(J64*0.2) -> 14.8 | W64: 5 | X64: 33 | Y64: =W64+(X64*0.1)-(H64*0.1)-(I64*0.1)-(J64*0.1) -> 8.2 | Z64: 10 | AA64: 24 | AB64: =Z64+(AA64*0.2)-(H64*0.2)-(I64*0.2)-(J64*0.2) -> 14.6 | AC64: 5 | AD64: 33 | AE64: =AC64+(AD64*0.1)-(H64*0.1)-(I64*0.1)-(J64*0.1) -> 8.2 | AF64: 5 | AG64: 24 | AH64: =AF64+(AG64*0.1)-(H64*0.1)-(I64*0.1)-(J64*0.1) -> 7.3 | AI64: 15 | AJ64: 35 | AK64: =AI64+(AJ64*0.3)-(H64*0.3)-(I64*0.3)-(J64*0.3) -> 25.2 | AL64: 0 | AM64: 54 | AN64: =AL64+AM64 -> 54
A65: Brooks Koepka | B65: LIV | C65: 2024 | D65: 3 | E65: Aces | F65: 1990 | G65: =C65-F65 -> 34 | H65: 1 | S65: =V65+Y65+AB65+AE65+AH65+AK65 -> 76.2 | T65: 10 | U65: 19 | V65: =T65+(U65*0.2)-(H65*0.2)-(I65*0.2)-(J65*0.2) -> 13.6 | W65: 5 | X65: 15 | Y65: =W65+(X65*0.1)-(H65*0.1)-(I65*0.1)-(J65*0.1) -> 6.4 | Z65: 10 | AA65: 27 | AB65: =Z65+(AA65*0.2)-(H65*0.2)-(I65*0.2)-(J65*0.2) -> 15.2 | AC65: 5 | AD65: 38 | AE65: =AC65+(AD65*0.1)-(H65*0.1)-(I65*0.1)-(J65*0.1) -> 8.7 | AF65: 5 | AG65: 25 | AH65: =AF65+(AG65*0.1)-(H65*0.1)-(I65*0.1)-(J65*0.1) -> 7.4 | AI65: 15 | AJ65: 34 | AK65: =AI65+(AJ65*0.3)-(H65*0.3)-(I65*0.3)-(J65*0.3) -> 24.9 | AL65: 0 | AM65: 58 | AN65: =AL65+AM65 -> 58
A66: Patrick Reed | B66: LIV | C66: 2024 | D66: 4 | E66: Aces | F66: 1990 | G66: =C66-F66 -> 34 | H66: 1 | S66: =V66+Y66+AB66+AE66+AH66+AK66 -> 74 | T66: 10 | U66: 30 | V66: =T66+(U66*0.2)-(H66*0.2)-(I66*0.2)-(J66*0.2) -> 15.8 | W66: 5 | X66: 34 | Y66: =W66+(X66*0.1)-(H66*0.1)-(I66*0.1)-(J66*0.1) -> 8.3 | Z66: 10 | AA66: 22 | AB66: =Z66+(AA66*0.2)-(H66*0.2)-(I66*0.2)-(J66*0.2) -> 14.2 | AC66: 5 | AD66: 24 | AE66: =AC66+(AD66*0.1)-(H66*0.1)-(I66*0.1)-(J66*0.1) -> 7.3 | AF66: 5 | AG66: 22 | AH66: =AF66+(AG66*0.1)-(H66*0.1)-(I66*0.1)-(J66*0.1) -> 7.1 | AI66: 15 | AJ66: 22 | AK66: =AI66+(AJ66*0.3)-(H66*0.3)-(I66*0.3)-(J66*0.3) -> 21.3 | AL66: 0 | AM66: 54 | AN66: =AL66+AM66 -> 54
A67: Aces Totals | E67: Average Age | G67: =AVERAGE(G63:G66) -> 36.75 | S67: =AVERAGE(S63:S66) -> 76.75 | T67: Tee Avg. | V67: =AVERAGE(V63:V66) -> 14.65 | W67: Long Iron Avg | Y67: =AVERAGE(Y63:Y66) -> 7.65 | Z67: Short Iron Avg | AB67: =AVERAGE(AB63:AB66) -> 14.65 | AC67: Fairway Wood Avg | AE67: =AVERAGE(AE63:AE66) -> 7.975 | AF67: Chipping Avg | AH67: =AVERAGE(AH63:AH66) -> 7.15 | AI67: Putting Avg | AK67: =AVERAGE(AK63:AK66) -> 24.675
A68: Louis Oosthuizen | B68: LIV | C68: 2024 | D68: 1 | E68: Stinger | F68: 1982 | G68: =C68-F68 -> 42 | H68: 1 | I68: 2 | S68: =V68+Y68+AB68+AE68+AH68+AK68 -> 80.1 | T68: 10 | U68: 39 | V68: =T68+(U68*0.2)-(H68*0.2)-(I68*0.2)-(J68*0.2) -> 17.2 | W68: 5 | X68: 19 | Y68: =W68+(X68*0.1)-(H68*0.1)-(I68*0.1)-(J68*0.1) -> 6.6 | Z68: 10 | AA68: 36 | AB68: =Z68+(AA68*0.2)-(H68*0.2)-(I68*0.2)-(J68*0.2) -> 16.6 | AC68: 5 | AD68: 32 | AE68: =AC68+(AD68*0.1)-(H68*0.1)-(I68*0.1)-(J68*0.1) -> 7.9 | AF68: 5 | AG68: 19 | AH68: =AF68+(AG68*0.1)-(H68*0.1)-(I68*0.1)-(J68*0.1) -> 6.6 | AI68: 15 | AJ68: 37 | AK68: =AI68+(AJ68*0.3)-(H68*0.3)-(I68*0.3)-(J68*0.3) -> 25.2 | AL68: 0 | AM68: 46 | AN68: =AL68+AM68 -> 46
A69: Charl Schwartzel | B69: LIV | C69: 2024 | D69: 2 | E69: Stinger | F69: 1984 | G69: =C69-F69 -> 40 | H69: 1 | I69: 2 | S69: =V69+Y69+AB69+AE69+AH69+AK69 -> 74.1 | T69: 10 | U69: 20 | V69: =T69+(U69*0.2)-(H69*0.2)-(I69*0.2)-(J69*0.2) -> 13.4 | W69: 5 | X69: 30 | Y69: =W69+(X69*0.1)-(H69*0.1)-(I69*0.1)-(J69*0.1) -> 7.7 | Z69: 10 | AA69: 24 | AB69: =Z69+(AA69*0.2)-(H69*0.2)-(I69*0.2)-(J69*0.2) -> 14.2 | AC69: 5 | AD69: 41 | AE69: =AC69+(AD69*0.1)-(H69*0.1)-(I69*0.1)-(J69*0.1) -> 8.8 | AF69: 5 | AG69: 25 | AH69: =AF69+(AG69*0.1)-(H69*0.1)-(I69*0.1)-(J69*0.1) -> 7.2 | AI69: 15 | AJ69: 29 | AK69: =AI69+(AJ69*0.3)-(H69*0.3)-(I69*0.3)-(J69*0.3) -> 22.8 | AL69: 0 | AM69: 54 | AN69: =AL69+AM69 -> 54
A70: Robert Macintyre | B70: LIV | C70: 2024 | D70: 3 | E70: Stinger | F70: 1996 | G70: =C70-F70 -> 28 | S70: =V70+Y70+AB70+AE70+AH70+AK70 -> 69.9 | T70: 10 | U70: 25 | V70: =T70+(U70*0.2)-(H70*0.2)-(I70*0.2)-(J70*0.2) -> 15 | W70: 5 | X70: 24 | Y70: =W70+(X70*0.1)-(H70*0.1)-(I70*0.1)-(J70*0.1) -> 7.4 | Z70: 10 | AA70: 28 | AB70: =Z70+(AA70*0.2)-(H70*0.2)-(I70*0.2)-(J70*0.2) -> 15.6 | AC70: 5 | AD70: 19 | AE70: =AC70+(AD70*0.1)-(H70*0.1)-(I70*0.1)-(J70*0.1) -> 6.9 | AF70: 5 | AG70: 14 | AH70: =AF70+(AG70*0.1)-(H70*0.1)-(I70*0.1)-(J70*0.1) -> 6.4 | AI70: 15 | AJ70: 12 | AK70: =AI70+(AJ70*0.3)-(H70*0.3)-(I70*0.3)-(J70*0.3) -> 18.6 | AL70: 0 | AM70: 52 | AN70: =AL70+AM70 -> 52
A71: Graeme McDowell | B71: LIV | C71: 2024 | D71: 4 | E71: Stinger | F71: 1979 | G71: =C71-F71 -> 45 | H71: 1 | I71: 2 | K71: X | L71: X | M71: X | N71: X | S71: =V71+Y71+AB71+AE71+AH71+AK71 -> 68.9 | T71: 10 | U71: 27 | V71: =T71+(U71*0.2)-(H71*0.2)-(I71*0.2)-(J71*0.2) -> 14.8 | W71: 5 | X71: 23 | Y71: =W71+(X71*0.1)-(H71*0.1)-(I71*0.1)-(J71*0.1) -> 7 | Z71: 10 | AA71: 17 | AB71: =Z71+(AA71*0.2)-(H71*0.2)-(I71*0.2)-(J71*0.2) -> 12.8 | AC71: 5 | AD71: 42 | AE71: =AC71+(AD71*0.1)-(H71*0.1)-(I71*0.1)-(J71*0.1) -> 8.9 | AF71: 5 | AG71: 21 | AH71: =AF71+(AG71*0.1)-(H71*0.1)-(I71*0.1)-(J71*0.1) -> 6.8 | AI71: 15 | AJ71: 15 | AK71: =AI71+(AJ71*0.3)-(H71*0.3)-(I71*0.3)-(J71*0.3) -> 18.6 | AL71: 0 | AM71: 55 | AN71: =AL71+AM71 -> 55
A72: Stinger Totals | E72: Average Age | G72: =AVERAGE(G68:G71) -> 38.75 | S72: =AVERAGE(S68:S71) -> 73.25 | T72: Tee Avg. | V72: =AVERAGE(V68:V71) -> 15.1 | W72: Long Iron Avg | Y72: =AVERAGE(Y68:Y71) -> 7.175 | Z72: Short Iron Avg | AB72: =AVERAGE(AB68:AB71) -> 14.8 | AC72: Fairway Wood Avg | AE72: =AVERAGE(AE68:AE71) -> 8.125 | AF72: Chipping Avg | AH72: =AVERAGE(AH68:AH71) -> 6.75 | AI72: Putting Avg | AK72: =AVERAGE(AK68:AK71) -> 21.3
A73: K.H. Lee | B73: LIV | C73: 2024 | D73: 1 | E73: KGC | F73: 1991 | G73: =C73-F73 -> 33 | H73: 1 | K73: X | L73: X | M73: X | N73: X | S73: =V73+Y73+AB73+AE73+AH73+AK73 -> 77.6 | T73: 10 | U73: 30 | V73: =T73+(U73*0.2)-(H73*0.2)-(I73*0.2)-(J73*0.2) -> 15.8 | W73: 5 | X73: 26 | Y73: =W73+(X73*0.1)-(H73*0.1)-(I73*0.1)-(J73*0.1) -> 7.5 | Z73: 10 | AA73: 28 | AB73: =Z73+(AA73*0.2)-(H73*0.2)-(I73*0.2)-(J73*0.2) -> 15.4 | AC73: 5 | AD73: 47 | AE73: =AC73+(AD73*0.1)-(H73*0.1)-(I73*0.1)-(J73*0.1) -> 9.6 | AF73: 5 | AG73: 13 | AH73: =AF73+(AG73*0.1)-(H73*0.1)-(I73*0.1)-(J73*0.1) -> 6.2 | AI73: 15 | AJ73: 28 | AK73: =AI73+(AJ73*0.3)-(H73*0.3)-(I73*0.3)-(J73*0.3) -> 23.1 | AL73: 0 | AM73: 60 | AN73: =AL73+AM73 -> 60
A74: Si Woo Kim | B74: LIV | C74: 2024 | D74: 2 | E74: KGC | F74: 1995 | G74: =C74-F74 -> 29 | S74: =V74+Y74+AB74+AE74+AH74+AK74 -> 76.7 | T74: 10 | U74: 23 | V74: =T74+(U74*0.2)-(H74*0.2)-(I74*0.2)-(J74*0.2) -> 14.6 | W74: 5 | X74: 20 | Y74: =W74+(X74*0.1)-(H74*0.1)-(I74*0.1)-(J74*0.1) -> 7 | Z74: 10 | AA74: 20 | AB74: =Z74+(AA74*0.2)-(H74*0.2)-(I74*0.2)-(J74*0.2) -> 14 | AC74: 5 | AD74: 26 | AE74: =AC74+(AD74*0.1)-(H74*0.1)-(I74*0.1)-(J74*0.1) -> 7.6 | AF74: 5 | AG74: 24 | AH74: =AF74+(AG74*0.1)-(H74*0.1)-(I74*0.1)-(J74*0.1) -> 7.4 | AI74: 15 | AJ74: 37 | AK74: =AI74+(AJ74*0.3)-(H74*0.3)-(I74*0.3)-(J74*0.3) -> 26.1 | AL74: 0 | AM74: 56 | AN74: =AL74+AM74 -> 56
A75: Byeong Hun An | B75: LIV | C75: 2024 | D75: 3 | E75: KGC | F75: 1991 | G75: =C75-F75 -> 33 | H75: 1 | S75: =V75+Y75+AB75+AE75+AH75+AK75 -> 75.5 | T75: 10 | U75: 23 | V75: =T75+(U75*0.2)-(H75*0.2)-(I75*0.2)-(J75*0.2) -> 14.4 | W75: 5 | X75: 27 | Y75: =W75+(X75*0.1)-(H75*0.1)-(I75*0.1)-(J75*0.1) -> 7.6 | Z75: 10 | AA75: 38 | AB75: =Z75+(AA75*0.2)-(H75*0.2)-(I75*0.2)-(J75*0.2) -> 17.4 | AC75: 5 | AD75: 23 | AE75: =AC75+(AD75*0.1)-(H75*0.1)-(I75*0.1)-(J75*0.1) -> 7.2 | AF75: 5 | AG75: 30 | AH75: =AF75+(AG75*0.1)-(H75*0.1)-(I75*0.1)-(J75*0.1) -> 7.9 | AI75: 15 | AJ75: 21 | AK75: =AI75+(AJ75*0.3)-(H75*0.3)-(I75*0.3)-(J75*0.3) -> 21 | AL75: 0 | AM75: 49 | AN75: =AL75+AM75 -> 49
A76: Sungjae Im | B76: LIV | C76: 2024 | D76: 4 | E76: KGC | F76: 1998 | G76: =C76-F76 -> 26 | S76: =V76+Y76+AB76+AE76+AH76+AK76 -> 74.8 | T76: 10 | U76: 18 | V76: =T76+(U76*0.2)-(H76*0.2)-(I76*0.2)-(J76*0.2) -> 13.6 | W76: 5 | X76: 19 | Y76: =W76+(X76*0.1)-(H76*0.1)-(I76*0.1)-(J76*0.1) -> 6.9 | Z76: 10 | AA76: 31 | AB76: =Z76+(AA76*0.2)-(H76*0.2)-(I76*0.2)-(J76*0.2) -> 16.2 | AC76: 5 | AD76: 20 | AE76: =AC76+(AD76*0.1)-(H76*0.1)-(I76*0.1)-(J76*0.1) -> 7 | AF76: 5 | AG76: 33 | AH76: =AF76+(AG76*0.1)-(H76*0.1)-(I76*0.1)-(J76*0.1) -> 8.3 | AI76: 15 | AJ76: 26 | AK76: =AI76+(AJ76*0.3)-(H76*0.3)-(I76*0.3)-(J76*0.3) -> 22.8 | AL76: 0 | AM76: 54 | AN76: =AL76+AM76 -> 54
A77: KGC Totals | E77: Average Age | G77: =AVERAGE(G73:G76) -> 30.25 | S77: =AVERAGE(S73:S76) -> 76.15 | T77: Tee Avg. | V77: =AVERAGE(V73:V76) -> 14.6 | W77: Long Iron Avg | Y77: =AVERAGE(Y73:Y76) -> 7.25 | Z77: Short Iron Avg | AB77: =AVERAGE(AB73:AB76) -> 15.75 | AC77: Fairway Wood Avg | AE77: =AVERAGE(AE73:AE76) -> 7.85 | AF77: Chipping Avg | AH77: =AVERAGE(AH73:AH76) -> 7.45 | AI77: Putting Avg | AK77: =AVERAGE(AK73:AK76) -> 23.25
A78: Cam Davis | B78: LIV | C78: 2024 | D78: 1 | E78: Pin Seekers | F78: 1995 | G78: =C78-F78 -> 29 | S78: =V78+Y78+AB78+AE78+AH78+AK78 -> 75.5 | T78: 10 | U78: 27 | V78: =T78+(U78*0.2)-(H78*0.2)-(I78*0.2)-(J78*0.2) -> 15.4 | W78: 5 | X78: 20 | Y78: =W78+(X78*0.1)-(H78*0.1)-(I78*0.1)-(J78*0.1) -> 7 | Z78: 10 | AA78: 28 | AB78: =Z78+(AA78*0.2)-(H78*0.2)-(I78*0.2)-(J78*0.2) -> 15.6 | AC78: 5 | AD78: 21 | AE78: =AC78+(AD78*0.1)-(H78*0.1)-(I78*0.1)-(J78*0.1) -> 7.1 | AF78: 5 | AG78: 17 | AH78: =AF78+(AG78*0.1)-(H78*0.1)-(I78*0.1)-(J78*0.1) -> 6.7 | AI78: 15 | AJ78: 29 | AK78: =AI78+(AJ78*0.3)-(H78*0.3)-(I78*0.3)-(J78*0.3) -> 23.7 | AL78: 0 | AM78: 57 | AN78: =AL78+AM78 -> 57
A79: Nick Dunlap | B79: LIV | C79: 2024 | D79: 2 | E79: Pin Seekers | F79: 2003 | G79: =C79-F79 -> 21 | S79: =V79+Y79+AB79+AE79+AH79+AK79 -> 74.7 | T79: 10 | U79: 16 | V79: =T79+(U79*0.2)-(H79*0.2)-(I79*0.2)-(J79*0.2) -> 13.2 | W79: 5 | X79: 25 | Y79: =W79+(X79*0.1)-(H79*0.1)-(I79*0.1)-(J79*0.1) -> 7.5 | Z79: 10 | AA79: 21 | AB79: =Z79+(AA79*0.2)-(H79*0.2)-(I79*0.2)-(J79*0.2) -> 14.2 | AC79: 5 | AD79: 31 | AE79: =AC79+(AD79*0.1)-(H79*0.1)-(I79*0.1)-(J79*0.1) -> 8.1 | AF79: 5 | AG79: 36 | AH79: =AF79+(AG79*0.1)-(H79*0.1)-(I79*0.1)-(J79*0.1) -> 8.6 | AI79: 15 | AJ79: 27 | AK79: =AI79+(AJ79*0.3)-(H79*0.3)-(I79*0.3)-(J79*0.3) -> 23.1 | AL79: 0 | AM79: 43 | AN79: =AL79+AM79 -> 43
A80: Sepp Straka | B80: LIV | C80: 2024 | D80: 3 | E80: Pin Seekers | F80: 1993 | G80: =C80-F80 -> 31 | H80: 1 | K80: X | L80: X | M80: X | N80: X | S80: =V80+Y80+AB80+AE80+AH80+AK80 -> 72.3 | T80: 10 | U80: 23 | V80: =T80+(U80*0.2)-(H80*0.2)-(I80*0.2)-(J80*0.2) -> 14.4 | W80: 5 | X80: 20 | Y80: =W80+(X80*0.1)-(H80*0.1)-(I80*0.1)-(J80*0.1) -> 6.9 | Z80: 10 | AA80: 34 | AB80: =Z80+(AA80*0.2)-(H80*0.2)-(I80*0.2)-(J80*0.2) -> 16.6 | AC80: 5 | AD80: 40 | AE80: =AC80+(AD80*0.1)-(H80*0.1)-(I80*0.1)-(J80*0.1) -> 8.9 | AF80: 5 | AG80: 23 | AH80: =AF80+(AG80*0.1)-(H80*0.1)-(I80*0.1)-(J80*0.1) -> 7.2 | AI80: 15 | AJ80: 12 | AK80: =AI80+(AJ80*0.3)-(H80*0.3)-(I80*0.3)-(J80*0.3) -> 18.3 | AL80: 0 | AM80: 56 | AN80: =AL80+AM80 -> 56
A81: Jake Knapp | B81: LIV | C81: 2024 | D81: 4 | E81: Pin Seekers | F81: 1994 | G81: =C81-F81 -> 30 | H81: 1 | S81: =V81+Y81+AB81+AE81+AH81+AK81 -> 69.1 | T81: 10 | U81: 14 | V81: =T81+(U81*0.2)-(H81*0.2)-(I81*0.2)-(J81*0.2) -> 12.6 | W81: 5 | X81: 42 | Y81: =W81+(X81*0.1)-(H81*0.1)-(I81*0.1)-(J81*0.1) -> 9.1 | Z81: 10 | AA81: 17 | AB81: =Z81+(AA81*0.2)-(H81*0.2)-(I81*0.2)-(J81*0.2) -> 13.2 | AC81: 5 | AD81: 23 | AE81: =AC81+(AD81*0.1)-(H81*0.1)-(I81*0.1)-(J81*0.1) -> 7.2 | AF81: 5 | AG81: 26 | AH81: =AF81+(AG81*0.1)-(H81*0.1)-(I81*0.1)-(J81*0.1) -> 7.5 | AI81: 15 | AJ81: 16 | AK81: =AI81+(AJ81*0.3)-(H81*0.3)-(I81*0.3)-(J81*0.3) -> 19.5 | AL81: 0 | AM81: 57 | AN81: =AL81+AM81 -> 57
A82: Pin Seekers Totals | E82: Average Age | G82: =AVERAGE(G78:G81) -> 27.75 | S82: =AVERAGE(S78:S81) -> 72.9 | T82: Tee Avg. | V82: =AVERAGE(V78:V81) -> 13.9 | W82: Long Iron Avg | Y82: =AVERAGE(Y78:Y81) -> 7.625 | Z82: Short Iron Avg | AB82: =AVERAGE(AB78:AB81) -> 14.9 | AC82: Fairway Wood Avg | AE82: =AVERAGE(AE78:AE81) -> 7.825 | AF82: Chipping Avg | AH82: =AVERAGE(AH78:AH81) -> 7.5 | AI82: Putting Avg | AK82: =AVERAGE(AK78:AK81) -> 21.15
S83: =AVERAGE(S3:S6,S8:S11,S13:S16,S18:S21,S23:S26,S28:S31,S33:S36,S38:S41,S43:S46,S48:S51,S53:S56,S58:S61,S63:S66,S68:S71,S73:S76,S78:S81) -> 73.567188 | U83: =AVERAGE(U3:U81) -> 25.34375 | X83: =AVERAGE(X3:X81) -> 23.75 | AA83: =AVERAGE(AA3:AA81) -> 24.859375 | AD83: =AVERAGE(AD3:AD81) -> 25.515625 | AG83: =AVERAGE(AG3:AG81) -> 23.765625 | AJ83: =AVERAGE(AJ3:AJ81) -> 25.328125

Sheet Free Agents
A1: Player Name | B1: Div | C1: Year | D1: Special | E1: Team | F1: Born | G1: Age | H1: 30+ | I1: 40+ | J1: 50+ | K1: Total Rating | L1: Tee | O1: Long Iron | R1: Short Iron | U1: Fairway Wood | X1: Chipping | AA1: Putting | AD1: Aggression
L2: 10-20 (.2) | M2: Inc/Dec | N2: New Rating | O2: 5-10 (.1) | P2: Inc/Dec | Q2: New Rating | R2: 10-20 (.2) | S2: Inc/Dec | T2: New Rating | U2: 5-10 (.1) | V2: Inc/Dec | W2: New Rating | X2: 5-10 (.1) | Y2: Inc/Dec | Z2: New Rating | AA2: 15-30 (.3) | AB2: Inc/Dec | AC2: New Rating | AD2: 0-100 (1) | AE2: Inc/Dec | AF2: New Rating
A3: Brendon Todd | C3: 2024 | E3: Free Agent | F3: 1985 | G3: =C3-F3 -> 39 | H3: 1 | K3: =N3+Q3+T3+W3+Z3+AC3 -> 83.9 | L3: 10 | M3: 30 | N3: =L3+(M3*0.2)-(H3*0.2)-(I3*0.2)-(J3*0.2) -> 15.8 | O3: 5 | P3: 23 | Q3: =O3+(P3*0.1)-(H3*0.1)-(I3*0.1)-(J3*0.1) -> 7.2 | R3: 10 | S3: 39 | T3: =R3+(S3*0.2)-(H3*0.2)-(I3*0.2)-(J3*0.2) -> 17.6 | U3: 5 | V3: 43 | W3: =U3+(V3*0.1)-(H3*0.1)-(I3*0.1)-(J3*0.1) -> 9.2 | X3: 5 | Y3: 43 | Z3: =X3+(Y3*0.1)-(H3*0.1)-(I3*0.1)-(J3*0.1) -> 9.2 | AA3: 15 | AB3: 34 | AC3: =AA3+(AB3*0.3)-(H3*0.3)-(I3*0.3)-(J3*0.3) -> 24.9 | AD3: 0 | AE3: 44 | AF3: =AD3+AE3 -> 44
A4: Ben Silverman | C4: 2024 | E4: Free Agent | F4: 1987 | G4: =C4-F4 -> 37 | H4: 1 | K4: =N4+Q4+T4+W4+Z4+AC4 -> 79.5 | L4: 10 | M4: 35 | N4: =L4+(M4*0.2)-(H4*0.2)-(I4*0.2)-(J4*0.2) -> 16.8 | O4: 5 | P4: 24 | Q4: =O4+(P4*0.1)-(H4*0.1)-(I4*0.1)-(J4*0.1) -> 7.3 | R4: 10 | S4: 30 | T4: =R4+(S4*0.2)-(H4*0.2)-(I4*0.2)-(J4*0.2) -> 15.8 | U4: 5 | V4: 34 | W4: =U4+(V4*0.1)-(H4*0.1)-(I4*0.1)-(J4*0.1) -> 8.3 | X4: 5 | Y4: 36 | Z4: =X4+(Y4*0.1)-(H4*0.1)-(I4*0.1)-(J4*0.1) -> 8.5 | AA4: 15 | AB4: 27 | AC4: =AA4+(AB4*0.3)-(H4*0.3)-(I4*0.3)-(J4*0.3) -> 22.8 | AD4: 0 | AE4: 49 | AF4: =AD4+AE4 -> 49
A5: Alex Noren | C5: 2024 | E5: Free Agent | F5: 1982 | G5: =C5-F5 -> 42 | H5: 1 | I5: 2 | K5: =N5+Q5+T5+W5+Z5+AC5 -> 78.3 | L5: 10 | M5: 26 | N5: =L5+(M5*0.2)-(H5*0.2)-(I5*0.2)-(J5*0.2) -> 14.6 | O5: 5 | P5: 30 | Q5: =O5+(P5*0.1)-(H5*0.1)-(I5*0.1)-(J5*0.1) -> 7.7 | R5: 10 | S5: 27 | T5: =R5+(S5*0.2)-(H5*0.2)-(I5*0.2)-(J5*0.2) -> 14.8 | U5: 5 | V5: 29 | W5: =U5+(V5*0.1)-(H5*0.1)-(I5*0.1)-(J5*0.1) -> 7.6 | X5: 5 | Y5: 28 | Z5: =X5+(Y5*0.1)-(H5*0.1)-(I5*0.1)-(J5*0.1) -> 7.5 | AA5: 15 | AB5: 40 | AC5: =AA5+(AB5*0.3)-(H5*0.3)-(I5*0.3)-(J5*0.3) -> 26.1 | AD5: 0 | AE5: 54 | AF5: =AD5+AE5 -> 54
A6: David Toms | C6: 2024 | E6: Free Agent | F6: 1967 | G6: =C6-F6 -> 57 | H6: 1 | I6: 2 | J6: 3 | K6: =N6+Q6+T6+W6+Z6+AC6 -> 77.5 | L6: 10 | M6: 27 | N6: =L6+(M6*0.2)-(H6*0.2)-(I6*0.2)-(J6*0.2) -> 14.2 | O6: 5 | P6: 26 | Q6: =O6+(P6*0.1)-(H6*0.1)-(I6*0.1)-(J6*0.1) -> 7 | R6: 10 | S6: 40 | T6: =R6+(S6*0.2)-(H6*0.2)-(I6*0.2)-(J6*0.2) -> 16.8 | U6: 5 | V6: 40 | W6: =U6+(V6*0.1)-(H6*0.1)-(I6*0.1)-(J6*0.1) -> 8.4 | X6: 5 | Y6: 30 | Z6: =X6+(Y6*0.1)-(H6*0.1)-(I6*0.1)-(J6*0.1) -> 7.4 | AA6: 15 | AB6: 35 | AC6: =AA6+(AB6*0.3)-(H6*0.3)-(I6*0.3)-(J6*0.3) -> 23.7 | AD6: 0 | AE6: 55 | AF6: =AD6+AE6 -> 55
A7: Gary Woodland | C7: 2024 | E7: Free Agent | F7: 1984 | G7: =C7-F7 -> 40 | H7: 1 | I7: 2 | K7: =N7+Q7+T7+W7+Z7+AC7 -> 77.3 | L7: 10 | M7: 35 | N7: =L7+(M7*0.2)-(H7*0.2)-(I7*0.2)-(J7*0.2) -> 16.4 | O7: 5 | P7: 15 | Q7: =O7+(P7*0.1)-(H7*0.1)-(I7*0.1)-(J7*0.1) -> 6.2 | R7: 10 | S7: 35 | T7: =R7+(S7*0.2)-(H7*0.2)-(I7*0.2)-(J7*0.2) -> 16.4 | U7: 5 | V7: 25 | W7: =U7+(V7*0.1)-(H7*0.1)-(I7*0.1)-(J7*0.1) -> 7.2 | X7: 5 | Y7: 27 | Z7: =X7+(Y7*0.1)-(H7*0.1)-(I7*0.1)-(J7*0.1) -> 7.4 | AA7: 15 | AB7: 32 | AC7: =AA7+(AB7*0.3)-(H7*0.3)-(I7*0.3)-(J7*0.3) -> 23.7 | AD7: 0 | AE7: 54 | AF7: =AD7+AE7 -> 54
A8: Brian Harman | C8: 2024 | E8: Free Agent | F8: 1987 | G8: =C8-F8 -> 37 | H8: 1 | K8: =N8+Q8+T8+W8+Z8+AC8 -> 76.4 | L8: 10 | M8: 39 | N8: =L8+(M8*0.2)-(H8*0.2)-(I8*0.2)-(J8*0.2) -> 17.6 | O8: 5 | P8: 26 | Q8: =O8+(P8*0.1)-(H8*0.1)-(I8*0.1)-(J8*0.1) -> 7.5 | R8: 10 | S8: 18 | T8: =R8+(S8*0.2)-(H8*0.2)-(I8*0.2)-(J8*0.2) -> 13.4 | U8: 5 | V8: 15 | W8: =U8+(V8*0.1)-(H8*0.1)-(I8*0.1)-(J8*0.1) -> 6.4 | X8: 5 | Y8: 38 | Z8: =X8+(Y8*0.1)-(H8*0.1)-(I8*0.1)-(J8*0.1) -> 8.7 | AA8: 15 | AB8: 27 | AC8: =AA8+(AB8*0.3)-(H8*0.3)-(I8*0.3)-(J8*0.3) -> 22.8 | AD8: 0 | AE8: 46 | AF8: =AD8+AE8 -> 46
A9: Denny McCarthy | C9: 2024 | E9: Free Agent | F9: 1993 | G9: =C9-F9 -> 31 | H9: 1 | K9: =N9+Q9+T9+W9+Z9+AC9 -> 76.2 | L9: 10 | M9: 37 | N9: =L9+(M9*0.2)-(H9*0.2)-(I9*0.2)-(J9*0.2) -> 17.2 | O9: 5 | P9: 17 | Q9: =O9+(P9*0.1)-(H9*0.1)-(I9*0.1)-(J9*0.1) -> 6.6 | R9: 10 | S9: 19 | T9: =R9+(S9*0.2)-(H9*0.2)-(I9*0.2)-(J9*0.2) -> 13.6 | U9: 5 | V9: 26 | W9: =U9+(V9*0.1)-(H9*0.1)-(I9*0.1)-(J9*0.1) -> 7.5 | X9: 5 | Y9: 27 | Z9: =X9+(Y9*0.1)-(H9*0.1)-(I9*0.1)-(J9*0.1) -> 7.6 | AA9: 15 | AB9: 30 | AC9: =AA9+(AB9*0.3)-(H9*0.3)-(I9*0.3)-(J9*0.3) -> 23.7 | AD9: 0 | AE9: 57 | AF9: =AD9+AE9 -> 57
A10: Daniel Berger | C10: 2024 | E10: Free Agent | F10: 1993 | G10: =C10-F10 -> 31 | H10: 1 | K10: =N10+Q10+T10+W10+Z10+AC10 -> 76.1 | L10: 10 | M10: 27 | N10: =L10+(M10*0.2)-(H10*0.2)-(I10*0.2)-(J10*0.2) -> 15.2 | O10: 5 | P10: 21 | Q10: =O10+(P10*0.1)-(H10*0.1)-(I10*0.1)-(J10*0.1) -> 7 | R10: 10 | S10: 31 | T10: =R10+(S10*0.2)-(H10*0.2)-(I10*0.2)-(J10*0.2) -> 16 | U10: 5 | V10: 20 | W10: =U10+(V10*0.1)-(H10*0.1)-(I10*0.1)-(J10*0.1) -> 6.9 | X10: 5 | Y10: 21 | Z10: =X10+(Y10*0.1)-(H10*0.1)-(I10*0.1)-(J10*0.1) -> 7 | AA10: 15 | AB10: 31 | AC10: =AA10+(AB10*0.3)-(H10*0.3)-(I10*0.3)-(J10*0.3) -> 24 | AD10: 0 | AE10: 46 | AF10: =AD10+AE10 -> 46
A11: Corey Conners | C11: 2024 | E11: Free Agent | F11: 1992 | G11: =C11-F11 -> 32 | H11: 1 | K11: =N11+Q11+T11+W11+Z11+AC11 -> 76.1 | L11: 10 | M11: 41 | N11: =L11+(M11*0.2)-(H11*0.2)-(I11*0.2)-(J11*0.2) -> 18 | O11: 5 | P11: 21 | Q11: =O11+(P11*0.1)-(H11*0.1)-(I11*0.1)-(J11*0.1) -> 7 | R11: 10 | S11: 36 | T11: =R11+(S11*0.2)-(H11*0.2)-(I11*0.2)-(J11*0.2) -> 17 | U11: 5 | V11: 26 | W11: =U11+(V11*0.1)-(H11*0.1)-(I11*0.1)-(J11*0.1) -> 7.5 | X11: 5 | Y11: 19 | Z11: =X11+(Y11*0.1)-(H11*0.1)-(I11*0.1)-(J11*0.1) -> 6.8 | AA11: 15 | AB11: 17 | AC11: =AA11+(AB11*0.3)-(H11*0.3)-(I11*0.3)-(J11*0.3) -> 19.8 | AD11: 0 | AE11: 45 | AF11: =AD11+AE11 -> 45
A12: Emiliano Grillo | C12: 2024 | E12: Free Agent | F12: 1992 | G12: =C12-F12 -> 32 | H12: 1 | K12: =N12+Q12+T12+W12+Z12+AC12 -> 75.8 | L12: 10 | M12: 29 | N12: =L12+(M12*0.2)-(H12*0.2)-(I12*0.2)-(J12*0.2) -> 15.6 | O12: 5 | P12: 19 | Q12: =O12+(P12*0.1)-(H12*0.1)-(I12*0.1)-(J12*0.1) -> 6.8 | R12: 10 | S12: 26 | T12: =R12+(S12*0.2)-(H12*0.2)-(I12*0.2)-(J12*0.2) -> 15 | U12: 5 | V12: 28 | W12: =U12+(V12*0.1)-(H12*0.1)-(I12*0.1)-(J12*0.1) -> 7.7 | X12: 5 | Y12: 21 | Z12: =X12+(Y12*0.1)-(H12*0.1)-(I12*0.1)-(J12*0.1) -> 7 | AA12: 15 | AB12: 30 | AC12: =AA12+(AB12*0.3)-(H12*0.3)-(I12*0.3)-(J12*0.3) -> 23.7 | AD12: 0 | AE12: 52 | AF12: =AD12+AE12 -> 52
A13: Anthony Kim | C13: 2024 | E13: Free Agent | F13: 1985 | G13: =C13-F13 -> 39 | H13: 1 | K13: =N13+Q13+T13+W13+Z13+AC13 -> 75.6 | L13: 10 | M13: 20 | N13: =L13+(M13*0.2)-(H13*0.2)-(I13*0.2)-(J13*0.2) -> 13.8 | O13: 5 | P13: 25 | Q13: =O13+(P13*0.1)-(H13*0.1)-(I13*0.1)-(J13*0.1) -> 7.4 | R13: 10 | S13: 22 | T13: =R13+(S13*0.2)-(H13*0.2)-(I13*0.2)-(J13*0.2) -> 14.2 | U13: 5 | V13: 20 | W13: =U13+(V13*0.1)-(H13*0.1)-(I13*0.1)-(J13*0.1) -> 6.9 | X13: 5 | Y13: 17 | Z13: =X13+(Y13*0.1)-(H13*0.1)-(I13*0.1)-(J13*0.1) -> 6.6 | AA13: 15 | AB13: 40 | AC13: =AA13+(AB13*0.3)-(H13*0.3)-(I13*0.3)-(J13*0.3) -> 26.7 | AD13: 0 | AE13: 57 | AF13: =AD13+AE13 -> 57
A14: Zach Johnson | C14: 2024 | E14: Free Agent | F14: 1976 | G14: =C14-F14 -> 48 | H14: 1 | I14: 2 | K14: =N14+Q14+T14+W14+Z14+AC14 -> 73.9 | L14: 10 | M14: 27 | N14: =L14+(M14*0.2)-(H14*0.2)-(I14*0.2)-(J14*0.2) -> 14.8 | O14: 5 | P14: 36 | Q14: =O14+(P14*0.1)-(H14*0.1)-(I14*0.1)-(J14*0.1) -> 8.3 | R14: 10 | S14: 29 | T14: =R14+(S14*0.2)-(H14*0.2)-(I14*0.2)-(J14*0.2) -> 15.2 | U14: 5 | V14: 31 | W14: =U14+(V14*0.1)-(H14*0.1)-(I14*0.1)-(J14*0.1) -> 7.8 | X14: 5 | Y14: 21 | Z14: =X14+(Y14*0.1)-(H14*0.1)-(I14*0.1)-(J14*0.1) -> 6.8 | AA14: 15 | AB14: 23 | AC14: =AA14+(AB14*0.3)-(H14*0.3)-(I14*0.3)-(J14*0.3) -> 21 | AD14: 0 | AE14: 54 | AF14: =AD14+AE14 -> 54
A15: Brett Quigley | C15: 2024 | E15: Free Agent | F15: 1969 | G15: =C15-F15 -> 55 | H15: 1 | I15: 2 | J15: 3 | K15: =N15+Q15+T15+W15+Z15+AC15 -> 73.8 | L15: 10 | M15: 33 | N15: =L15+(M15*0.2)-(H15*0.2)-(I15*0.2)-(J15*0.2) -> 15.4 | O15: 5 | P15: 27 | Q15: =O15+(P15*0.1)-(H15*0.1)-(I15*0.1)-(J15*0.1) -> 7.1 | R15: 10 | S15: 31 | T15: =R15+(S15*0.2)-(H15*0.2)-(I15*0.2)-(J15*0.2) -> 15 | U15: 5 | V15: 27 | W15: =U15+(V15*0.1)-(H15*0.1)-(I15*0.1)-(J15*0.1) -> 7.1 | X15: 5 | Y15: 35 | Z15: =X15+(Y15*0.1)-(H15*0.1)-(I15*0.1)-(J15*0.1) -> 7.9 | AA15: 15 | AB15: 27 | AC15: =AA15+(AB15*0.3)-(H15*0.3)-(I15*0.3)-(J15*0.3) -> 21.3 | AD15: 0 | AE15: 54 | AF15: =AD15+AE15 -> 54
A16: John Senden | C16: 2024 | E16: Free Agent | F16: 1971 | G16: =C16-F16 -> 53 | H16: 1 | I16: 2 | J16: 3 | K16: =N16+Q16+T16+W16+Z16+AC16 -> 73.6 | L16: 10 | M16: 36 | N16: =L16+(M16*0.2)-(H16*0.2)-(I16*0.2)-(J16*0.2) -> 16 | O16: 5 | P16: 24 | Q16: =O16+(P16*0.1)-(H16*0.1)-(I16*0.1)-(J16*0.1) -> 6.8 | R16: 10 | S16: 14 | T16: =R16+(S16*0.2)-(H16*0.2)-(I16*0.2)-(J16*0.2) -> 11.6 | U16: 5 | V16: 30 | W16: =U16+(V16*0.1)-(H16*0.1)-(I16*0.1)-(J16*0.1) -> 7.4 | X16: 5 | Y16: 31 | Z16: =X16+(Y16*0.1)-(H16*0.1)-(I16*0.1)-(J16*0.1) -> 7.5 | AA16: 15 | AB16: 37 | AC16: =AA16+(AB16*0.3)-(H16*0.3)-(I16*0.3)-(J16*0.3) -> 24.3 | AD16: 0 | AE16: 43 | AF16: =AD16+AE16 -> 43
A17: Maverick McNealy | C17: 2024 | E17: Free Agent | F17: 1995 | G17: =C17-F17 -> 29 | K17: =N17+Q17+T17+W17+Z17+AC17 -> 73.2 | L17: 10 | M17: 29 | N17: =L17+(M17*0.2)-(H17*0.2)-(I17*0.2)-(J17*0.2) -> 15.8 | O17: 5 | P17: 29 | Q17: =O17+(P17*0.1)-(H17*0.1)-(I17*0.1)-(J17*0.1) -> 7.9 | R17: 10 | S17: 22 | T17: =R17+(S17*0.2)-(H17*0.2)-(I17*0.2)-(J17*0.2) -> 14.4 | U17: 5 | V17: 28 | W17: =U17+(V17*0.1)-(H17*0.1)-(I17*0.1)-(J17*0.1) -> 7.8 | X17: 5 | Y17: 25 | Z17: =X17+(Y17*0.1)-(H17*0.1)-(I17*0.1)-(J17*0.1) -> 7.5 | AA17: 15 | AB17: 16 | AC17: =AA17+(AB17*0.3)-(H17*0.3)-(I17*0.3)-(J17*0.3) -> 19.8 | AD17: 0 | AE17: 58 | AF17: =AD17+AE17 -> 58
A18: Jose Maria Olazabal | C18: 2024 | E18: Free Agent | F18: 1966 | G18: =C18-F18 -> 58 | H18: 1 | I18: 2 | J18: 3 | K18: =N18+Q18+T18+W18+Z18+AC18 -> 73.1 | L18: 10 | M18: 40 | N18: =L18+(M18*0.2)-(H18*0.2)-(I18*0.2)-(J18*0.2) -> 16.8 | O18: 5 | P18: 27 | Q18: =O18+(P18*0.1)-(H18*0.1)-(I18*0.1)-(J18*0.1) -> 7.1 | R18: 10 | S18: 29 | T18: =R18+(S18*0.2)-(H18*0.2)-(I18*0.2)-(J18*0.2) -> 14.6 | U18: 5 | V18: 27 | W18: =U18+(V18*0.1)-(H18*0.1)-(I18*0.1)-(J18*0.1) -> 7.1 | X18: 5 | Y18: 21 | Z18: =X18+(Y18*0.1)-(H18*0.1)-(I18*0.1)-(J18*0.1) -> 6.5 | AA18: 15 | AB18: 26 | AC18: =AA18+(AB18*0.3)-(H18*0.3)-(I18*0.3)-(J18*0.3) -> 21 | AD18: 0 | AE18: 56 | AF18: =AD18+AE18 -> 56
A19: Stewart Cink | C19: 2024 | E19: Free Agent | F19: 1973 | G19: =C19-F19 -> 51 | H19: 1 | I19: 2 | J19: 3 | K19: =N19+Q19+T19+W19+Z19+AC19 -> 72.8 | L19: 10 | M19: 23 | N19: =L19+(M19*0.2)-(H19*0.2)-(I19*0.2)-(J19*0.2) -> 13.4 | O19: 5 | P19: 35 | Q19: =O19+(P19*0.1)-(H19*0.1)-(I19*0.1)-(J19*0.1) -> 7.9 | R19: 10 | S19: 25 | T19: =R19+(S19*0.2)-(H19*0.2)-(I19*0.2)-(J19*0.2) -> 13.8 | U19: 5 | V19: 30 | W19: =U19+(V19*0.1)-(H19*0.1)-(I19*0.1)-(J19*0.1) -> 7.4 | X19: 5 | Y19: 22 | Z19: =X19+(Y19*0.1)-(H19*0.1)-(I19*0.1)-(J19*0.1) -> 6.6 | AA19: 15 | AB19: 35 | AC19: =AA19+(AB19*0.3)-(H19*0.3)-(I19*0.3)-(J19*0.3) -> 23.7 | AD19: 0 | AE19: 49 | AF19: =AD19+AE19 -> 49
A20: Francesco Molinari | C20: 2024 | E20: Free Agent | F20: 1982 | G20: =C20-F20 -> 42 | H20: 1 | I20: 2 | K20: =N20+Q20+T20+W20+Z20+AC20 -> 72.6 | L20: 10 | M20: 28 | N20: =L20+(M20*0.2)-(H20*0.2)-(I20*0.2)-(J20*0.2) -> 15 | O20: 5 | P20: 24 | Q20: =O20+(P20*0.1)-(H20*0.1)-(I20*0.1)-(J20*0.1) -> 7.1 | R20: 10 | S20: 31 | T20: =R20+(S20*0.2)-(H20*0.2)-(I20*0.2)-(J20*0.2) -> 15.6 | U20: 5 | V20: 31 | W20: =U20+(V20*0.1)-(H20*0.1)-(I20*0.1)-(J20*0.1) -> 7.8 | X20: 5 | Y20: 29 | Z20: =X20+(Y20*0.1)-(H20*0.1)-(I20*0.1)-(J20*0.1) -> 7.6 | AA20: 15 | AB20: 18 | AC20: =AA20+(AB20*0.3)-(H20*0.3)-(I20*0.3)-(J20*0.3) -> 19.5 | AD20: 0 | AE20: 43 | AF20: =AD20+AE20 -> 43
A21: Russell Henley | C21: 2024 | E21: Free Agent | F21: 1989 | G21: =C21-F21 -> 35 | H21: 1 | K21: =N21+Q21+T21+W21+Z21+AC21 -> 72.3 | L21: 10 | M21: 27 | N21: =L21+(M21*0.2)-(H21*0.2)-(I21*0.2)-(J21*0.2) -> 15.2 | O21: 5 | P21: 21 | Q21: =O21+(P21*0.1)-(H21*0.1)-(I21*0.1)-(J21*0.1) -> 7 | R21: 10 | S21: 14 | T21: =R21+(S21*0.2)-(H21*0.2)-(I21*0.2)-(J21*0.2) -> 12.6 | U21: 5 | V21: 27 | W21: =U21+(V21*0.1)-(H21*0.1)-(I21*0.1)-(J21*0.1) -> 7.6 | X21: 5 | Y21: 40 | Z21: =X21+(Y21*0.1)-(H21*0.1)-(I21*0.1)-(J21*0.1) -> 8.9 | AA21: 15 | AB21: 21 | AC21: =AA21+(AB21*0.3)-(H21*0.3)-(I21*0.3)-(J21*0.3) -> 21 | AD21: 0 | AE21: 59 | AF21: =AD21+AE21 -> 59
A22: Andrew Putnam | C22: 2024 | E22: Free Agent | F22: 1989 | G22: =C22-F22 -> 35 | H22: 1 | K22: =N22+Q22+T22+W22+Z22+AC22 -> 72 | L22: 10 | M22: 21 | N22: =L22+(M22*0.2)-(H22*0.2)-(I22*0.2)-(J22*0.2) -> 14 | O22: 5 | P22: 16 | Q22: =O22+(P22*0.1)-(H22*0.1)-(I22*0.1)-(J22*0.1) -> 6.5 | R22: 10 | S22: 32 | T22: =R22+(S22*0.2)-(H22*0.2)-(I22*0.2)-(J22*0.2) -> 16.2 | U22: 5 | V22: 23 | W22: =U22+(V22*0.1)-(H22*0.1)-(I22*0.1)-(J22*0.1) -> 7.2 | X22: 5 | Y22: 19 | Z22: =X22+(Y22*0.1)-(H22*0.1)-(I22*0.1)-(J22*0.1) -> 6.8 | AA22: 15 | AB22: 22 | AC22: =AA22+(AB22*0.3)-(H22*0.3)-(I22*0.3)-(J22*0.3) -> 21.3 | AD22: 0 | AE22: 55 | AF22: =AD22+AE22 -> 55
A23: Brandt Snedeker | C23: 2024 | E23: Free Agent | F23: 1980 | G23: =C23-F23 -> 44 | H23: 1 | I23: 2 | K23: =N23+Q23+T23+W23+Z23+AC23 -> 72 | L23: 10 | M23: 24 | N23: =L23+(M23*0.2)-(H23*0.2)-(I23*0.2)-(J23*0.2) -> 14.2 | O23: 5 | P23: 12 | Q23: =O23+(P23*0.1)-(H23*0.1)-(I23*0.1)-(J23*0.1) -> 5.9 | R23: 10 | S23: 32 | T23: =R23+(S23*0.2)-(H23*0.2)-(I23*0.2)-(J23*0.2) -> 15.8 | U23: 5 | V23: 9 | W23: =U23+(V23*0.1)-(H23*0.1)-(I23*0.1)-(J23*0.1) -> 5.6 | X23: 5 | Y23: 30 | Z23: =X23+(Y23*0.1)-(H23*0.1)-(I23*0.1)-(J23*0.1) -> 7.7 | AA23: 15 | AB23: 29 | AC23: =AA23+(AB23*0.3)-(H23*0.3)-(I23*0.3)-(J23*0.3) -> 22.8 | AD23: 0 | AE23: 60 | AF23: =AD23+AE23 -> 60
A24: Jordan Spieth | C24: 2024 | E24: Free Agent | F24: 1993 | G24: =C24-F24 -> 31 | H24: 1 | K24: =N24+Q24+T24+W24+Z24+AC24 -> 71.6 | L24: 10 | M24: 34 | N24: =L24+(M24*0.2)-(H24*0.2)-(I24*0.2)-(J24*0.2) -> 16.6 | O24: 5 | P24: 21 | Q24: =O24+(P24*0.1)-(H24*0.1)-(I24*0.1)-(J24*0.1) -> 7 | R24: 10 | S24: 15 | T24: =R24+(S24*0.2)-(H24*0.2)-(I24*0.2)-(J24*0.2) -> 12.8 | U24: 5 | V24: 31 | W24: =U24+(V24*0.1)-(H24*0.1)-(I24*0.1)-(J24*0.1) -> 8 | X24: 5 | Y24: 16 | Z24: =X24+(Y24*0.1)-(H24*0.1)-(I24*0.1)-(J24*0.1) -> 6.5 | AA24: 15 | AB24: 20 | AC24: =AA24+(AB24*0.3)-(H24*0.3)-(I24*0.3)-(J24*0.3) -> 20.7 | AD24: 0 | AE24: 54 | AF24: =AD24+AE24 -> 54
A25: Webb Simpson | C25: 2024 | E25: Free Agent | F25: 1985 | G25: =C25-F25 -> 39 | H25: 1 | K25: =N25+Q25+T25+W25+Z25+AC25 -> 71.5 | L25: 10 | M25: 22 | N25: =L25+(M25*0.2)-(H25*0.2)-(I25*0.2)-(J25*0.2) -> 14.2 | O25: 5 | P25: 7 | Q25: =O25+(P25*0.1)-(H25*0.1)-(I25*0.1)-(J25*0.1) -> 5.6 | R25: 10 | S25: 31 | T25: =R25+(S25*0.2)-(H25*0.2)-(I25*0.2)-(J25*0.2) -> 16 | U25: 5 | V25: 34 | W25: =U25+(V25*0.1)-(H25*0.1)-(I25*0.1)-(J25*0.1) -> 8.3 | X25: 5 | Y25: 27 | Z25: =X25+(Y25*0.1)-(H25*0.1)-(I25*0.1)-(J25*0.1) -> 7.6 | AA25: 15 | AB25: 17 | AC25: =AA25+(AB25*0.3)-(H25*0.3)-(I25*0.3)-(J25*0.3) -> 19.8 | AD25: 0 | AE25: 43 | AF25: =AD25+AE25 -> 43
A26: Steve Stricker | C26: 2024 | E26: Free Agent | F26: 1967 | G26: =C26-F26 -> 57 | H26: 1 | I26: 2 | J26: 3 | K26: =N26+Q26+T26+W26+Z26+AC26 -> 70.7 | L26: 10 | M26: 32 | N26: =L26+(M26*0.2)-(H26*0.2)-(I26*0.2)-(J26*0.2) -> 15.2 | O26: 5 | P26: 30 | Q26: =O26+(P26*0.1)-(H26*0.1)-(I26*0.1)-(J26*0.1) -> 7.4 | R26: 10 | S26: 32 | T26: =R26+(S26*0.2)-(H26*0.2)-(I26*0.2)-(J26*0.2) -> 15.2 | U26: 5 | V26: 24 | W26: =U26+(V26*0.1)-(H26*0.1)-(I26*0.1)-(J26*0.1) -> 6.8 | X26: 5 | Y26: 25 | Z26: =X26+(Y26*0.1)-(H26*0.1)-(I26*0.1)-(J26*0.1) -> 6.9 | AA26: 15 | AB26: 20 | AC26: =AA26+(AB26*0.3)-(H26*0.3)-(I26*0.3)-(J26*0.3) -> 19.2 | AD26: 0 | AE26: 46 | AF26: =AD26+AE26 -> 46
A27: Chris DiMarco | C27: 2024 | E27: Free Agent | F27: 1968 | G27: =C27-F27 -> 56 | H27: 1 | I27: 2 | J27: 3 | K27: =N27+Q27+T27+W27+Z27+AC27 -> 70.5 | L27: 10 | M27: 23 | N27: =L27+(M27*0.2)-(H27*0.2)-(I27*0.2)-(J27*0.2) -> 13.4 | O27: 5 | P27: 26 | Q27: =O27+(P27*0.1)-(H27*0.1)-(I27*0.1)-(J27*0.1) -> 7 | R27: 10 | S27: 35 | T27: =R27+(S27*0.2)-(H27*0.2)-(I27*0.2)-(J27*0.2) -> 15.8 | U27: 5 | V27: 37 | W27: =U27+(V27*0.1)-(H27*0.1)-(I27*0.1)-(J27*0.1) -> 8.1 | X27: 5 | Y27: 23 | Z27: =X27+(Y27*0.1)-(H27*0.1)-(I27*0.1)-(J27*0.1) -> 6.7 | AA27: 15 | AB27: 21 | AC27: =AA27+(AB27*0.3)-(H27*0.3)-(I27*0.3)-(J27*0.3) -> 19.5 | AD27: 0 | AE27: 45 | AF27: =AD27+AE27 -> 45
A28: Robert Gamez | C28: 2024 | E28: Free Agent | F28: 1968 | G28: =C28-F28 -> 56 | H28: 1 | I28: 2 | J28: 3 | K28: =N28+Q28+T28+W28+Z28+AC28 -> 70.2 | L28: 10 | M28: 32 | N28: =L28+(M28*0.2)-(H28*0.2)-(I28*0.2)-(J28*0.2) -> 15.2 | O28: 5 | P28: 20 | Q28: =O28+(P28*0.1)-(H28*0.1)-(I28*0.1)-(J28*0.1) -> 6.4 | R28: 10 | S28: 26 | T28: =R28+(S28*0.2)-(H28*0.2)-(I28*0.2)-(J28*0.2) -> 14 | U28: 5 | V28: 25 | W28: =U28+(V28*0.1)-(H28*0.1)-(I28*0.1)-(J28*0.1) -> 6.9 | X28: 5 | Y28: 32 | Z28: =X28+(Y28*0.1)-(H28*0.1)-(I28*0.1)-(J28*0.1) -> 7.6 | AA28: 15 | AB28: 23 | AC28: =AA28+(AB28*0.3)-(H28*0.3)-(I28*0.3)-(J28*0.3) -> 20.1 | AD28: 0 | AE28: 40 | AF28: =AD28+AE28 -> 40
A29: Keith Mitchell | C29: 2024 | E29: Free Agent | F29: 1992 | G29: =C29-F29 -> 32 | H29: 1 | K29: =N29+Q29+T29+W29+Z29+AC29 -> 70 | L29: 10 | M29: 22 | N29: =L29+(M29*0.2)-(H29*0.2)-(I29*0.2)-(J29*0.2) -> 14.2 | O29: 5 | P29: 28 | Q29: =O29+(P29*0.1)-(H29*0.1)-(I29*0.1)-(J29*0.1) -> 7.7 | R29: 10 | S29: 12 | T29: =R29+(S29*0.2)-(H29*0.2)-(I29*0.2)-(J29*0.2) -> 12.2 | U29: 5 | V29: 14 | W29: =U29+(V29*0.1)-(H29*0.1)-(I29*0.1)-(J29*0.1) -> 6.3 | X29: 5 | Y29: 19 | Z29: =X29+(Y29*0.1)-(H29*0.1)-(I29*0.1)-(J29*0.1) -> 6.8 | AA29: 15 | AB29: 27 | AC29: =AA29+(AB29*0.3)-(H29*0.3)-(I29*0.3)-(J29*0.3) -> 22.8 | AD29: 0 | AE29: 59 | AF29: =AD29+AE29 -> 59
A30: Taylor Pendrith | C30: 2024 | E30: Free Agent | F30: 1991 | G30: =C30-F30 -> 33 | H30: 1 | K30: =N30+Q30+T30+W30+Z30+AC30 -> 70 | L30: 10 | M30: 32 | N30: =L30+(M30*0.2)-(H30*0.2)-(I30*0.2)-(J30*0.2) -> 16.2 | O30: 5 | P30: 21 | Q30: =O30+(P30*0.1)-(H30*0.1)-(I30*0.1)-(J30*0.1) -> 7 | R30: 10 | S30: 16 | T30: =R30+(S30*0.2)-(H30*0.2)-(I30*0.2)-(J30*0.2) -> 13 | U30: 5 | V30: 13 | W30: =U30+(V30*0.1)-(H30*0.1)-(I30*0.1)-(J30*0.1) -> 6.2 | X30: 5 | Y30: 29 | Z30: =X30+(Y30*0.1)-(H30*0.1)-(I30*0.1)-(J30*0.1) -> 7.8 | AA30: 15 | AB30: 17 | AC30: =AA30+(AB30*0.3)-(H30*0.3)-(I30*0.3)-(J30*0.3) -> 19.8 | AD30: 0 | AE30: 56 | AF30: =AD30+AE30 -> 56
A31: Billy Mayfair | C31: 2024 | E31: Free Agent | F31: 1966 | G31: =C31-F31 -> 58 | H31: 1 | I31: 2 | J31: 3 | K31: =N31+Q31+T31+W31+Z31+AC31 -> 70 | L31: 10 | M31: 17 | N31: =L31+(M31*0.2)-(H31*0.2)-(I31*0.2)-(J31*0.2) -> 12.2 | O31: 5 | P31: 27 | Q31: =O31+(P31*0.1)-(H31*0.1)-(I31*0.1)-(J31*0.1) -> 7.1 | R31: 10 | S31: 34 | T31: =R31+(S31*0.2)-(H31*0.2)-(I31*0.2)-(J31*0.2) -> 15.6 | U31: 5 | V31: 35 | W31: =U31+(V31*0.1)-(H31*0.1)-(I31*0.1)-(J31*0.1) -> 7.9 | X31: 5 | Y31: 21 | Z31: =X31+(Y31*0.1)-(H31*0.1)-(I31*0.1)-(J31*0.1) -> 6.5 | AA31: 15 | AB31: 25 | AC31: =AA31+(AB31*0.3)-(H31*0.3)-(I31*0.3)-(J31*0.3) -> 20.7 | AD31: 0 | AE31: 53 | AF31: =AD31+AE31 -> 53
A32: Jimmy Walker | C32: 2024 | E32: Free Agent | F32: 1979 | G32: =C32-F32 -> 45 | H32: 1 | I32: 2 | K32: =N32+Q32+T32+W32+Z32+AC32 -> 69.9 | L32: 10 | M32: 10 | N32: =L32+(M32*0.2)-(H32*0.2)-(I32*0.2)-(J32*0.2) -> 11.4 | O32: 5 | P32: 31 | Q32: =O32+(P32*0.1)-(H32*0.1)-(I32*0.1)-(J32*0.1) -> 7.8 | R32: 10 | S32: 25 | T32: =R32+(S32*0.2)-(H32*0.2)-(I32*0.2)-(J32*0.2) -> 14.4 | U32: 5 | V32: 43 | W32: =U32+(V32*0.1)-(H32*0.1)-(I32*0.1)-(J32*0.1) -> 9 | X32: 5 | Y32: 28 | Z32: =X32+(Y32*0.1)-(H32*0.1)-(I32*0.1)-(J32*0.1) -> 7.5 | AA32: 15 | AB32: 19 | AC32: =AA32+(AB32*0.3)-(H32*0.3)-(I32*0.3)-(J32*0.3) -> 19.8 | AD32: 0 | AE32: 57 | AF32: =AD32+AE32 -> 57
A33: Jim Furyk | C33: 2024 | E33: Free Agent | F33: 1970 | G33: =C33-F33 -> 54 | H33: 1 | I33: 2 | J33: 3 | K33: =N33+Q33+T33+W33+Z33+AC33 -> 69.8 | L33: 10 | M33: 17 | N33: =L33+(M33*0.2)-(H33*0.2)-(I33*0.2)-(J33*0.2) -> 12.2 | O33: 5 | P33: 30 | Q33: =O33+(P33*0.1)-(H33*0.1)-(I33*0.1)-(J33*0.1) -> 7.4 | R33: 10 | S33: 31 | T33: =R33+(S33*0.2)-(H33*0.2)-(I33*0.2)-(J33*0.2) -> 15 | U33: 5 | V33: 18 | W33: =U33+(V33*0.1)-(H33*0.1)-(I33*0.1)-(J33*0.1) -> 6.2 | X33: 5 | Y33: 24 | Z33: =X33+(Y33*0.1)-(H33*0.1)-(I33*0.1)-(J33*0.1) -> 6.8 | AA33: 15 | AB33: 30 | AC33: =AA33+(AB33*0.3)-(H33*0.3)-(I33*0.3)-(J33*0.3) -> 22.2 | AD33: 0 | AE33: 50 | AF33: =AD33+AE33 -> 50
A34: John Daly | C34: 2024 | E34: Free Agent | F34: 1966 | G34: =C34-F34 -> 58 | H34: 1 | I34: 2 | J34: 3 | K34: =N34+Q34+T34+W34+Z34+AC34 -> 69.8 | L34: 10 | M34: 29 | N34: =L34+(M34*0.2)-(H34*0.2)-(I34*0.2)-(J34*0.2) -> 14.6 | O34: 5 | P34: 27 | Q34: =O34+(P34*0.1)-(H34*0.1)-(I34*0.1)-(J34*0.1) -> 7.1 | R34: 10 | S34: 21 | T34: =R34+(S34*0.2)-(H34*0.2)-(I34*0.2)-(J34*0.2) -> 13 | U34: 5 | V34: 31 | W34: =U34+(V34*0.1)-(H34*0.1)-(I34*0.1)-(J34*0.1) -> 7.5 | X34: 5 | Y34: 22 | Z34: =X34+(Y34*0.1)-(H34*0.1)-(I34*0.1)-(J34*0.1) -> 6.6 | AA34: 15 | AB34: 26 | AC34: =AA34+(AB34*0.3)-(H34*0.3)-(I34*0.3)-(J34*0.3) -> 21 | AD34: 0 | AE34: 55 | AF34: =AD34+AE34 -> 55
A35: Darren Clarke | C35: 2024 | E35: Free Agent | F35: 1968 | G35: =C35-F35 -> 56 | H35: 1 | I35: 2 | J35: 3 | K35: =N35+Q35+T35+W35+Z35+AC35 -> 69.8 | L35: 10 | M35: 26 | N35: =L35+(M35*0.2)-(H35*0.2)-(I35*0.2)-(J35*0.2) -> 14 | O35: 5 | P35: 17 | Q35: =O35+(P35*0.1)-(H35*0.1)-(I35*0.1)-(J35*0.1) -> 6.1 | R35: 10 | S35: 24 | T35: =R35+(S35*0.2)-(H35*0.2)-(I35*0.2)-(J35*0.2) -> 13.6 | U35: 5 | V35: 28 | W35: =U35+(V35*0.1)-(H35*0.1)-(I35*0.1)-(J35*0.1) -> 7.2 | X35: 5 | Y35: 29 | Z35: =X35+(Y35*0.1)-(H35*0.1)-(I35*0.1)-(J35*0.1) -> 7.3 | AA35: 15 | AB35: 28 | AC35: =AA35+(AB35*0.3)-(H35*0.3)-(I35*0.3)-(J35*0.3) -> 21.6 | AD35: 0 | AE35: 55 | AF35: =AD35+AE35 -> 55
A36: Padraig Harrington | C36: 2024 | E36: Free Agent | F36: 1971 | G36: =C36-F36 -> 53 | H36: 1 | I36: 2 | J36: 3 | K36: =N36+Q36+T36+W36+Z36+AC36 -> 69.7 | L36: 10 | M36: 28 | N36: =L36+(M36*0.2)-(H36*0.2)-(I36*0.2)-(J36*0.2) -> 14.4 | O36: 5 | P36: 35 | Q36: =O36+(P36*0.1)-(H36*0.1)-(I36*0.1)-(J36*0.1) -> 7.9 | R36: 10 | S36: 25 | T36: =R36+(S36*0.2)-(H36*0.2)-(I36*0.2)-(J36*0.2) -> 13.8 | U36: 5 | V36: 14 | W36: =U36+(V36*0.1)-(H36*0.1)-(I36*0.1)-(J36*0.1) -> 5.8 | X36: 5 | Y36: 18 | Z36: =X36+(Y36*0.1)-(H36*0.1)-(I36*0.1)-(J36*0.1) -> 6.2 | AA36: 15 | AB36: 28 | AC36: =AA36+(AB36*0.3)-(H36*0.3)-(I36*0.3)-(J36*0.3) -> 21.6 | AD36: 0 | AE36: 49 | AF36: =AD36+AE36 -> 49
A37: Bob Estes | C37: 2024 | E37: Free Agent | F37: 1966 | G37: =C37-F37 -> 58 | H37: 1 | I37: 2 | J37: 3 | K37: =N37+Q37+T37+W37+Z37+AC37 -> 69.5 | L37: 10 | M37: 39 | N37: =L37+(M37*0.2)-(H37*0.2)-(I37*0.2)-(J37*0.2) -> 16.6 | O37: 5 | P37: 20 | Q37: =O37+(P37*0.1)-(H37*0.1)-(I37*0.1)-(J37*0.1) -> 6.4 | R37: 10 | S37: 20 | T37: =R37+(S37*0.2)-(H37*0.2)-(I37*0.2)-(J37*0.2) -> 12.8 | U37: 5 | V37: 18 | W37: =U37+(V37*0.1)-(H37*0.1)-(I37*0.1)-(J37*0.1) -> 6.2 | X37: 5 | Y37: 15 | Z37: =X37+(Y37*0.1)-(H37*0.1)-(I37*0.1)-(J37*0.1) -> 5.9 | AA37: 15 | AB37: 28 | AC37: =AA37+(AB37*0.3)-(H37*0.3)-(I37*0.3)-(J37*0.3) -> 21.6 | AD37: 0 | AE37: 58 | AF37: =AD37+AE37 -> 58
A38: Dudley Hart | C38: 2024 | E38: Free Agent | F38: 1968 | G38: =C38-F38 -> 56 | H38: 1 | I38: 2 | J38: 3 | K38: =N38+Q38+T38+W38+Z38+AC38 -> 69 | L38: 10 | M38: 19 | N38: =L38+(M38*0.2)-(H38*0.2)-(I38*0.2)-(J38*0.2) -> 12.6 | O38: 5 | P38: 29 | Q38: =O38+(P38*0.1)-(H38*0.1)-(I38*0.1)-(J38*0.1) -> 7.3 | R38: 10 | S38: 35 | T38: =R38+(S38*0.2)-(H38*0.2)-(I38*0.2)-(J38*0.2) -> 15.8 | U38: 5 | V38: 28 | W38: =U38+(V38*0.1)-(H38*0.1)-(I38*0.1)-(J38*0.1) -> 7.2 | X38: 5 | Y38: 16 | Z38: =X38+(Y38*0.1)-(H38*0.1)-(I38*0.1)-(J38*0.1) -> 6 | AA38: 15 | AB38: 23 | AC38: =AA38+(AB38*0.3)-(H38*0.3)-(I38*0.3)-(J38*0.3) -> 20.1 | AD38: 0 | AE38: 58 | AF38: =AD38+AE38 -> 58
A39: Jhonattan Vegas | C39: 2024 | E39: Free Agent | F39: 1984 | G39: =C39-F39 -> 40 | H39: 1 | I39: 2 | K39: =N39+Q39+T39+W39+Z39+AC39 -> 68.7 | L39: 10 | M39: 22 | N39: =L39+(M39*0.2)-(H39*0.2)-(I39*0.2)-(J39*0.2) -> 13.8 | O39: 5 | P39: 33 | Q39: =O39+(P39*0.1)-(H39*0.1)-(I39*0.1)-(J39*0.1) -> 8 | R39: 10 | S39: 8 | T39: =R39+(S39*0.2)-(H39*0.2)-(I39*0.2)-(J39*0.2) -> 11 | U39: 5 | V39: 27 | W39: =U39+(V39*0.1)-(H39*0.1)-(I39*0.1)-(J39*0.1) -> 7.4 | X39: 5 | Y39: 37 | Z39: =X39+(Y39*0.1)-(H39*0.1)-(I39*0.1)-(J39*0.1) -> 8.4 | AA39: 15 | AB39: 20 | AC39: =AA39+(AB39*0.3)-(H39*0.3)-(I39*0.3)-(J39*0.3) -> 20.1 | AD39: 0 | AE39: 47 | AF39: =AD39+AE39 -> 47
A40: Stuart Appleby | C40: 2024 | E40: Free Agent | F40: 1971 | G40: =C40-F40 -> 53 | H40: 1 | I40: 2 | J40: 3 | K40: =N40+Q40+T40+W40+Z40+AC40 -> 68.6 | L40: 10 | M40: 25 | N40: =L40+(M40*0.2)-(H40*0.2)-(I40*0.2)-(J40*0.2) -> 13.8 | O40: 5 | P40: 28 | Q40: =O40+(P40*0.1)-(H40*0.1)-(I40*0.1)-(J40*0.1) -> 7.2 | R40: 10 | S40: 21 | T40: =R40+(S40*0.2)-(H40*0.2)-(I40*0.2)-(J40*0.2) -> 13 | U40: 5 | V40: 28 | W40: =U40+(V40*0.1)-(H40*0.1)-(I40*0.1)-(J40*0.1) -> 7.2 | X40: 5 | Y40: 23 | Z40: =X40+(Y40*0.1)-(H40*0.1)-(I40*0.1)-(J40*0.1) -> 6.7 | AA40: 15 | AB40: 25 | AC40: =AA40+(AB40*0.3)-(H40*0.3)-(I40*0.3)-(J40*0.3) -> 20.7 | AD40: 0 | AE40: 41 | AF40: =AD40+AE40 -> 41
A41: David Duval | C41: 2024 | E41: Free Agent | F41: 1971 | G41: =C41-F41 -> 53 | H41: 1 | I41: 2 | J41: 3 | K41: =N41+Q41+T41+W41+Z41+AC41 -> 68.6 | L41: 10 | M41: 18 | N41: =L41+(M41*0.2)-(H41*0.2)-(I41*0.2)-(J41*0.2) -> 12.4 | O41: 5 | P41: 31 | Q41: =O41+(P41*0.1)-(H41*0.1)-(I41*0.1)-(J41*0.1) -> 7.5 | R41: 10 | S41: 30 | T41: =R41+(S41*0.2)-(H41*0.2)-(I41*0.2)-(J41*0.2) -> 14.8 | U41: 5 | V41: 20 | W41: =U41+(V41*0.1)-(H41*0.1)-(I41*0.1)-(J41*0.1) -> 6.4 | X41: 5 | Y41: 21 | Z41: =X41+(Y41*0.1)-(H41*0.1)-(I41*0.1)-(J41*0.1) -> 6.5 | AA41: 15 | AB41: 26 | AC41: =AA41+(AB41*0.3)-(H41*0.3)-(I41*0.3)-(J41*0.3) -> 21 | AD41: 0 | AE41: 56 | AF41: =AD41+AE41 -> 56
A42: Angel Cabrera | C42: 2024 | E42: Free Agent | F42: 1969 | G42: =C42-F42 -> 55 | H42: 1 | I42: 2 | J42: 3 | K42: =N42+Q42+T42+W42+Z42+AC42 -> 68.1 | L42: 10 | M42: 33 | N42: =L42+(M42*0.2)-(H42*0.2)-(I42*0.2)-(J42*0.2) -> 15.4 | O42: 5 | P42: 30 | Q42: =O42+(P42*0.1)-(H42*0.1)-(I42*0.1)-(J42*0.1) -> 7.4 | R42: 10 | S42: 19 | T42: =R42+(S42*0.2)-(H42*0.2)-(I42*0.2)-(J42*0.2) -> 12.6 | U42: 5 | V42: 30 | W42: =U42+(V42*0.1)-(H42*0.1)-(I42*0.1)-(J42*0.1) -> 7.4 | X42: 5 | Y42: 29 | Z42: =X42+(Y42*0.1)-(H42*0.1)-(I42*0.1)-(J42*0.1) -> 7.3 | AA42: 15 | AB42: 16 | AC42: =AA42+(AB42*0.3)-(H42*0.3)-(I42*0.3)-(J42*0.3) -> 18 | AD42: 0 | AE42: 45 | AF42: =AD42+AE42 -> 45
A43: Tim Herron | C43: 2024 | E43: Free Agent | F43: 1970 | G43: =C43-F43 -> 54 | H43: 1 | I43: 2 | J43: 3 | K43: =N43+Q43+T43+W43+Z43+AC43 -> 67.4 | L43: 10 | M43: 33 | N43: =L43+(M43*0.2)-(H43*0.2)-(I43*0.2)-(J43*0.2) -> 15.4 | O43: 5 | P43: 18 | Q43: =O43+(P43*0.1)-(H43*0.1)-(I43*0.1)-(J43*0.1) -> 6.2 | R43: 10 | S43: 12 | T43: =R43+(S43*0.2)-(H43*0.2)-(I43*0.2)-(J43*0.2) -> 11.2 | U43: 5 | V43: 31 | W43: =U43+(V43*0.1)-(H43*0.1)-(I43*0.1)-(J43*0.1) -> 7.5 | X43: 5 | Y43: 23 | Z43: =X43+(Y43*0.1)-(H43*0.1)-(I43*0.1)-(J43*0.1) -> 6.7 | AA43: 15 | AB43: 24 | AC43: =AA43+(AB43*0.3)-(H43*0.3)-(I43*0.3)-(J43*0.3) -> 20.4 | AD43: 0 | AE43: 48 | AF43: =AD43+AE43 -> 48
A44: Mike Weir | C44: 2024 | E44: Free Agent | F44: 1970 | G44: =C44-F44 -> 54 | H44: 1 | I44: 2 | J44: 3 | K44: =N44+Q44+T44+W44+Z44+AC44 -> 67.3 | L44: 10 | M44: 33 | N44: =L44+(M44*0.2)-(H44*0.2)-(I44*0.2)-(J44*0.2) -> 15.4 | O44: 5 | P44: 24 | Q44: =O44+(P44*0.1)-(H44*0.1)-(I44*0.1)-(J44*0.1) -> 6.8 | R44: 10 | S44: 19 | T44: =R44+(S44*0.2)-(H44*0.2)-(I44*0.2)-(J44*0.2) -> 12.6 | U44: 5 | V44: 34 | W44: =U44+(V44*0.1)-(H44*0.1)-(I44*0.1)-(J44*0.1) -> 7.8 | X44: 5 | Y44: 26 | Z44: =X44+(Y44*0.1)-(H44*0.1)-(I44*0.1)-(J44*0.1) -> 7 | AA44: 15 | AB44: 15 | AC44: =AA44+(AB44*0.3)-(H44*0.3)-(I44*0.3)-(J44*0.3) -> 17.7 | AD44: 0 | AE44: 48 | AF44: =AD44+AE44 -> 48
A45: Harris English | C45: 2024 | E45: Free Agent | F45: 1989 | G45: =C45-F45 -> 35 | H45: 1 | K45: =N45+Q45+T45+W45+Z45+AC45 -> 67.2 | L45: 10 | M45: 14 | N45: =L45+(M45*0.2)-(H45*0.2)-(I45*0.2)-(J45*0.2) -> 12.6 | O45: 5 | P45: 31 | Q45: =O45+(P45*0.1)-(H45*0.1)-(I45*0.1)-(J45*0.1) -> 8 | R45: 10 | S45: 16 | T45: =R45+(S45*0.2)-(H45*0.2)-(I45*0.2)-(J45*0.2) -> 13 | U45: 5 | V45: 20 | W45: =U45+(V45*0.1)-(H45*0.1)-(I45*0.1)-(J45*0.1) -> 6.9 | X45: 5 | Y45: 20 | Z45: =X45+(Y45*0.1)-(H45*0.1)-(I45*0.1)-(J45*0.1) -> 6.9 | AA45: 15 | AB45: 17 | AC45: =AA45+(AB45*0.3)-(H45*0.3)-(I45*0.3)-(J45*0.3) -> 19.8 | AD45: 0 | AE45: 53 | AF45: =AD45+AE45 -> 53
A46: Rod Pampling | C46: 2024 | E46: Free Agent | F46: 1969 | G46: =C46-F46 -> 55 | H46: 1 | I46: 2 | J46: 3 | K46: =N46+Q46+T46+W46+Z46+AC46 -> 67.2 | L46: 10 | M46: 23 | N46: =L46+(M46*0.2)-(H46*0.2)-(I46*0.2)-(J46*0.2) -> 13.4 | O46: 5 | P46: 20 | Q46: =O46+(P46*0.1)-(H46*0.1)-(I46*0.1)-(J46*0.1) -> 6.4 | R46: 10 | S46: 21 | T46: =R46+(S46*0.2)-(H46*0.2)-(I46*0.2)-(J46*0.2) -> 13 | U46: 5 | V46: 28 | W46: =U46+(V46*0.1)-(H46*0.1)-(I46*0.1)-(J46*0.1) -> 7.2 | X46: 5 | Y46: 30 | Z46: =X46+(Y46*0.1)-(H46*0.1)-(I46*0.1)-(J46*0.1) -> 7.4 | AA46: 15 | AB46: 22 | AC46: =AA46+(AB46*0.3)-(H46*0.3)-(I46*0.3)-(J46*0.3) -> 19.8 | AD46: 0 | AE46: 46 | AF46: =AD46+AE46 -> 46
A47: K.J. Choi | C47: 2024 | E47: Free Agent | F47: 1970 | G47: =C47-F47 -> 54 | H47: 1 | I47: 2 | J47: 3 | K47: =N47+Q47+T47+W47+Z47+AC47 -> 67.1 | L47: 10 | M47: 20 | N47: =L47+(M47*0.2)-(H47*0.2)-(I47*0.2)-(J47*0.2) -> 12.8 | O47: 5 | P47: 23 | Q47: =O47+(P47*0.1)-(H47*0.1)-(I47*0.1)-(J47*0.1) -> 6.7 | R47: 10 | S47: 27 | T47: =R47+(S47*0.2)-(H47*0.2)-(I47*0.2)-(J47*0.2) -> 14.2 | U47: 5 | V47: 13 | W47: =U47+(V47*0.1)-(H47*0.1)-(I47*0.1)-(J47*0.1) -> 5.7 | X47: 5 | Y47: 26 | Z47: =X47+(Y47*0.1)-(H47*0.1)-(I47*0.1)-(J47*0.1) -> 7 | AA47: 15 | AB47: 25 | AC47: =AA47+(AB47*0.3)-(H47*0.3)-(I47*0.3)-(J47*0.3) -> 20.7 | AD47: 0 | AE47: 50 | AF47: =AD47+AE47 -> 50
A48: Luke Donald | C48: 2024 | E48: Free Agent | F48: 1977 | G48: =C48-F48 -> 47 | H48: 1 | I48: 2 | K48: =N48+Q48+T48+W48+Z48+AC48 -> 67 | L48: 10 | M48: 8 | N48: =L48+(M48*0.2)-(H48*0.2)-(I48*0.2)-(J48*0.2) -> 11 | O48: 5 | P48: 31 | Q48: =O48+(P48*0.1)-(H48*0.1)-(I48*0.1)-(J48*0.1) -> 7.8 | R48: 10 | S48: 25 | T48: =R48+(S48*0.2)-(H48*0.2)-(I48*0.2)-(J48*0.2) -> 14.4 | U48: 5 | V48: 26 | W48: =U48+(V48*0.1)-(H48*0.1)-(I48*0.1)-(J48*0.1) -> 7.3 | X48: 5 | Y48: 29 | Z48: =X48+(Y48*0.1)-(H48*0.1)-(I48*0.1)-(J48*0.1) -> 7.6 | AA48: 15 | AB48: 16 | AC48: =AA48+(AB48*0.3)-(H48*0.3)-(I48*0.3)-(J48*0.3) -> 18.9 | AD48: 0 | AE48: 54 | AF48: =AD48+AE48 -> 54
A49: Chad Campbell | C49: 2024 | E49: Free Agent | F49: 1974 | G49: =C49-F49 -> 50 | H49: 1 | I49: 2 | J49: 3 | K49: =N49+Q49+T49+W49+Z49+AC49 -> 66.8 | L49: 10 | M49: 22 | N49: =L49+(M49*0.2)-(H49*0.2)-(I49*0.2)-(J49*0.2) -> 13.2 | O49: 5 | P49: 27 | Q49: =O49+(P49*0.1)-(H49*0.1)-(I49*0.1)-(J49*0.1) -> 7.1 | R49: 10 | S49: 19 | T49: =R49+(S49*0.2)-(H49*0.2)-(I49*0.2)-(J49*0.2) -> 12.6 | U49: 5 | V49: 9 | W49: =U49+(V49*0.1)-(H49*0.1)-(I49*0.1)-(J49*0.1) -> 5.3 | X49: 5 | Y49: 23 | Z49: =X49+(Y49*0.1)-(H49*0.1)-(I49*0.1)-(J49*0.1) -> 6.7 | AA49: 15 | AB49: 29 | AC49: =AA49+(AB49*0.3)-(H49*0.3)-(I49*0.3)-(J49*0.3) -> 21.9 | AD49: 0 | AE49: 43 | AF49: =AD49+AE49 -> 43
A50: Ryan Palmer | C50: 2024 | E50: Free Agent | F50: 1976 | G50: =C50-F50 -> 48 | H50: 1 | I50: 2 | K50: =N50+Q50+T50+W50+Z50+AC50 -> 66.7 | L50: 10 | M50: 25 | N50: =L50+(M50*0.2)-(H50*0.2)-(I50*0.2)-(J50*0.2) -> 14.4 | O50: 5 | P50: 17 | Q50: =O50+(P50*0.1)-(H50*0.1)-(I50*0.1)-(J50*0.1) -> 6.4 | R50: 10 | S50: 15 | T50: =R50+(S50*0.2)-(H50*0.2)-(I50*0.2)-(J50*0.2) -> 12.4 | U50: 5 | V50: 32 | W50: =U50+(V50*0.1)-(H50*0.1)-(I50*0.1)-(J50*0.1) -> 7.9 | X50: 5 | Y50: 17 | Z50: =X50+(Y50*0.1)-(H50*0.1)-(I50*0.1)-(J50*0.1) -> 6.4 | AA50: 15 | AB50: 17 | AC50: =AA50+(AB50*0.3)-(H50*0.3)-(I50*0.3)-(J50*0.3) -> 19.2 | AD50: 0 | AE50: 57 | AF50: =AD50+AE50 -> 57
A51: Justin Leonard | C51: 2024 | E51: Free Agent | F51: 1972 | G51: =C51-F51 -> 52 | H51: 1 | I51: 2 | J51: 3 | K51: =N51+Q51+T51+W51+Z51+AC51 -> 66.4 | L51: 10 | M51: 25 | N51: =L51+(M51*0.2)-(H51*0.2)-(I51*0.2)-(J51*0.2) -> 13.8 | O51: 5 | P51: 26 | Q51: =O51+(P51*0.1)-(H51*0.1)-(I51*0.1)-(J51*0.1) -> 7 | R51: 10 | S51: 13 | T51: =R51+(S51*0.2)-(H51*0.2)-(I51*0.2)-(J51*0.2) -> 11.4 | U51: 5 | V51: 20 | W51: =U51+(V51*0.1)-(H51*0.1)-(I51*0.1)-(J51*0.1) -> 6.4 | X51: 5 | Y51: 24 | Z51: =X51+(Y51*0.1)-(H51*0.1)-(I51*0.1)-(J51*0.1) -> 6.8 | AA51: 15 | AB51: 26 | AC51: =AA51+(AB51*0.3)-(H51*0.3)-(I51*0.3)-(J51*0.3) -> 21 | AD51: 0 | AE51: 54 | AF51: =AD51+AE51 -> 54
A52: Arjun Atwal | C52: 2024 | E52: Free Agent | F52: 1973 | G52: =C52-F52 -> 51 | H52: 1 | I52: 2 | J52: 3 | K52: =N52+Q52+T52+W52+Z52+AC52 -> 66 | L52: 10 | M52: 28 | N52: =L52+(M52*0.2)-(H52*0.2)-(I52*0.2)-(J52*0.2) -> 14.4 | O52: 5 | P52: 20 | Q52: =O52+(P52*0.1)-(H52*0.1)-(I52*0.1)-(J52*0.1) -> 6.4 | R52: 10 | S52: 21 | T52: =R52+(S52*0.2)-(H52*0.2)-(I52*0.2)-(J52*0.2) -> 13 | U52: 5 | V52: 33 | W52: =U52+(V52*0.1)-(H52*0.1)-(I52*0.1)-(J52*0.1) -> 7.7 | X52: 5 | Y52: 24 | Z52: =X52+(Y52*0.1)-(H52*0.1)-(I52*0.1)-(J52*0.1) -> 6.8 | AA52: 15 | AB52: 15 | AC52: =AA52+(AB52*0.3)-(H52*0.3)-(I52*0.3)-(J52*0.3) -> 17.7 | AD52: 0 | AE52: 47 | AF52: =AD52+AE52 -> 47
A53: Robert Allenby | C53: 2024 | E53: Free Agent | F53: 1971 | G53: =C53-F53 -> 53 | H53: 1 | I53: 2 | J53: 3 | K53: =N53+Q53+T53+W53+Z53+AC53 -> 65.7 | L53: 10 | M53: 24 | N53: =L53+(M53*0.2)-(H53*0.2)-(I53*0.2)-(J53*0.2) -> 13.6 | O53: 5 | P53: 19 | Q53: =O53+(P53*0.1)-(H53*0.1)-(I53*0.1)-(J53*0.1) -> 6.3 | R53: 10 | S53: 14 | T53: =R53+(S53*0.2)-(H53*0.2)-(I53*0.2)-(J53*0.2) -> 11.6 | U53: 5 | V53: 29 | W53: =U53+(V53*0.1)-(H53*0.1)-(I53*0.1)-(J53*0.1) -> 7.3 | X53: 5 | Y53: 27 | Z53: =X53+(Y53*0.1)-(H53*0.1)-(I53*0.1)-(J53*0.1) -> 7.1 | AA53: 15 | AB53: 22 | AC53: =AA53+(AB53*0.3)-(H53*0.3)-(I53*0.3)-(J53*0.3) -> 19.8 | AD53: 0 | AE53: 43 | AF53: =AD53+AE53 -> 43
A54: Matt Kuchar | C54: 2024 | E54: Free Agent | F54: 1978 | G54: =C54-F54 -> 46 | H54: 1 | I54: 2 | K54: =N54+Q54+T54+W54+Z54+AC54 -> 65.6 | L54: 10 | M54: 27 | N54: =L54+(M54*0.2)-(H54*0.2)-(I54*0.2)-(J54*0.2) -> 14.8 | O54: 5 | P54: 25 | Q54: =O54+(P54*0.1)-(H54*0.1)-(I54*0.1)-(J54*0.1) -> 7.2 | R54: 10 | S54: 20 | T54: =R54+(S54*0.2)-(H54*0.2)-(I54*0.2)-(J54*0.2) -> 13.4 | U54: 5 | V54: 19 | W54: =U54+(V54*0.1)-(H54*0.1)-(I54*0.1)-(J54*0.1) -> 6.6 | X54: 5 | Y54: 18 | Z54: =X54+(Y54*0.1)-(H54*0.1)-(I54*0.1)-(J54*0.1) -> 6.5 | AA54: 15 | AB54: 10 | AC54: =AA54+(AB54*0.3)-(H54*0.3)-(I54*0.3)-(J54*0.3) -> 17.1 | AD54: 0 | AE54: 55 | AF54: =AD54+AE54 -> 55
A55: Retief Goosen | C55: 2024 | E55: Free Agent | F55: 1969 | G55: =C55-F55 -> 55 | H55: 1 | I55: 2 | J55: 3 | K55: =N55+Q55+T55+W55+Z55+AC55 -> 65.3 | L55: 10 | M55: 23 | N55: =L55+(M55*0.2)-(H55*0.2)-(I55*0.2)-(J55*0.2) -> 13.4 | O55: 5 | P55: 24 | Q55: =O55+(P55*0.1)-(H55*0.1)-(I55*0.1)-(J55*0.1) -> 6.8 | R55: 10 | S55: 21 | T55: =R55+(S55*0.2)-(H55*0.2)-(I55*0.2)-(J55*0.2) -> 13 | U55: 5 | V55: 16 | W55: =U55+(V55*0.1)-(H55*0.1)-(I55*0.1)-(J55*0.1) -> 6 | X55: 5 | Y55: 28 | Z55: =X55+(Y55*0.1)-(H55*0.1)-(I55*0.1)-(J55*0.1) -> 7.2 | AA55: 15 | AB55: 19 | AC55: =AA55+(AB55*0.3)-(H55*0.3)-(I55*0.3)-(J55*0.3) -> 18.9 | AD55: 0 | AE55: 40 | AF55: =AD55+AE55 -> 40
A56: Camilio Villegas | C56: 2024 | E56: Free Agent | F56: 1982 | G56: =C56-F56 -> 42 | H56: 1 | I56: 2 | K56: =N56+Q56+T56+W56+Z56+AC56 -> 65.3 | L56: 10 | M56: 18 | N56: =L56+(M56*0.2)-(H56*0.2)-(I56*0.2)-(J56*0.2) -> 13 | O56: 5 | P56: 23 | Q56: =O56+(P56*0.1)-(H56*0.1)-(I56*0.1)-(J56*0.1) -> 7 | R56: 10 | S56: 19 | T56: =R56+(S56*0.2)-(H56*0.2)-(I56*0.2)-(J56*0.2) -> 13.2 | U56: 5 | V56: 35 | W56: =U56+(V56*0.1)-(H56*0.1)-(I56*0.1)-(J56*0.1) -> 8.2 | X56: 5 | Y56: 21 | Z56: =X56+(Y56*0.1)-(H56*0.1)-(I56*0.1)-(J56*0.1) -> 6.8 | AA56: 15 | AB56: 10 | AC56: =AA56+(AB56*0.3)-(H56*0.3)-(I56*0.3)-(J56*0.3) -> 17.1 | AD56: 0 | AE56: 57 | AF56: =AD56+AE56 -> 57
A57: Ernie Els | C57: 2024 | E57: Free Agent | F57: 1969 | G57: =C57-F57 -> 55 | H57: 1 | I57: 2 | J57: 3 | K57: =N57+Q57+T57+W57+Z57+AC57 -> 63.9 | L57: 10 | M57: 16 | N57: =L57+(M57*0.2)-(H57*0.2)-(I57*0.2)-(J57*0.2) -> 12 | O57: 5 | P57: 20 | Q57: =O57+(P57*0.1)-(H57*0.1)-(I57*0.1)-(J57*0.1) -> 6.4 | R57: 10 | S57: 28 | T57: =R57+(S57*0.2)-(H57*0.2)-(I57*0.2)-(J57*0.2) -> 14.4 | U57: 5 | V57: 15 | W57: =U57+(V57*0.1)-(H57*0.1)-(I57*0.1)-(J57*0.1) -> 5.9 | X57: 5 | Y57: 25 | Z57: =X57+(Y57*0.1)-(H57*0.1)-(I57*0.1)-(J57*0.1) -> 6.9 | AA57: 15 | AB57: 17 | AC57: =AA57+(AB57*0.3)-(H57*0.3)-(I57*0.3)-(J57*0.3) -> 18.3 | AD57: 0 | AE57: 53 | AF57: =AD57+AE57 -> 53
A58: Freddie Jacobson | C58: 2024 | E58: Free Agent | F58: 1974 | G58: =C58-F58 -> 50 | H58: 1 | I58: 2 | J58: 3 | K58: =N58+Q58+T58+W58+Z58+AC58 -> 62.4 | L58: 10 | M58: 22 | N58: =L58+(M58*0.2)-(H58*0.2)-(I58*0.2)-(J58*0.2) -> 13.2 | O58: 5 | P58: 30 | Q58: =O58+(P58*0.1)-(H58*0.1)-(I58*0.1)-(J58*0.1) -> 7.4 | R58: 10 | S58: 20 | T58: =R58+(S58*0.2)-(H58*0.2)-(I58*0.2)-(J58*0.2) -> 12.8 | U58: 5 | V58: 24 | W58: =U58+(V58*0.1)-(H58*0.1)-(I58*0.1)-(J58*0.1) -> 6.8 | X58: 5 | Y58: 22 | Z58: =X58+(Y58*0.1)-(H58*0.1)-(I58*0.1)-(J58*0.1) -> 6.6 | AA58: 15 | AB58: 8 | AC58: =AA58+(AB58*0.3)-(H58*0.3)-(I58*0.3)-(J58*0.3) -> 15.6 | AD58: 0 | AE58: 57 | AF58: =AD58+AE58 -> 57
A59: Steve Flesch | C59: 2024 | E59: Free Agent | F59: 1967 | G59: =C59-F59 -> 57 | H59: 1 | I59: 2 | J59: 3 | K59: =N59+Q59+T59+W59+Z59+AC59 -> 62.3 | L59: 10 | M59: 1 | N59: =L59+(M59*0.2)-(H59*0.2)-(I59*0.2)-(J59*0.2) -> 9 | O59: 5 | P59: 18 | Q59: =O59+(P59*0.1)-(H59*0.1)-(I59*0.1)-(J59*0.1) -> 6.2 | R59: 10 | S59: 24 | T59: =R59+(S59*0.2)-(H59*0.2)-(I59*0.2)-(J59*0.2) -> 13.6 | U59: 5 | V59: 26 | W59: =U59+(V59*0.1)-(H59*0.1)-(I59*0.1)-(J59*0.1) -> 7 | X59: 5 | Y59: 23 | Z59: =X59+(Y59*0.1)-(H59*0.1)-(I59*0.1)-(J59*0.1) -> 6.7 | AA59: 15 | AB59: 22 | AC59: =AA59+(AB59*0.3)-(H59*0.3)-(I59*0.3)-(J59*0.3) -> 19.8 | AD59: 0 | AE59: 46 | AF59: =AD59+AE59 -> 46
C60: 2024 | E60: Free Agent | G60: =C60-F60 -> 2024 | L60: 10 | O60: 5 | R60: 10 | U60: 5 | X60: 5 | AA60: 15
C61: 2024 | E61: Free Agent | G61: =C61-F61 -> 2024 | L61: 10 | O61: 5 | R61: 10 | U61: 5 | X61: 5 | AA61: 15
C62: 2024 | E62: Free Agent | G62: =C62-F62 -> 2024 | L62: 10 | O62: 5 | R62: 10 | U62: 5 | X62: 5 | AA62: 15
C63: 2024 | E63: Free Agent | G63: =C63-F63 -> 2024 | L63: 10 | O63: 5 | R63: 10 | U63: 5 | X63: 5 | AA63: 15
C64: 2024 | E64: Free Agent | G64: =C64-F64 -> 2024 | L64: 10 | O64: 5 | R64: 10 | U64: 5 | X64: 5 | AA64: 15
C65: 2024 | E65: Free Agent | G65: =C65-F65 -> 2024 | L65: 10 | O65: 5 | R65: 10 | U65: 5 | X65: 5 | AA65: 15
C66: 2024 | E66: Free Agent | G66: =C66-F66 -> 2024 | L66: 10 | O66: 5 | R66: 10 | U66: 5 | X66: 5 | AA66: 15
K67: =AVERAGE(K3:K59) -> 70.659649 | M67: =AVERAGE(M3:M66) -> 25.894737 | P67: =AVERAGE(P3:P66) -> 24.298246 | S67: =AVERAGE(S3:S66) -> 24.140351 | V67: =AVERAGE(V3:V66) -> 25.912281 | Y67: =AVERAGE(Y3:Y66) -> 25.263158 | AB67: =AVERAGE(AB3:AB66) -> 23.684211

Sheet Schedule
A1: Week 1 | H1: Week 12 | P1: Drive | Q1: Common | R1: Links | S1: NYGC | T1: BGC | U1: LAGC | V1: Scramblers | W1: Rough Riders
A2: Home | B2: Course | C2: Away | D2: Home | E2: Course | F2: Away | H2: Home | I2: Course | J2: Away | K2: Home | L2: Course | M2: Away | O2: Drive | Q2: 1 | R2: 1 | S2: 1 | T2: 1 | U2: 1 | V2: 1 | W2: 1
A3: Drive | B3: Coastal Pines Golf Resort | C3: NYGC | D3: Crushers | E3: Duine Mara | F3: Aces | H3: Common | I3: Bull Run HD | J3: Drive | K3: Crushers | L3: Duine Mara | M3: Majesticks | O3: Common | P3: 1 | R3: 1 | S3: 1 | T3: 1 | U3: 1 | V3: 1 | W3: 1
A4: Common | B4: Bull Run HD | C4: BGC | D4: Majesticks | E4: Bakers Flat | F4: Stinger | H4: Links | I4: Faerne the Ancient Course | J4: NYGC | K4: Aces | L4: West Coast Links | M4: Fireballs | O4: Links | P4: 1 | Q4: 1 | S4: 1 | T4: 1 | U4: 1 | V4: 1 | W4: 1
A5: Scramblers | B5: Cara Brae | C5: Links | D5: Fireballs | E5: Kill Devils Hill HD | F5: KGC | H5: BGC | I5: Bartlett Springs | J5: LAGC | K5: Torque | L5: Dark Woods Golf Club | M5: Stinger | O5: NYGC | P5: 1 | Q5: 1 | R5: 1 | T5: 1 | U5: 1 | V5: 1 | W5: 1
A6: Rough Riders | B6: Sands Hill Club | C6: LAGC | D6: Pin Seekers | E6: The Glen | F6: Torque | H6: Scramblers | I6: Cara Brae | J6: Rough Riders | K6: Pin Seekers | L6: The Glen | M6: KGC | O6: BGC | P6: 1 | Q6: 1 | R6: 1 | S6: 1 | U6: 1 | V6: 1 | W6: 1
A7: Week 2 | H7: Week 13 | O7: LAGC | P7: 1 | Q7: 1 | R7: 1 | S7: 1 | T7: 1 | V7: 1 | W7: 1
A8: Home | B8: Course | C8: Away | D8: Home | E8: Course | F8: Away | H8: Home | I8: Course | J8: Away | K8: Home | L8: Course | M8: Away | O8: Scramblers | P8: 1 | Q8: 1 | R8: 1 | S8: 1 | T8: 1 | U8: 1 | W8: 1
A9: Crushers | B9: Duine Mara | C9: Drive | D9: Aces | E9: West Coast Links | F9: NYGC | H9: Torque | I9: Dark Woods Golf Club | J9: Drive | K9: Pin Seekers | L9: The Glen | M9: NYGC | O9: Rough Riders | P9: 1 | Q9: 1 | R9: 1 | S9: 1 | T9: 1 | U9: 1 | V9: 1
A10: Majesticks | B10: Bakers Flat | C10: Common | D10: Stinger | E10: Burns Old Links HD | F10: BGC | H10: Fireballs | I10: Kill Devils Hill HD | J10: Common | K10: KGC | L10: Las Joyas HD | M10: BGC
A11: Fireballs | B11: Kill Devils Hill HD | C11: Links | D11: KGC | E11: Las Joyas HD | F11: Scramblers | H11: Majesticks | I11: Bakers Flat | J11: Links | K11: Stinger | L11: Burns Old Links HD | M11: Scramblers | P11: Crushers | Q11: Majesticks | R11: Aces | S11: Stinger | T11: Fireballs | U11: Torque | V11: KGC | W11: Pin Seekers
A12: Torque | B12: Dark Woods Golf Club | C12: LAGC | D12: Pin Seekers | E12: The Glen | F12: Rough Riders | H12: Crushers | I12: Duine Mara | J12: LAGC | K12: Aces | L12: West Coast Links | M12: Rough Riders | O12: Drive | P12: 1 | Q12: 1 | R12: 1 | S12: 1 | T12: 1 | U12: 1 | V12: 1 | W12: 1
A13: Week 3 | H13: Week 14 | O13: Common | P13: 1 | Q13: 1 | R13: 1 | S13: 1 | T13: 1 | U13: 1 | V13: 1 | W13: 1
A14: Home | B14: Course | C14: Away | D14: Home | E14: Course | F14: Away | H14: Home | I14: Course | J14: Away | K14: Home | L14: Course | M14: Away | O14: Links | P14: 1 | Q14: 1 | R14: 1 | S14: 1 | T14: 1 | U14: 1 | V14: 1 | W14: 1
A15: Drive | B15: Coastal Pines Golf Resort | C15: Common | D15: Majesticks | E15: Bakers Flat | F15: Crushers | H15: Drive | I15: Coastal Pines Golf Resort | J15: Links | K15: Fireballs | L15: Kill Devils Hill HD | M15: Crushers | O15: NYGC | P15: 1 | Q15: 1 | R15: 1 | S15: 1 | T15: 1 | U15: 1 | V15: 1 | W15: 1
A16: NYGC | B16: Crystal Pines HD | C16: Links | D16: Fireballs | E16: Kill Devils Hill HD | F16: Aces | H16: LAGC | I16: Crooked Creek HD | J16: Common | K16: Majesticks | L16: Bakers Flat | M16: Torque | O16: BGC | P16: 1 | Q16: 1 | R16: 1 | S16: 1 | T16: 1 | U16: 1 | V16: 1 | W16: 1
A17: LAGC | B17: Crooked Creek HD | C17: BGC | D17: Stinger | E17: Burns Old Links HD | F17: Torque | H17: NYGC | I17: Crystal Pines HD | J17: Rough Riders | K17: Aces | L17: West Coast Links | M17: Pin Seekers | O17: LAGC | P17: 1 | Q17: 1 | R17: 1 | S17: 1 | T17: 1 | U17: 1 | V17: 1 | W17: 1
A18: Rough Riders | B18: Sands Hill Club | C18: Scramblers | D18: KGC | E18: Las Joyas HD | F18: Pin Seekers | H18: BGC | I18: Bartlett Springs | J18: Scramblers | K18: KGC | L18: Las Joyas HD | M18: Stinger | O18: Scramblers | P18: 1 | Q18: 1 | R18: 1 | S18: 1 | T18: 1 | U18: 1 | V18: 1 | W18: 1
A19: Week 4 | H19: Week 15 | O19: Rough Riders | P19: 1 | Q19: 1 | R19: 1 | S19: 1 | T19: 1 | U19: 1 | V19: 1 | W19: 1
A20: Home | B20: Course | C20: Away | D20: Home | E20: Course | F20: Away | H20: Home | I20: Course | J20: Away | K20: Home | L20: Course | M20: Away
A21: Majesticks | B21: Bakers Flat | C21: Drive | D21: Stinger | E21: Burns Old Links HD | F21: NYGC | H21: Drive | I21: Coastal Pines Golf Resort | J21: Aces | K21: NYGC | L21: Crystal Pines HD | M21: Crushers | P21: Crushers | Q21: Majesticks | R21: Aces | S21: Stinger | T21: Fireballs | U21: Torque | V21: KGC | W21: Pin Seekers
A22: Crushers | B22: Duine Mara | C22: Common | D22: Aces | E22: West Coast Links | F22: BGC | H22: Common | I22: Bull Run HD | J22: Stinger | K22: BGC | L22: Bartlett Springs | M22: Majesticks | O22: Crushers | Q22: 1 | R22: 1 | S22: 1 | T22: 1 | U22: 1 | V22: 1 | W22: 1
A23: Torque | B23: Dark Woods Golf Club | C23: Links | D23: Pin Seekers | E23: The Glen | F23: Scramblers | H23: Links | I23: Faerne the Ancient Course | J23: KGC | K23: Scramblers | L23: Cara Brae | M23: Fireballs | O23: Majesticks | P23: 1 | R23: 1 | S23: 1 | T23: 1 | U23: 1 | V23: 1 | W23: 1
A24: Fireballs | B24: Kill Devils Hill HD | C24: LAGC | D24: KGC | E24: Las Joyas HD | F24: Rough Riders | H24: LAGC | I24: Crooked Creek HD | J24: Pin Seekers | K24: Rough Riders | L24: Sands Hill Club | M24: Torque | O24: Aces | P24: 1 | Q24: 1 | S24: 1 | T24: 1 | U24: 1 | V24: 1 | W24: 1
A25: Week 5 | H25: Week 16 | O25: Stinger | P25: 1 | Q25: 1 | R25: 1 | T25: 1 | U25: 1 | V25: 1 | W25: 1
A26: Home | B26: Course | C26: Away | D26: Home | E26: Course | F26: Away | H26: Home | I26: Course | J26: Away | K26: Home | L26: Course | M26: Away | O26: Fireballs | P26: 1 | Q26: 1 | R26: 1 | S26: 1 | U26: 1 | V26: 1 | W26: 1
A27: Drive | B27: Coastal Pines Golf Resort | C27: LAGC | D27: Torque | E27: Dark Woods Golf Club | F27: Crushers | H27: LAGC | I27: Crooked Creek HD | J27: Drive | K27: Crushers | L27: Duine Mara | M27: Torque | O27: Torque | P27: 1 | Q27: 1 | R27: 1 | S27: 1 | T27: 1 | V27: 1 | W27: 1
A28: Links | B28: Faerne the Ancient Course | C28: Rough Riders | D28: Pin Seekers | E28: The Glen | F28: Fireballs | H28: Rough Riders | I28: Sands Hill Club | J28: Links | K28: Fireballs | L28: Kill Devils Hill HD | M28: Pin Seekers | O28: KGC | P28: 1 | Q28: 1 | R28: 1 | S28: 1 | T28: 1 | U28: 1 | W28: 1
A29: Scramblers | B29: Cara Brae | C29: Common | D29: KGC | E29: Las Joyas HD | F29: Majesticks | H29: Common | I29: Bull Run HD | J29: Scramblers | K29: Majesticks | L29: Bakers Flat | M29: KGC | O29: Pin Seekers | P29: 1 | Q29: 1 | R29: 1 | S29: 1 | T29: 1 | U29: 1 | V29: 1
A30: NYGC | B30: Crystal Pines HD | C30: BGC | D30: Stinger | E30: Burns Old Links HD | F30: Aces | H30: BGC | I30: Bartlett Springs | J30: NYGC | K30: Aces | L30: West Coast Links | M30: Stinger
A31: Week 6 | H31: Week 17 | P31: Home | Q31: Away | R31: HD | S31: AD | T31: HND | U31: AND
A32: Home | B32: Course | C32: Away | D32: Home | E32: Course | F32: Away | H32: Home | I32: Course | J32: Away | K32: Home | L32: Course | M32: Away | O32: Drive | P32: 11 | Q32: 11 | R32: 7 | S32: 7 | T32: 4 | U32: 4
A33: Fireballs | B33: Kill Devils Hill HD | C33: Drive | D33: KGC | E33: Las Joyas HD | F33: NYGC | H33: Drive | I33: Coastal Pines Golf Resort | J33: Rough Riders | K33: Pin Seekers | L33: The Glen | M33: Crushers | O33: Common | P33: 11 | Q33: 11 | R33: 7 | S33: 7 | T33: 4 | U33: 4
A34: Torque | B34: Dark Woods Golf Club | C34: Common | D34: Pin Seekers | E34: The Glen | F34: BGC | H34: LAGC | I34: Crooked Creek HD | J34: Scramblers | K34: Torque | L34: Dark Woods Golf Club | M34: KGC | O34: Links | P34: 11 | Q34: 11 | R34: 7 | S34: 7 | T34: 4 | U34: 4
A35: Crushers | B35: Duine Mara | C35: Links | D35: Aces | E35: West Coast Links | F35: Scramblers | H35: Links | I35: Faerne the Ancient Course | J35: BGC | K35: Fireballs | L35: Kill Devils Hill HD | M35: Stinger | O35: NYGC | P35: 11 | Q35: 11 | R35: 7 | S35: 7 | T35: 4 | U35: 4
A36: Majesticks | B36: Bakers Flat | C36: LAGC | D36: Stinger | E36: Burns Old Links HD | F36: Rough Riders | H36: Common | I36: Bull Run HD | J36: NYGC | K36: Aces | L36: West Coast Links | M36: Majesticks | O36: BGC | P36: 11 | Q36: 11 | R36: 7 | S36: 7 | T36: 4 | U36: 4
A37: Week 7 | H37: Week 18 | O37: LAGC | P37: 11 | Q37: 11 | R37: 7 | S37: 7 | T37: 4 | U37: 4
A38: Home | B38: Course | C38: Away | D38: Home | E38: Course | F38: Away | H38: Home | I38: Course | J38: Away | K38: Home | L38: Course | M38: Away | O38: Scramblers | P38: 11 | Q38: 11 | R38: 7 | S38: 7 | T38: 4 | U38: 4
A39: Rough Riders | B39: Sands Hill Club | C39: Drive | D39: Crushers | E39: Duine Mara | F39: Pin Seekers | H39: Drive | I39: Coastal Pines Golf Resort | J39: Stinger | K39: NYGC | L39: Crystal Pines HD | M39: Majesticks | O39: Rough Riders | P39: 11 | Q39: 11 | R39: 7 | S39: 7 | T39: 4 | U39: 4
A40: Scramblers | B40: Cara Brae | C40: LAGC | D40: KGC | E40: Las Joyas HD | F40: Torque | H40: Common | I40: Bull Run HD | J40: Aces | K40: BGC | L40: Bartlett Springs | M40: Crushers | O40: Crushers | P40: 11 | Q40: 11 | R40: 7 | S40: 7 | T40: 4 | U40: 4
A41: BGC | B41: Bartlett Springs | C41: Links | D41: Stinger | E41: Burns Old Links HD | F41: Fireballs | H41: Links | I41: Faerne the Ancient Course | J41: Pin Seekers | K41: Scramblers | L41: Cara Brae | M41: Torque | O41: Majesticks | P41: 11 | Q41: 11 | R41: 7 | S41: 7 | T41: 4 | U41: 4
A42: NYGC | B42: Crystal Pines HD | C42: Common | D42: Majesticks | E42: Bakers Flat | F42: Aces | H42: LAGC | I42: Crooked Creek HD | J42: KGC | K42: Rough Riders | L42: Sands Hill Club | M42: Fireballs | O42: Aces | P42: 11 | Q42: 11 | R42: 7 | S42: 7 | T42: 4 | U42: 4
A43: Week 8 | H43: Week 19 | O43: Stinger | P43: 11 | Q43: 11 | R43: 7 | S43: 7 | T43: 4 | U43: 4
A44: Home | B44: Course | C44: Away | D44: Home | E44: Course | F44: Away | H44: Home | I44: Course | J44: Away | K44: Home | L44: Course | M44: Away | O44: Fireballs | P44: 11 | Q44: 11 | R44: 7 | S44: 7 | T44: 4 | U44: 4
A45: Scramblers | B45: Cara Brae | C45: Drive | D45: KGC | E45: Las Joyas HD | F45: Crushers | H45: Drive | I45: Coastal Pines Golf Resort | J45: Scramblers | K45: Crushers | L45: Duine Mara | M45: KGC | O45: Torque | P45: 11 | Q45: 11 | R45: 7 | S45: 7 | T45: 4 | U45: 4
A46: Rough Riders | B46: Sands Hill Club | C46: BGC | D46: Stinger | E46: Burns Old Links HD | F46: Pin Seekers | H46: BGC | I46: Bartlett Springs | J46: Rough Riders | K46: Pin Seekers | L46: The Glen | M46: Stinger | O46: KGC | P46: 11 | Q46: 11 | R46: 7 | S46: 7 | T46: 4 | U46: 4
A47: NYGC | B47: Crystal Pines HD | C47: LAGC | D47: Aces | E47: West Coast Links | F47: Torque | H47: LAGC | I47: Crooked Creek HD | J47: NYGC | K47: Torque | L47: Dark Woods Golf Club | M47: Aces | O47: Pin Seekers | P47: 11 | Q47: 11 | R47: 7 | S47: 7 | T47: 4 | U47: 4
A48: Links | B48: Faerne the Ancient Course | C48: Common | D48: Fireballs | E48: Kill Devils Hill HD | F48: Majesticks | H48: Common | I48: Bull Run HD | J48: Links | K48: Majesticks | L48: Bakers Flat | M48: Fireballs
A49: Week 9 | H49: Week 20 | O49: PGA | P49: Course
A50: Home | B50: Course | C50: Away | D50: Home | E50: Course | F50: Away | H50: Home | I50: Course | J50: Away | K50: Home | L50: Course | M50: Away | O50: Drive | P50: Coastal Pines Golf Resort
A51: Drive | B51: Coastal Pines Golf Resort | C51: Pin Seekers | D51: NYGC | E51: Crystal Pines HD | F51: Torque | H51: BGC | I51: Bartlett Springs | J51: Drive | K51: Stinger | L51: Burns Old Links HD | M51: Crushers | O51: Common | P51: Bull Run HD
A52: Common | B52: Bull Run HD | C52: KGC | D52: BGC | E52: Bartlett Springs | F52: Fireballs | H52: Scramblers | I52: Cara Brae | J52: NYGC | K52: Aces | L52: West Coast Links | M52: KGC | O52: Links | P52: Faerne the Ancient Course
A53: Links | B53: Faerne the Ancient Course | C53: Stinger | D53: Scramblers | E53: Cara Brae | F53: Majesticks | H53: Common | I53: Bull Run HD | J53: Rough Riders | K53: Pin Seekers | L53: The Glen | M53: Majesticks | O53: LAGC | P53: Crooked Creek HD
A54: LAGC | B54: Crooked Creek HD | C54: Aces | D54: Rough Riders | E54: Sands Hill Club | F54: Crushers | H54: Links | I54: Faerne the Ancient Course | J54: LAGC | K54: Torque | L54: Dark Woods Golf Club | M54: Fireballs | O54: NYGC | P54: Crystal Pines HD
A55: Week 10 | H55: Week 21 | O55: BGC | P55: Bartlett Springs
A56: Home | B56: Course | C56: Away | D56: Home | E56: Course | F56: Away | H56: Home | I56: Course | J56: Away | K56: Home | L56: Course | M56: Away | O56: Scramblers | P56: Cara Brae
A57: Drive | B57: Coastal Pines Golf Resort | C57: BGC | D57: Crushers | E57: Duine Mara | F57: Stinger | H57: NYGC | I57: Crystal Pines HD | J57: Drive | K57: Aces | L57: West Coast Links | M57: Crushers | O57: Rough Riders | P57: Sands Hill Club
A58: NYGC | B58: Crystal Pines HD | C58: Scramblers | D58: KGC | E58: Las Joyas HD | F58: Aces | H58: BGC | I58: Bartlett Springs | J58: Common | K58: Stinger | L58: Burns Old Links HD | M58: Majesticks | O58: LIV | P58: Course
A59: Rough Riders | B59: Sands Hill Club | C59: Common | D59: Majesticks | E59: Bakers Flat | F59: Pin Seekers | H59: Links | I59: Faerne the Ancient Course | J59: Scramblers | K59: KGC | L59: Las Joyas HD | M59: Fireballs | O59: Crushers | P59: Duine Mara
A60: LAGC | B60: Crooked Creek HD | C60: Links | D60: Fireballs | E60: Kill Devils Hill HD | F60: Torque | H60: LAGC | I60: Crooked Creek HD | J60: Rough Riders | K60: Torque | L60: Dark Woods Golf Club | M60: Pin Seekers | O60: Majesticks | P60: Bakers Flat
A61: Week 11 | H61: Week 22 | O61: Fireballs | P61: Kill Devils Hill HD
A62: Home | B62: Course | C62: Away | D62: Home | E62: Course | F62: Away | H62: Home | I62: Course | J62: Away | K62: Home | L62: Course | M62: Away | O62: Torque | P62: Dark Woods Golf Club
A63: Drive | B63: Coastal Pines Golf Resort | C63: KGC | D63: NYGC | E63: Crystal Pines HD | F63: Fireballs | H63: Links | I63: Faerne the Ancient Course | J63: Drive | K63: Crushers | L63: Duine Mara | M63: Fireballs | O63: Aces | P63: West Coast Links
A64: Common | B64: Bull Run HD | C64: Pin Seekers | D64: BGC | E64: Bartlett Springs | F64: Torque | H64: Common | I64: Bull Run HD | J64: LAGC | K64: Torque | L64: Dark Woods Golf Club | M64: Majesticks | O64: Stinger | P64: Burns Old Links HD
A65: Links | B65: Faerne the Ancient Course | C65: Aces | D65: Scramblers | E65: Cara Brae | F65: Crushers | H65: Rough Riders | I65: Sands Hill Club | J65: NYGC | K65: Pin Seekers | L65: The Glen | M65: Aces | O65: KGC | P65: Las Joyas HD
A66: LAGC | B66: Crooked Creek HD | C66: Stinger | D66: Rough Riders | E66: Sands Hill Club | F66: Majesticks | H66: Scramblers | I66: Cara Brae | J66: BGC | K66: Stinger | L66: Burns Old Links HD | M66: KGC | O66: Pin Seekers | P66: The Glen

Sheet Standings
A1: Teams/Div | B1: Team Points | I1: Stroke | O1: Alternate Shot | U1: Scramble | AA1: Match
A2: PGA | B2: Total Points | C2: AS, MA, SC Holes | D2: Strokes | E2: Home Points | F2: Away Points | G2: Div. Points | H2: Non Div. Points | I2: Points | J2: Strokes | K2: Home | L2: Away | M2: Division | N2: Non Division | O2: Points | P2: Holes | Q2: Home | R2: Away | S2: Division | T2: Non Division | U2: Points | V2: Holes | W2: Home | X2: Away | Y2: Division | Z2: Non Division | AA2: Points | AB2: Holes | AC2: Home | AD2: Away | AE2: Division | AF2: Non Division
A3: Drive | B3: =I3+O3+U3+AA3 -> 0 | C3: =P3+V3+AB3 -> 0 | D3: =J3/2 -> 0 | E3: =K3+Q3+W3+AC3 -> 0 | F3: =L3+R3+X3+AD3 -> 0 | G3: =M3+S3+Y3+AE3 -> 0 | H3: =N3+T3+Z3+AF3 -> 0 | I3: =Stroke!C3+Stroke!C4 -> 0 | J3: =Stroke!D3+Stroke!D4 -> 0 | K3: =Stroke!E3+Stroke!E4 -> 0 | L3: =Stroke!F3+Stroke!F4 -> 0 | M3: =Stroke!G3+Stroke!G4 -> 0 | N3: =Stroke!H3+Stroke!H4 -> 0 | O3: ='Alternate Shot'!C3+'Alternate Shot'!C4 -> 0 | P3: ='Alternate Shot'!D3+'Alternate Shot'!D4 -> 0 | Q3: ='Alternate Shot'!E3+'Alternate Shot'!E4 -> 0 | R3: ='Alternate Shot'!F3+'Alternate Shot'!F4 -> 0 | S3: ='Alternate Shot'!G3+'Alternate Shot'!G4 -> 0 | T3: ='Alternate Shot'!H3+'Alternate Shot'!H4 -> 0 | U3: =Scramble!C3+Scramble!C4 -> 0 | V3: =Scramble!D3+Scramble!D4 -> 0 | W3: =Scramble!E3+Scramble!E4 -> 0 | X3: =Scramble!F3+Scramble!F4 -> 0 | Y3: =Scramble!G3+Scramble!G4 -> 0 | Z3: =Scramble!H3+Scramble!H4 -> 0 | AA3: =Match!C3+Match!C4+Match!C5+Match!C6 -> 0 | AB3: =Match!D3+Match!D4+Match!D5+Match!D6 -> 0 | AC3: =Match!E3+Match!E4+Match!E5+Match!E6 -> 0 | AD3: =Match!F3+Match!F4+Match!F5+Match!F6 -> 0 | AE3: =Match!G3+Match!G4+Match!G5+Match!G6 -> 0 | AF3: =Match!H3+Match!H4+Match!H5+Match!H6 -> 0
A4: Common | B4: =I4+O4+U4+AA4 -> 0 | C4: =P4+V4+AB4 -> 0 | D4: =J4/2 -> 0 | E4: =K4+Q4+W4+AC4 -> 0 | F4: =L4+R4+X4+AD4 -> 0 | G4: =M4+S4+Y4+AE4 -> 0 | H4: =N4+T4+Z4+AF4 -> 0 | I4: =Stroke!C7+Stroke!C8 -> 0 | J4: =Stroke!D7+Stroke!D8 -> 0 | K4: =Stroke!E7+Stroke!E8 -> 0 | L4: =Stroke!F7+Stroke!F8 -> 0 | M4: =Stroke!G7+Stroke!G8 -> 0 | N4: =Stroke!H7+Stroke!H8 -> 0 | O4: ='Alternate Shot'!C7+'Alternate Shot'!C8 -> 0 | P4: ='Alternate Shot'!D7+'Alternate Shot'!D8 -> 0 | Q4: ='Alternate Shot'!E7+'Alternate Shot'!E8 -> 0 | R4: ='Alternate Shot'!F7+'Alternate Shot'!F8 -> 0 | S4: ='Alternate Shot'!G7+'Alternate Shot'!G8 -> 0 | T4: ='Alternate Shot'!H7+'Alternate Shot'!H8 -> 0 | U4: =Scramble!C7+Scramble!C8 -> 0 | V4: =Scramble!D7+Scramble!D8 -> 0 | W4: =Scramble!E7+Scramble!E8 -> 0 | X4: =Scramble!F7+Scramble!F8 -> 0 | Y4: =Scramble!G7+Scramble!G8 -> 0 | Z4: =Scramble!H7+Scramble!H8 -> 0 | AA4: =Match!C9+Match!C10+Match!C11+Match!C12 -> 0 | AB4: =Match!D9+Match!D10+Match!D11+Match!D12 -> 0 | AC4: =Match!E9+Match!E10+Match!E11+Match!E12 -> 0 | AD4: =Match!F9+Match!F10+Match!F11+Match!F12 -> 0 | AE4: =Match!G9+Match!G10+Match!G11+Match!G12 -> 0 | AF4: =Match!H9+Match!H10+Match!H11+Match!H12 -> 0
A5: Links | B5: =I5+O5+U5+AA5 -> 0 | C5: =P5+V5+AB5 -> 0 | D5: =J5/2 -> 0 | E5: =K5+Q5+W5+AC5 -> 0 | F5: =L5+R5+X5+AD5 -> 0 | G5: =M5+S5+Y5+AE5 -> 0 | H5: =N5+T5+Z5+AF5 -> 0 | I5: =Stroke!C11+Stroke!C12 -> 0 | J5: =Stroke!D11+Stroke!D12 -> 0 | K5: =Stroke!E11+Stroke!E12 -> 0 | L5: =Stroke!F11+Stroke!F12 -> 0 | M5: =Stroke!G11+Stroke!G12 -> 0 | N5: =Stroke!H11+Stroke!H12 -> 0 | O5: ='Alternate Shot'!C11+'Alternate Shot'!C12 -> 0 | P5: ='Alternate Shot'!D11+'Alternate Shot'!D12 -> 0 | Q5: ='Alternate Shot'!E11+'Alternate Shot'!E12 -> 0 | R5: ='Alternate Shot'!F11+'Alternate Shot'!F12 -> 0 | S5: ='Alternate Shot'!G11+'Alternate Shot'!G12 -> 0 | T5: ='Alternate Shot'!H11+'Alternate Shot'!H12 -> 0 | U5: =Scramble!C11+Scramble!C12 -> 0 | V5: =Scramble!D11+Scramble!D12 -> 0 | W5: =Scramble!E11+Scramble!E12 -> 0 | X5: =Scramble!F11+Scramble!F12 -> 0 | Y5: =Scramble!G11+Scramble!G12 -> 0 | Z5: =Scramble!H11+Scramble!H12 -> 0 | AA5: =Match!C15+Match!C16+Match!C17+Match!C18 -> 0 | AB5: =Match!D15+Match!D16+Match!D17+Match!D18 -> 0 | AC5: =Match!E15+Match!E16+Match!E17+Match!E18 -> 0 | AD5: =Match!F15+Match!F16+Match!F17+Match!F18 -> 0 | AE5: =Match!G15+Match!G16+Match!G17+Match!G18 -> 0 | AF5: =Match!H15+Match!H16+Match!H17+Match!H18 -> 0
A6: NYGC | B6: =I6+O6+U6+AA6 -> 0 | C6: =P6+V6+AB6 -> 0 | D6: =J6/2 -> 0 | E6: =K6+Q6+W6+AC6 -> 0 | F6: =L6+R6+X6+AD6 -> 0 | G6: =M6+S6+Y6+AE6 -> 0 | H6: =N6+T6+Z6+AF6 -> 0 | I6: =Stroke!C19+Stroke!C20 -> 0 | J6: =Stroke!D19+Stroke!D20 -> 0 | K6: =Stroke!E19+Stroke!E20 -> 0 | L6: =Stroke!F19+Stroke!F20 -> 0 | M6: =Stroke!G19+Stroke!G20 -> 0 | N6: =Stroke!H19+Stroke!H20 -> 0 | O6: ='Alternate Shot'!C19+'Alternate Shot'!C20 -> 0 | P6: ='Alternate Shot'!D19+'Alternate Shot'!D20 -> 0 | Q6: ='Alternate Shot'!E19+'Alternate Shot'!E20 -> 0 | R6: ='Alternate Shot'!F19+'Alternate Shot'!F20 -> 0 | S6: ='Alternate Shot'!G19+'Alternate Shot'!G20 -> 0 | T6: ='Alternate Shot'!H19+'Alternate Shot'!H20 -> 0 | U6: =Scramble!C19+Scramble!C20 -> 0 | V6: =Scramble!D19+Scramble!D20 -> 0 | W6: =Scramble!E19+Scramble!E20 -> 0 | X6: =Scramble!F19+Scramble!F20 -> 0 | Y6: =Scramble!G19+Scramble!G20 -> 0 | Z6: =Scramble!H19+Scramble!H20 -> 0 | AA6: =Match!C27+Match!C28+Match!C29+Match!C30 -> 0 | AB6: =Match!D27+Match!D28+Match!D29+Match!D30 -> 0 | AC6: =Match!E27+Match!E28+Match!E29+Match!E30 -> 0 | AD6: =Match!F27+Match!F28+Match!F29+Match!F30 -> 0 | AE6: =Match!G27+Match!G28+Match!G29+Match!G30 -> 0 | AF6: =Match!H27+Match!H28+Match!H29+Match!H30 -> 0
A7: BGC | B7: =I7+O7+U7+AA7 -> 0 | C7: =P7+V7+AB7 -> 0 | D7: =J7/2 -> 0 | E7: =K7+Q7+W7+AC7 -> 0 | F7: =L7+R7+X7+AD7 -> 0 | G7: =M7+S7+Y7+AE7 -> 0 | H7: =N7+T7+Z7+AF7 -> 0 | I7: =Stroke!C23+Stroke!C24 -> 0 | J7: =Stroke!D23+Stroke!D24 -> 0 | K7: =Stroke!E23+Stroke!E24 -> 0 | L7: =Stroke!F23+Stroke!F24 -> 0 | M7: =Stroke!G23+Stroke!G24 -> 0 | N7: =Stroke!H23+Stroke!H24 -> 0 | O7: ='Alternate Shot'!C23+'Alternate Shot'!C24 -> 0 | P7: ='Alternate Shot'!D23+'Alternate Shot'!D24 -> 0 | Q7: ='Alternate Shot'!E23+'Alternate Shot'!E24 -> 0 | R7: ='Alternate Shot'!F23+'Alternate Shot'!F24 -> 0 | S7: ='Alternate Shot'!G23+'Alternate Shot'!G24 -> 0 | T7: ='Alternate Shot'!H23+'Alternate Shot'!H24 -> 0 | U7: =Scramble!C23+Scramble!C24 -> 0 | V7: =Scramble!D23+Scramble!D24 -> 0 | W7: =Scramble!E23+Scramble!E24 -> 0 | X7: =Scramble!F23+Scramble!F24 -> 0 | Y7: =Scramble!G23+Scramble!G24 -> 0 | Z7: =Scramble!H23+Scramble!H24 -> 0 | AA7: =Match!C33+Match!C34+Match!C35+Match!C36 -> 0 | AB7: =Match!D33+Match!D34+Match!D35+Match!D36 -> 0 | AC7: =Match!E33+Match!E34+Match!E35+Match!E36 -> 0 | AD7: =Match!F33+Match!F34+Match!F35+Match!F36 -> 0 | AE7: =Match!G33+Match!G34+Match!G35+Match!G36 -> 0 | AF7: =Match!H33+Match!H34+Match!H35+Match!H36 -> 0
A8: LAGC | B8: =I8+O8+U8+AA8 -> 0 | C8: =P8+V8+AB8 -> 0 | D8: =J8/2 -> 0 | E8: =K8+Q8+W8+AC8 -> 0 | F8: =L8+R8+X8+AD8 -> 0 | G8: =M8+S8+Y8+AE8 -> 0 | H8: =N8+T8+Z8+AF8 -> 0 | I8: =Stroke!C15+Stroke!C16 -> 0 | J8: =Stroke!D15+Stroke!D16 -> 0 | K8: =Stroke!E15+Stroke!E16 -> 0 | L8: =Stroke!F15+Stroke!F16 -> 0 | M8: =Stroke!G15+Stroke!G16 -> 0 | N8: =Stroke!H15+Stroke!H16 -> 0 | O8: ='Alternate Shot'!C15+'Alternate Shot'!C16 -> 0 | P8: ='Alternate Shot'!D15+'Alternate Shot'!D16 -> 0 | Q8: ='Alternate Shot'!E15+'Alternate Shot'!E16 -> 0 | R8: ='Alternate Shot'!F15+'Alternate Shot'!F16 -> 0 | S8: ='Alternate Shot'!G15+'Alternate Shot'!G16 -> 0 | T8: ='Alternate Shot'!H15+'Alternate Shot'!H16 -> 0 | U8: =Scramble!C15+Scramble!C16 -> 0 | V8: =Scramble!D15+Scramble!D16 -> 0 | W8: =Scramble!E15+Scramble!E16 -> 0 | X8: =Scramble!F15+Scramble!F16 -> 0 | Y8: =Scramble!G15+Scramble!G16 -> 0 | Z8: =Scramble!H15+Scramble!H16 -> 0 | AA8: =Match!C21+Match!C22+Match!C23+Match!C24 -> 0 | AB8: =Match!D21+Match!D22+Match!D23+Match!D24 -> 0 | AC8: =Match!E21+Match!E22+Match!E23+Match!E24 -> 0 | AD8: =Match!F21+Match!F22+Match!F23+Match!F24 -> 0 | AE8: =Match!G21+Match!G22+Match!G23+Match!G24 -> 0 | AF8: =Match!H21+Match!H22+Match!H23+Match!H24 -> 0
A9: Scramblers | B9: =I9+O9+U9+AA9 -> 0 | C9: =P9+V9+AB9 -> 0 | D9: =J9/2 -> 0 | E9: =K9+Q9+W9+AC9 -> 0 | F9: =L9+R9+X9+AD9 -> 0 | G9: =M9+S9+Y9+AE9 -> 0 | H9: =N9+T9+Z9+AF9 -> 0 | I9: =Stroke!C27+Stroke!C28 -> 0 | J9: =Stroke!D27+Stroke!D28 -> 0 | K9: =Stroke!E27+Stroke!E28 -> 0 | L9: =Stroke!F27+Stroke!F28 -> 0 | M9: =Stroke!G27+Stroke!G28 -> 0 | N9: =Stroke!H27+Stroke!H28 -> 0 | O9: ='Alternate Shot'!C27+'Alternate Shot'!C28 -> 0 | P9: ='Alternate Shot'!D27+'Alternate Shot'!D28 -> 0 | Q9: ='Alternate Shot'!E27+'Alternate Shot'!E28 -> 0 | R9: ='Alternate Shot'!F27+'Alternate Shot'!F28 -> 0 | S9: ='Alternate Shot'!G27+'Alternate Shot'!G28 -> 0 | T9: ='Alternate Shot'!H27+'Alternate Shot'!H28 -> 0 | U9: =Scramble!C27+Scramble!C28 -> 0 | V9: =Scramble!D27+Scramble!D28 -> 0 | W9: =Scramble!E27+Scramble!E28 -> 0 | X9: =Scramble!F27+Scramble!F28 -> 0 | Y9: =Scramble!G27+Scramble!G28 -> 0 | Z9: =Scramble!H27+Scramble!H28 -> 0 | AA9: =Match!C39+Match!C40+Match!C41+Match!C42 -> 0 | AB9: =Match!D39+Match!D40+Match!D41+Match!D42 -> 0 | AC9: =Match!E39+Match!E40+Match!E41+Match!E42 -> 0 | AD9: =Match!F39+Match!F40+Match!F41+Match!F42 -> 0 | AE9: =Match!G39+Match!G40+Match!G41+Match!G42 -> 0 | AF9: =Match!H39+Match!H40+Match!H41+Match!H42 -> 0
A10: Rough Riders | B10: =I10+O10+U10+AA10 -> 0 | C10: =P10+V10+AB10 -> 0 | D10: =J10/2 -> 0 | E10: =K10+Q10+W10+AC10 -> 0 | F10: =L10+R10+X10+AD10 -> 0 | G10: =M10+S10+Y10+AE10 -> 0 | H10: =N10+T10+Z10+AF10 -> 0 | I10: =Stroke!C31+Stroke!C32 -> 0 | J10: =Stroke!D31+Stroke!D32 -> 0 | K10: =Stroke!E31+Stroke!E32 -> 0 | L10: =Stroke!F31+Stroke!F32 -> 0 | M10: =Stroke!G31+Stroke!G32 -> 0 | N10: =Stroke!H31+Stroke!H32 -> 0 | O10: ='Alternate Shot'!C31+'Alternate Shot'!C32 -> 0 | P10: ='Alternate Shot'!D31+'Alternate Shot'!D32 -> 0 | Q10: ='Alternate Shot'!E31+'Alternate Shot'!E32 -> 0 | R10: ='Alternate Shot'!F31+'Alternate Shot'!F32 -> 0 | S10: ='Alternate Shot'!G31+'Alternate Shot'!G32 -> 0 | T10: ='Alternate Shot'!H31+'Alternate Shot'!H32 -> 0 | U10: =Scramble!C31+Scramble!C32 -> 0 | V10: =Scramble!D31+Scramble!D32 -> 0 | W10: =Scramble!E31+Scramble!E32 -> 0 | X10: =Scramble!F31+Scramble!F32 -> 0 | Y10: =Scramble!G31+Scramble!G32 -> 0 | Z10: =Scramble!H31+Scramble!H32 -> 0 | AA10: =Match!C45+Match!C46+Match!C47+Match!C48 -> 0 | AB10: =Match!D45+Match!D46+Match!D47+Match!D48 -> 0 | AC10: =Match!E45+Match!E46+Match!E47+Match!E48 -> 0 | AD10: =Match!F45+Match!F46+Match!F47+Match!F48 -> 0 | AE10: =Match!G45+Match!G46+Match!G47+Match!G48 -> 0 | AF10: =Match!H45+Match!H46+Match!H47+Match!H48 -> 0
A12: Teams/Div | B12: Team Points | I12: Stroke | O12: Alternate Shot | U12: Scramble | AA12: Match
A13: LIV | B13: Total Points | C13: AS, MA, SC Holes | D13: Strokes | E13: Home Points | F13: Away Points | G13: Div. Points | H13: Non Div. Points | I13: Points | J13: Strokes | K13: Home | L13: Away | M13: Division | N13: Non Division | O13: Points | P13: Holes | Q13: Home | R13: Away | S13: Division | T13: Non Division | U13: Points | V13: Holes | W13: Home | X13: Away | Y13: Division | Z13: Non Division | AA13: Points | AB13: Holes | AC13: Home | AD13: Away | AE13: Division | AF13: Non Division
A14: Crushers | B14: =I14+O14+U14+AA14 -> 0 | C14: =P14+V14+AB14 -> 0 | D14: =J14/2 -> 0 | E14: =K14+Q14+W14+AC14 -> 0 | F14: =L14+R14+X14+AD14 -> 0 | G14: =M14+S14+Y14+AE14 -> 0 | H14: =N14+T14+Z14+AF14 -> 0 | I14: =Stroke!C35+Stroke!C36 -> 0 | J14: =Stroke!D35+Stroke!D36 -> 0 | K14: =Stroke!E35+Stroke!E36 -> 0 | L14: =Stroke!F35+Stroke!F36 -> 0 | M14: =Stroke!G35+Stroke!G36 -> 0 | N14: =Stroke!H35+Stroke!H36 -> 0 | O14: ='Alternate Shot'!C35+'Alternate Shot'!C36 -> 0 | P14: ='Alternate Shot'!D35+'Alternate Shot'!D36 -> 0 | Q14: ='Alternate Shot'!E35+'Alternate Shot'!E36 -> 0 | R14: ='Alternate Shot'!F35+'Alternate Shot'!F36 -> 0 | S14: ='Alternate Shot'!G35+'Alternate Shot'!G36 -> 0 | T14: ='Alternate Shot'!H35+'Alternate Shot'!H36 -> 0 | U14: =Scramble!C35+Scramble!C36 -> 0 | V14: =Scramble!D35+Scramble!D36 -> 0 | W14: =Scramble!E35+Scramble!E36 -> 0 | X14: =Scramble!F35+Scramble!F36 -> 0 | Y14: =Scramble!G35+Scramble!G36 -> 0 | Z14: =Scramble!H35+Scramble!H36 -> 0 | AA14: =Match!C51+Match!C52+Match!C53+Match!C54 -> 0 | AB14: =Match!D51+Match!D52+Match!D53+Match!D54 -> 0 | AC14: =Match!E51+Match!E52+Match!E53+Match!E54 -> 0 | AD14: =Match!F51+Match!F52+Match!F53+Match!F54 -> 0 | AE14: =Match!G51+Match!G52+Match!G53+Match!G54 -> 0 | AF14: =Match!H51+Match!H52+Match!H53+Match!H54 -> 0
A15: Majesticks | B15: =I15+O15+U15+AA15 -> 0 | C15: =P15+V15+AB15 -> 0 | D15: =J15/2 -> 0 | E15: =K15+Q15+W15+AC15 -> 0 | F15: =L15+R15+X15+AD15 -> 0 | G15: =M15+S15+Y15+AE15 -> 0 | H15: =N15+T15+Z15+AF15 -> 0 | I15: =Stroke!C39+Stroke!C40 -> 0 | J15: =Stroke!D39+Stroke!D40 -> 0 | K15: =Stroke!E39+Stroke!E40 -> 0 | L15: =Stroke!F39+Stroke!F40 -> 0 | M15: =Stroke!G39+Stroke!G40 -> 0 | N15: =Stroke!H39+Stroke!H40 -> 0 | O15: ='Alternate Shot'!C39+'Alternate Shot'!C40 -> 0 | P15: ='Alternate Shot'!D39+'Alternate Shot'!D40 -> 0 | Q15: ='Alternate Shot'!E39+'Alternate Shot'!E40 -> 0 | R15: ='Alternate Shot'!F39+'Alternate Shot'!F40 -> 0 | S15: ='Alternate Shot'!G39+'Alternate Shot'!G40 -> 0 | T15: ='Alternate Shot'!H39+'Alternate Shot'!H40 -> 0 | U15: =Scramble!C39+Scramble!C40 -> 0 | V15: =Scramble!D39+Scramble!D40 -> 0 | W15: =Scramble!E39+Scramble!E40 -> 0 | X15: =Scramble!F39+Scramble!F40 -> 0 | Y15: =Scramble!G39+Scramble!G40 -> 0 | Z15: =Scramble!H39+Scramble!H40 -> 0 | AA15: =Match!C57+Match!C58+Match!C59+Match!C60 -> 0 | AB15: =Match!D57+Match!D58+Match!D59+Match!D60 -> 0 | AC15: =Match!E57+Match!E58+Match!E59+Match!E60 -> 0 | AD15: =Match!F57+Match!F58+Match!F59+Match!F60 -> 0 | AE15: =Match!G57+Match!G58+Match!G59+Match!G60 -> 0 | AF15: =Match!H57+Match!H58+Match!H59+Match!H60 -> 0
A16: Aces | B16: =I16+O16+U16+AA16 -> 0 | C16: =P16+V16+AB16 -> 0 | D16: =J16/2 -> 0 | E16: =K16+Q16+W16+AC16 -> 0 | F16: =L16+R16+X16+AD16 -> 0 | G16: =M16+S16+Y16+AE16 -> 0 | H16: =N16+T16+Z16+AF16 -> 0 | I16: =Stroke!C51+Stroke!C52 -> 0 | J16: =Stroke!D51+Stroke!D52 -> 0 | K16: =Stroke!E51+Stroke!E52 -> 0 | L16: =Stroke!F51+Stroke!F52 -> 0 | M16: =Stroke!G51+Stroke!G52 -> 0 | N16: =Stroke!H51+Stroke!H52 -> 0 | O16: ='Alternate Shot'!C51+'Alternate Shot'!C52 -> 0 | P16: ='Alternate Shot'!D51+'Alternate Shot'!D52 -> 0 | Q16: ='Alternate Shot'!E51+'Alternate Shot'!E52 -> 0 | R16: ='Alternate Shot'!F51+'Alternate Shot'!F52 -> 0 | S16: ='Alternate Shot'!G51+'Alternate Shot'!G52 -> 0 | T16: ='Alternate Shot'!H51+'Alternate Shot'!H52 -> 0 | U16: =Scramble!C51+Scramble!C52 -> 0 | V16: =Scramble!D51+Scramble!D52 -> 0 | W16: =Scramble!E51+Scramble!E52 -> 0 | X16: =Scramble!F51+Scramble!F52 -> 0 | Y16: =Scramble!G51+Scramble!G52 -> 0 | Z16: =Scramble!H51+Scramble!H52 -> 0 | AA16: =Match!C75+Match!C76+Match!C77+Match!C78 -> 0 | AB16: =Match!D75+Match!D76+Match!D77+Match!D78 -> 0 | AC16: =Match!E75+Match!E76+Match!E77+Match!E78 -> 0 | AD16: =Match!F75+Match!F76+Match!F77+Match!F78 -> 0 | AE16: =Match!G75+Match!G76+Match!G77+Match!G78 -> 0 | AF16: =Match!H75+Match!H76+Match!H77+Match!H78 -> 0
A17: Stinger | B17: =I17+O17+U17+AA17 -> 0 | C17: =P17+V17+AB17 -> 0 | D17: =J17/2 -> 0 | E17: =K17+Q17+W17+AC17 -> 0 | F17: =L17+R17+X17+AD17 -> 0 | G17: =M17+S17+Y17+AE17 -> 0 | H17: =N17+T17+Z17+AF17 -> 0 | I17: =Stroke!C55+Stroke!C56 -> 0 | J17: =Stroke!D55+Stroke!D56 -> 0 | K17: =Stroke!E55+Stroke!E56 -> 0 | L17: =Stroke!F55+Stroke!F56 -> 0 | M17: =Stroke!G55+Stroke!G56 -> 0 | N17: =Stroke!H55+Stroke!H56 -> 0 | O17: ='Alternate Shot'!C55+'Alternate Shot'!C56 -> 0 | P17: ='Alternate Shot'!D55+'Alternate Shot'!D56 -> 0 | Q17: ='Alternate Shot'!E55+'Alternate Shot'!E56 -> 0 | R17: ='Alternate Shot'!F55+'Alternate Shot'!F56 -> 0 | S17: ='Alternate Shot'!G55+'Alternate Shot'!G56 -> 0 | T17: ='Alternate Shot'!H55+'Alternate Shot'!H56 -> 0 | U17: =Scramble!C55+Scramble!C56 -> 0 | V17: =Scramble!D55+Scramble!D56 -> 0 | W17: =Scramble!E55+Scramble!E56 -> 0 | X17: =Scramble!F55+Scramble!F56 -> 0 | Y17: =Scramble!G55+Scramble!G56 -> 0 | Z17: =Scramble!H55+Scramble!H56 -> 0 | AA17: =Match!C81+Match!C82+Match!C83+Match!C84 -> 0 | AB17: =Match!D81+Match!D82+Match!D83+Match!D84 -> 0 | AC17: =Match!E81+Match!E82+Match!E83+Match!E84 -> 0 | AD17: =Match!F81+Match!F82+Match!F83+Match!F84 -> 0 | AE17: =Match!G81+Match!G82+Match!G83+Match!G84 -> 0 | AF17: =Match!H81+Match!H82+Match!H83+Match!H84 -> 0
A18: Fireballs | B18: =I18+O18+U18+AA18 -> 0 | C18: =P18+V18+AB18 -> 0 | D18: =J18/2 -> 0 | E18: =K18+Q18+W18+AC18 -> 0 | F18: =L18+R18+X18+AD18 -> 0 | G18: =M18+S18+Y18+AE18 -> 0 | H18: =N18+T18+Z18+AF18 -> 0 | I18: =Stroke!C43+Stroke!C44 -> 0 | J18: =Stroke!D43+Stroke!D44 -> 0 | K18: =Stroke!E43+Stroke!E44 -> 0 | L18: =Stroke!F43+Stroke!F44 -> 0 | M18: =Stroke!G43+Stroke!G44 -> 0 | N18: =Stroke!H43+Stroke!H44 -> 0 | O18: ='Alternate Shot'!C43+'Alternate Shot'!C44 -> 0 | P18: ='Alternate Shot'!D43+'Alternate Shot'!D44 -> 0 | Q18: ='Alternate Shot'!E43+'Alternate Shot'!E44 -> 0 | R18: ='Alternate Shot'!F43+'Alternate Shot'!F44 -> 0 | S18: ='Alternate Shot'!G43+'Alternate Shot'!G44 -> 0 | T18: ='Alternate Shot'!H43+'Alternate Shot'!H44 -> 0 | U18: =Scramble!C43+Scramble!C44 -> 0 | V18: =Scramble!D43+Scramble!D44 -> 0 | W18: =Scramble!E43+Scramble!E44 -> 0 | X18: =Scramble!F43+Scramble!F44 -> 0 | Y18: =Scramble!G43+Scramble!G44 -> 0 | Z18: =Scramble!H43+Scramble!H44 -> 0 | AA18: =Match!C63+Match!C64+Match!C65+Match!C66 -> 0 | AB18: =Match!D63+Match!D64+Match!D65+Match!D66 -> 0 | AC18: =Match!E63+Match!E64+Match!E65+Match!E66 -> 0 | AD18: =Match!F63+Match!F64+Match!F65+Match!F66 -> 0 | AE18: =Match!G63+Match!G64+Match!G65+Match!G66 -> 0 | AF18: =Match!H63+Match!H64+Match!H65+Match!H66 -> 0
A19: Torque | B19: =I19+O19+U19+AA19 -> 0 | C19: =P19+V19+AB19 -> 0 | D19: =J19/2 -> 0 | E19: =K19+Q19+W19+AC19 -> 0 | F19: =L19+R19+X19+AD19 -> 0 | G19: =M19+S19+Y19+AE19 -> 0 | H19: =N19+T19+Z19+AF19 -> 0 | I19: =Stroke!C47+Stroke!C48 -> 0 | J19: =Stroke!D47+Stroke!D48 -> 0 | K19: =Stroke!E47+Stroke!E48 -> 0 | L19: =Stroke!F47+Stroke!F48 -> 0 | M19: =Stroke!G47+Stroke!G48 -> 0 | N19: =Stroke!H47+Stroke!H48 -> 0 | O19: ='Alternate Shot'!C47+'Alternate Shot'!C48 -> 0 | P19: ='Alternate Shot'!D47+'Alternate Shot'!D48 -> 0 | Q19: ='Alternate Shot'!E47+'Alternate Shot'!E48 -> 0 | R19: ='Alternate Shot'!F47+'Alternate Shot'!F48 -> 0 | S19: ='Alternate Shot'!G47+'Alternate Shot'!G48 -> 0 | T19: ='Alternate Shot'!H47+'Alternate Shot'!H48 -> 0 | U19: =Scramble!C47+Scramble!C48 -> 0 | V19: =Scramble!D47+Scramble!D48 -> 0 | W19: =Scramble!E47+Scramble!E48 -> 0 | X19: =Scramble!F47+Scramble!F48 -> 0 | Y19: =Scramble!G47+Scramble!G48 -> 0 | Z19: =Scramble!H47+Scramble!H48 -> 0 | AA19: =Match!C69+Match!C70+Match!C71+Match!C72 -> 0 | AB19: =Match!D69+Match!D70+Match!D71+Match!D72 -> 0 | AC19: =Match!E69+Match!E70+Match!E71+Match!E72 -> 0 | AD19: =Match!F69+Match!F70+Match!F71+Match!F72 -> 0 | AE19: =Match!G69+Match!G70+Match!G71+Match!G72 -> 0 | AF19: =Match!H69+Match!H70+Match!H71+Match!H72 -> 0
A20: KGC | B20: =I20+O20+U20+AA20 -> 0 | C20: =P20+V20+AB20 -> 0 | D20: =J20/2 -> 0 | E20: =K20+Q20+W20+AC20 -> 0 | F20: =L20+R20+X20+AD20 -> 0 | G20: =M20+S20+Y20+AE20 -> 0 | H20: =N20+T20+Z20+AF20 -> 0 | I20: =Stroke!C59+Stroke!C60 -> 0 | J20: =Stroke!D59+Stroke!D60 -> 0 | K20: =Stroke!E59+Stroke!E60 -> 0 | L20: =Stroke!F59+Stroke!F60 -> 0 | M20: =Stroke!G59+Stroke!G60 -> 0 | N20: =Stroke!H59+Stroke!H60 -> 0 | O20: ='Alternate Shot'!C59+'Alternate Shot'!C60 -> 0 | P20: ='Alternate Shot'!D59+'Alternate Shot'!D60 -> 0 | Q20: ='Alternate Shot'!E59+'Alternate Shot'!E60 -> 0 | R20: ='Alternate Shot'!F59+'Alternate Shot'!F60 -> 0 | S20: ='Alternate Shot'!G59+'Alternate Shot'!G60 -> 0 | T20: ='Alternate Shot'!H59+'Alternate Shot'!H60 -> 0 | U20: =Scramble!C59+Scramble!C60 -> 0 | V20: =Scramble!D59+Scramble!D60 -> 0 | W20: =Scramble!E59+Scramble!E60 -> 0 | X20: =Scramble!F59+Scramble!F60 -> 0 | Y20: =Scramble!G59+Scramble!G60 -> 0 | Z20: =Scramble!H59+Scramble!H60 -> 0 | AA20: =Match!C87+Match!C88+Match!C89+Match!C90 -> 0 | AB20: =Match!D87+Match!D88+Match!D89+Match!D90 -> 0 | AC20: =Match!E87+Match!E88+Match!E89+Match!E90 -> 0 | AD20: =Match!F87+Match!F88+Match!F89+Match!F90 -> 0 | AE20: =Match!G87+Match!G88+Match!G89+Match!G90 -> 0 | AF20: =Match!H87+Match!H88+Match!H89+Match!H90 -> 0
A21: Pin Seekers | B21: =I21+O21+U21+AA21 -> 0 | C21: =P21+V21+AB21 -> 0 | D21: =J21/2 -> 0 | E21: =K21+Q21+W21+AC21 -> 0 | F21: =L21+R21+X21+AD21 -> 0 | G21: =M21+S21+Y21+AE21 -> 0 | H21: =N21+T21+Z21+AF21 -> 0 | I21: =Stroke!C63+Stroke!C64 -> 0 | J21: =Stroke!D63+Stroke!D64 -> 0 | K21: =Stroke!E63+Stroke!E64 -> 0 | L21: =Stroke!F63+Stroke!F64 -> 0 | M21: =Stroke!G63+Stroke!G64 -> 0 | N21: =Stroke!H63+Stroke!H64 -> 0 | O21: ='Alternate Shot'!C63+'Alternate Shot'!C64 -> 0 | P21: ='Alternate Shot'!D63+'Alternate Shot'!D64 -> 0 | Q21: ='Alternate Shot'!E63+'Alternate Shot'!E64 -> 0 | R21: ='Alternate Shot'!F63+'Alternate Shot'!F64 -> 0 | S21: ='Alternate Shot'!G63+'Alternate Shot'!G64 -> 0 | T21: ='Alternate Shot'!H63+'Alternate Shot'!H64 -> 0 | U21: =Scramble!C63+Scramble!C64 -> 0 | V21: =Scramble!D63+Scramble!D64 -> 0 | W21: =Scramble!E63+Scramble!E64 -> 0 | X21: =Scramble!F63+Scramble!F64 -> 0 | Y21: =Scramble!G63+Scramble!G64 -> 0 | Z21: =Scramble!H63+Scramble!H64 -> 0 | AA21: =Match!C93+Match!C94+Match!C95+Match!C96 -> 0 | AB21: =Match!D93+Match!D94+Match!D95+Match!D96 -> 0 | AC21: =Match!E93+Match!E94+Match!E95+Match!E96 -> 0 | AD21: =Match!F93+Match!F94+Match!F95+Match!F96 -> 0 | AE21: =Match!G93+Match!G94+Match!G95+Match!G96 -> 0 | AF21: =Match!H93+Match!H94+Match!H95+Match!H96 -> 0

Sheet Individual
A1: PGA Divison | K1: LIV Divison
A2: Rank | B2: Player # | C2: Drive | D2: Individual Match Points | E2: Alternate Shot Points | F2: Scramble Points | G2: Stroke Points | H2: Individual Points | K2: Rank | L2: Player # | M2: Crushers | N2: Individual Match Points | O2: Alternate Shot Points | P2: Scramble Points | Q2: Stroke Points | R2: Individual Points
B3: 1 | C3: Patrick Cantlay | D3: =Match!C3 -> 0 | E3: ='Alternate Shot'!C3/2 -> 0 | F3: =Scramble!C3/2 -> 0 | G3: =Stroke!C3/2 -> 0 | H3: =SUM(D3:G3) -> 0 | L3: 1 | M3: Bryson DeChambeau | N3: =Match!C51 -> 0 | O3: ='Alternate Shot'!C35/2 -> 0 | P3: =Scramble!C35/2 -> 0 | Q3: =Stroke!C35/2 -> 0 | R3: =SUM(N3:Q3) -> 0
B4: 2 | C4: Justin Thomas | D4: =Match!C4 -> 0 | E4: ='Alternate Shot'!C4/2 -> 0 | F4: =Scramble!C4/2 -> 0 | G4: =Stroke!C3/2 -> 0 | H4: =SUM(D4:G4) -> 0 | L4: 2 | M4: Paul Casey | N4: =Match!C52 -> 0 | O4: ='Alternate Shot'!C36/2 -> 0 | P4: =Scramble!C36/2 -> 0 | Q4: =Stroke!C35/2 -> 0 | R4: =SUM(N4:Q4) -> 0
B5: 3 | C5: Billy Horschel | D5: =Match!C5 -> 0 | E5: ='Alternate Shot'!C4/2 -> 0 | F5: =Scramble!C3/2 -> 0 | G5: =Stroke!C4/2 -> 0 | H5: =SUM(D5:G5) -> 0 | L5: 3 | M5: Charles Howell III | N5: =Match!C53 -> 0 | O5: ='Alternate Shot'!C36/2 -> 0 | P5: =Scramble!C35/2 -> 0 | Q5: =Stroke!C36/2 -> 0 | R5: =SUM(N5:Q5) -> 0
B6: 4 | C6: Lucas Glover | D6: =Match!C6 -> 0 | E6: ='Alternate Shot'!C3/2 -> 0 | F6: =Scramble!C4/2 -> 0 | G6: =Stroke!C4/2 -> 0 | H6: =SUM(D6:G6) -> 0 | L6: 4 | M6: Bubba Watson | N6: =Match!C54 -> 0 | O6: ='Alternate Shot'!C35/2 -> 0 | P6: =Scramble!C36/2 -> 0 | Q6: =Stroke!C36/2 -> 0 | R6: =SUM(N6:Q6) -> 0
A7: =SUM(A3:A6) -> 0 | B7: Totals | D7: =SUM(D3:D6) -> 0 | E7: =SUM(E3:E6) -> 0 | F7: =SUM(F3:F6) -> 0 | G7: =SUM(G3:G6) -> 0 | H7: =SUM(H3:H6) -> 0 | K7: =SUM(K3:K6) -> 0 | L7: Totals | N7: =SUM(N3:N6) -> 0 | O7: =SUM(O3:O6) -> 0 | P7: =SUM(P3:P6) -> 0 | Q7: =SUM(Q3:Q6) -> 0 | R7: =SUM(R3:R6) -> 0
A9: Rank | B9: Player # | C9: Common | D9: Individual Match Points | E9: Alternate Shot Points | F9: Scramble Points | G9: Stroke Points | H9: Individual Points | K9: Rank | L9: Player # | M9: Majesticks | N9: Individual Match Points | O9: Alternate Shot Points | P9: Scramble Points | Q9: Stroke Points | R9: Individual Points
B10: 1 | C10: Hideki Matsuyama | D10: =Match!C9 -> 0 | E10: ='Alternate Shot'!C7/2 -> 0 | F10: =Scramble!C7/2 -> 0 | G10: =Stroke!C7/2 -> 0 | H10: =SUM(D10:G10) -> 0 | L10: 1 | M10: Phil Mickelson | N10: =Match!C57 -> 0 | O10: ='Alternate Shot'!C39/2 -> 0 | P10: =Scramble!C39/2 -> 0 | Q10: =Stroke!C39/2 -> 0 | R10: =SUM(N10:Q10) -> 0
B11: 2 | C11: Keegan Bradley | D11: =Match!C10 -> 0 | E11: ='Alternate Shot'!C8/2 -> 0 | F11: =Scramble!C8/2 -> 0 | G11: =Stroke!C7/2 -> 0 | H11: =SUM(D11:G11) -> 0 | L11: 2 | M11: Ian Poulter | N11: =Match!C58 -> 0 | O11: ='Alternate Shot'!C40/2 -> 0 | P11: =Scramble!C40/2 -> 0 | Q11: =Stroke!C39/2 -> 0 | R11: =SUM(N11:Q11) -> 0
B12: 3 | C12: Rory McIlroy | D12: =Match!C11 -> 0 | E12: ='Alternate Shot'!C8/2 -> 0 | F12: =Scramble!C7/2 -> 0 | G12: =Stroke!C8/2 -> 0 | H12: =SUM(D12:G12) -> 0 | L12: 3 | M12: Lee Westwood | N12: =Match!C59 -> 0 | O12: ='Alternate Shot'!C40/2 -> 0 | P12: =Scramble!C39/2 -> 0 | Q12: =Stroke!C40/2 -> 0 | R12: =SUM(N12:Q12) -> 0
B13: 4 | C13: Adam Scott | D13: =Match!C12 -> 0 | E13: ='Alternate Shot'!C7/2 -> 0 | F13: =Scramble!C8/2 -> 0 | G13: =Stroke!C8/2 -> 0 | H13: =SUM(D13:G13) -> 0 | L13: 4 | M13: Henrik Stenson | N13: =Match!C60 -> 0 | O13: ='Alternate Shot'!C39/2 -> 0 | P13: =Scramble!C40/2 -> 0 | Q13: =Stroke!C40/2 -> 0 | R13: =SUM(N13:Q13) -> 0
A14: =SUM(A10:A13) -> 0 | B14: Totals | D14: =SUM(D10:D13) -> 0 | E14: =SUM(E10:E13) -> 0 | F14: =SUM(F10:F13) -> 0 | G14: =SUM(G10:G13) -> 0 | H14: =SUM(H10:H13) -> 0 | K14: =SUM(K10:K13) -> 0 | L14: Totals | N14: =SUM(N10:N13) -> 0 | O14: =SUM(O10:O13) -> 0 | P14: =SUM(P10:P13) -> 0 | Q14: =SUM(Q10:Q13) -> 0 | R14: =SUM(R10:R13) -> 0
A16: Rank | B16: Player # | C16: Links | D16: Individual Match Points | E16: Alternate Shot Points | F16: Scramble Points | G16: Stroke Points | H16: Individual Points | K16: Rank | L16: Player # | M16: Fireballs | N16: Individual Match Points | O16: Alternate Shot Points | P16: Scramble Points | Q16: Stroke Points | R16: Individual Points
B17: 1 | C17: Max Homa | D17: =Match!C15 -> 0 | E17: ='Alternate Shot'!C11/2 -> 0 | F17: =Scramble!C11/2 -> 0 | G17: =Stroke!C11/2 -> 0 | H17: =SUM(D17:G17) -> 0 | L17: 1 | M17: Tyrrell Hatton | N17: =Match!C63 -> 0 | O17: ='Alternate Shot'!C43/2 -> 0 | P17: =Scramble!C43/2 -> 0 | Q17: =Stroke!C43/2 -> 0 | R17: =SUM(N17:Q17) -> 0
B18: 2 | C18: Tiger Woods | D18: =Match!C16 -> 0 | E18: ='Alternate Shot'!C12/2 -> 0 | F18: =Scramble!C12/2 -> 0 | G18: =Stroke!C11/2 -> 0 | H18: =SUM(D18:G18) -> 0 | L18: 2 | M18: Cam Smith | N18: =Match!C64 -> 0 | O18: ='Alternate Shot'!C44/2 -> 0 | P18: =Scramble!C44/2 -> 0 | Q18: =Stroke!C43/2 -> 0 | R18: =SUM(N18:Q18) -> 0
B19: 3 | C19: Tom Kim | D19: =Match!C17 -> 0 | E19: ='Alternate Shot'!C12/2 -> 0 | F19: =Scramble!C11/2 -> 0 | G19: =Stroke!C12/2 -> 0 | H19: =SUM(D19:G19) -> 0 | L19: 3 | M19: Sergio Garcia | N19: =Match!C65 -> 0 | O19: ='Alternate Shot'!C44/2 -> 0 | P19: =Scramble!C43/2 -> 0 | Q19: =Stroke!C44/2 -> 0 | R19: =SUM(N19:Q19) -> 0
B20: 4 | C20: Kevin Kisner | D20: =Match!C18 -> 0 | E20: ='Alternate Shot'!C11/2 -> 0 | F20: =Scramble!C12/2 -> 0 | G20: =Stroke!C12/2 -> 0 | H20: =SUM(D20:G20) -> 0 | L20: 4 | M20: Jon Rahm | N20: =Match!C66 -> 0 | O20: ='Alternate Shot'!C43/2 -> 0 | P20: =Scramble!C44/2 -> 0 | Q20: =Stroke!C44/2 -> 0 | R20: =SUM(N20:Q20) -> 0
A21: =SUM(A17:A20) -> 0 | B21: Totals | D21: =SUM(D17:D20) -> 0 | E21: =SUM(E17:E20) -> 0 | F21: =SUM(F17:F20) -> 0 | G21: =SUM(G17:G20) -> 0 | H21: =SUM(H17:H20) -> 0 | K21: =SUM(K17:K20) -> 0 | L21: Totals | N21: =SUM(N17:N20) -> 0 | O21: =SUM(O17:O20) -> 0 | P21: =SUM(P17:P20) -> 0 | Q21: =SUM(Q17:Q20) -> 0 | R21: =SUM(R17:R20) -> 0
A23: Rank | B23: Player # | C23: LA Golf Club | D23: Individual Match Points | E23: Alternate Shot Points | F23: Scramble Points | G23: Stroke Points | H23: Individual Points | K23: Rank | L23: Player # | M23: Torque | N23: Individual Match Points | O23: Alternate Shot Points | P23: Scramble Points | Q23: Stroke Points | R23: Individual Points
B24: 1 | C24: Sahith Theegala | D24: =Match!C21 -> 0 | E24: ='Alternate Shot'!C15/2 -> 0 | F24: =Scramble!C15/2 -> 0 | G24: =Stroke!C15/2 -> 0 | H24: =SUM(D24:G24) -> 0 | L24: 1 | M24: Mito Pereira | N24: =Match!C69 -> 0 | O24: ='Alternate Shot'!C47/2 -> 0 | P24: =Scramble!C47/2 -> 0 | Q24: =Stroke!C47/2 -> 0 | R24: =SUM(N24:Q24) -> 0
B25: 2 | C25: Collin Morikawa | D25: =Match!C22 -> 0 | E25: ='Alternate Shot'!C16/2 -> 0 | F25: =Scramble!C16/2 -> 0 | G25: =Stroke!C15/2 -> 0 | H25: =SUM(D25:G25) -> 0 | L25: 2 | M25: Sebastian Munoz | N25: =Match!C70 -> 0 | O25: ='Alternate Shot'!C48/2 -> 0 | P25: =Scramble!C48/2 -> 0 | Q25: =Stroke!C47/2 -> 0 | R25: =SUM(N25:Q25) -> 0
B26: 3 | C26: Tommy Fleetwood | D26: =Match!C23 -> 0 | E26: ='Alternate Shot'!C16/2 -> 0 | F26: =Scramble!C15/2 -> 0 | G26: =Stroke!C16/2 -> 0 | H26: =SUM(D26:G26) -> 0 | L26: 3 | M26: Joaquin Niemann | N26: =Match!C71 -> 0 | O26: ='Alternate Shot'!C48/2 -> 0 | P26: =Scramble!C47/2 -> 0 | Q26: =Stroke!C48/2 -> 0 | R26: =SUM(N26:Q26) -> 0
B27: 4 | C27: Justin Rose | D27: =Match!C24 -> 0 | E27: ='Alternate Shot'!C15/2 -> 0 | F27: =Scramble!C16/2 -> 0 | G27: =Stroke!C16/2 -> 0 | H27: =SUM(D27:G27) -> 0 | L27: 4 | M27: Kevin Na | N27: =Match!C72 -> 0 | O27: ='Alternate Shot'!C47/2 -> 0 | P27: =Scramble!C48/2 -> 0 | Q27: =Stroke!C48/2 -> 0 | R27: =SUM(N27:Q27) -> 0
A28: =SUM(A24:A27) -> 0 | B28: Totals | D28: =SUM(D24:D27) -> 0 | E28: =SUM(E24:E27) -> 0 | F28: =SUM(F24:F27) -> 0 | G28: =SUM(G24:G27) -> 0 | H28: =SUM(H24:H27) -> 0 | K28: =SUM(K24:K27) -> 0 | L28: Totals | N28: =SUM(N24:N27) -> 0 | O28: =SUM(O24:O27) -> 0 | P28: =SUM(P24:P27) -> 0 | Q28: =SUM(Q24:Q27) -> 0 | R28: =SUM(R24:R27) -> 0
A30: Rank | B30: Player # | C30: New York Golf Club | D30: Individual Match Points | E30: Alternate Shot Points | F30: Scramble Points | G30: Stroke Points | H30: Individual Points | K30: Rank | L30: Player # | M30: Aces | N30: Individual Match Points | O30: Alternate Shot Points | P30: Scramble Points | Q30: Stroke Points | R30: Individual Points
B31: 1 | C31: Rickie Fowler | D31: =Match!C27 -> 0 | E31: ='Alternate Shot'!C19/2 -> 0 | F31: =Scramble!C19/2 -> 0 | G31: =Stroke!C19/2 -> 0 | H31: =SUM(D31:G31) -> 0 | L31: 1 | M31: Dustin Johnson | N31: =Match!C75 -> 0 | O31: ='Alternate Shot'!C51/2 -> 0 | P31: =Scramble!C51/2 -> 0 | Q31: =Stroke!C51/2 -> 0 | R31: =SUM(N31:Q31) -> 0
B32: 2 | C32: Cameron Young | D32: =Match!C28 -> 0 | E32: ='Alternate Shot'!C20/2 -> 0 | F32: =Scramble!C20/2 -> 0 | G32: =Stroke!C19/2 -> 0 | H32: =SUM(D32:G32) -> 0 | L32: 2 | M32: Jason Kokrak | N32: =Match!C76 -> 0 | O32: ='Alternate Shot'!C52/2 -> 0 | P32: =Scramble!C52/2 -> 0 | Q32: =Stroke!C51/2 -> 0 | R32: =SUM(N32:Q32) -> 0
B33: 3 | C33: Matt Fitzpatrick | D33: =Match!C29 -> 0 | E33: ='Alternate Shot'!C20/2 -> 0 | F33: =Scramble!C19/2 -> 0 | G33: =Stroke!C20/2 -> 0 | H33: =SUM(D33:G33) -> 0 | L33: 3 | M33: Brooks Koepka | N33: =Match!C77 -> 0 | O33: ='Alternate Shot'!C52/2 -> 0 | P33: =Scramble!C51/2 -> 0 | Q33: =Stroke!C52/2 -> 0 | R33: =SUM(N33:Q33) -> 0
B34: 4 | C34: Xander Schauffele | D34: =Match!C30 -> 0 | E34: ='Alternate Shot'!C19/2 -> 0 | F34: =Scramble!C20/2 -> 0 | G34: =Stroke!C20/2 -> 0 | H34: =SUM(D34:G34) -> 0 | L34: 4 | M34: Patrick Reed | N34: =Match!C78 -> 0 | O34: ='Alternate Shot'!C51/2 -> 0 | P34: =Scramble!C52/2 -> 0 | Q34: =Stroke!C52/2 -> 0 | R34: =SUM(N34:Q34) -> 0
A35: =SUM(A31:A34) -> 0 | B35: Totals | D35: =SUM(D31:D34) -> 0 | E35: =SUM(E31:E34) -> 0 | F35: =SUM(F31:F34) -> 0 | G35: =SUM(G31:G34) -> 0 | H35: =SUM(H31:H34) -> 0 | K35: =SUM(K31:K34) -> 0 | L35: Totals | N35: =SUM(N31:N34) -> 0 | O35: =SUM(O31:O34) -> 0 | P35: =SUM(P31:P34) -> 0 | Q35: =SUM(Q31:Q34) -> 0 | R35: =SUM(R31:R34) -> 0
A37: Rank | B37: Player # | C37: Bay Golf Club | D37: Individual Match Points | E37: Alternate Shot Points | F37: Scramble Points | G37: Stroke Points | H37: Individual Points | K37: Rank | L37: Player # | M37: Stinger | N37: Individual Match Points | O37: Alternate Shot Points | P37: Scramble Points | Q37: Stroke Points | R37: Individual Points
B38: 1 | C38: Min Woo Lee | D38: =Match!C33 -> 0 | E38: ='Alternate Shot'!C23/2 -> 0 | F38: =Scramble!C23/2 -> 0 | G38: =Stroke!C23/2 -> 0 | H38: =SUM(D38:G38) -> 0 | L38: 1 | M38: Louis Oosthuizen | N38: =Match!C81 -> 0 | O38: ='Alternate Shot'!C55/2 -> 0 | P38: =Scramble!C55/2 -> 0 | Q38: =Stroke!C55/2 -> 0 | R38: =SUM(N38:Q38) -> 0
B39: 2 | C39: Shane Lowry | D39: =Match!C34 -> 0 | E39: ='Alternate Shot'!C24/2 -> 0 | F39: =Scramble!C24/2 -> 0 | G39: =Stroke!C23/2 -> 0 | H39: =SUM(D39:G39) -> 0 | L39: 2 | M39: Charl Schwartzel | N39: =Match!C82 -> 0 | O39: ='Alternate Shot'!C56/2 -> 0 | P39: =Scramble!C56/2 -> 0 | Q39: =Stroke!C55/2 -> 0 | R39: =SUM(N39:Q39) -> 0
B40: 3 | C40: Wyndham Clark | D40: =Match!C35 -> 0 | E40: ='Alternate Shot'!C24/2 -> 0 | F40: =Scramble!C23/2 -> 0 | G40: =Stroke!C24/2 -> 0 | H40: =SUM(D40:G40) -> 0 | L40: 3 | M40: Robert Macintyre | N40: =Match!C83 -> 0 | O40: ='Alternate Shot'!C56/2 -> 0 | P40: =Scramble!C55/2 -> 0 | Q40: =Stroke!C56/2 -> 0 | R40: =SUM(N40:Q40) -> 0
B41: 4 | C41: Ludvig Aberg | D41: =Match!C36 -> 0 | E41: ='Alternate Shot'!C23/2 -> 0 | F41: =Scramble!C24/2 -> 0 | G41: =Stroke!C24/2 -> 0 | H41: =SUM(D41:G41) -> 0 | L41: 4 | M41: Graeme McDowell | N41: =Match!C84 -> 0 | O41: ='Alternate Shot'!C55/2 -> 0 | P41: =Scramble!C56/2 -> 0 | Q41: =Stroke!C56/2 -> 0 | R41: =SUM(N41:Q41) -> 0
A42: =SUM(A38:A41) -> 0 | B42: Totals | D42: =SUM(D38:D41) -> 0 | E42: =SUM(E38:E41) -> 0 | F42: =SUM(F38:F41) -> 0 | G42: =SUM(G38:G41) -> 0 | H42: =SUM(H38:H41) -> 0 | K42: =SUM(K38:K41) -> 0 | L42: Totals | N42: =SUM(N38:N41) -> 0 | O42: =SUM(O38:O41) -> 0 | P42: =SUM(P38:P41) -> 0 | Q42: =SUM(Q38:Q41) -> 0 | R42: =SUM(R38:R41) -> 0
A44: Rank | B44: Player # | C44: Scramblers | D44: Individual Match Points | E44: Alternate Shot Points | F44: Scramble Points | G44: Stroke Points | H44: Individual Points | K44: Rank | L44: Player # | M44: Korean Golf Club | N44: Individual Match Points | O44: Alternate Shot Points | P44: Scramble Points | Q44: Stroke Points | R44: Individual Points
B45: 1 | C45: Scottie Scheffler | D45: =Match!C39 -> 0 | E45: ='Alternate Shot'!C27/2 -> 0 | F45: =Scramble!C27/2 -> 0 | G45: =Stroke!C27/2 -> 0 | H45: =SUM(D45:G45) -> 0 | L45: 1 | M45: K.H. Lee | N45: =Match!C87 -> 0 | O45: ='Alternate Shot'!C59/2 -> 0 | P45: =Scramble!C59/2 -> 0 | Q45: =Stroke!C59/2 -> 0 | R45: =SUM(N45:Q45) -> 0
B46: 2 | C46: Will Zalatoris | D46: =Match!C40 -> 0 | E46: ='Alternate Shot'!C28/2 -> 0 | F46: =Scramble!C28/2 -> 0 | G46: =Stroke!C27/2 -> 0 | H46: =SUM(D46:G46) -> 0 | L46: 2 | M46: Si Woo Kim | N46: =Match!C88 -> 0 | O46: ='Alternate Shot'!C60/2 -> 0 | P46: =Scramble!C60/2 -> 0 | Q46: =Stroke!C59/2 -> 0 | R46: =SUM(N46:Q46) -> 0
B47: 3 | C47: Sam Burns | D47: =Match!C41 -> 0 | E47: ='Alternate Shot'!C28/2 -> 0 | F47: =Scramble!C27/2 -> 0 | G47: =Stroke!C28/2 -> 0 | H47: =SUM(D47:G47) -> 0 | L47: 3 | M47: Byeong Hun An | N47: =Match!C89 -> 0 | O47: ='Alternate Shot'!C60/2 -> 0 | P47: =Scramble!C59/2 -> 0 | Q47: =Stroke!C60/2 -> 0 | R47: =SUM(N47:Q47) -> 0
B48: 4 | C48: Tony Finau | D48: =Match!C42 -> 0 | E48: ='Alternate Shot'!C27/2 -> 0 | F48: =Scramble!C28/2 -> 0 | G48: =Stroke!C28/2 -> 0 | H48: =SUM(D48:G48) -> 0 | L48: 4 | M48: Sungjae Im | N48: =Match!C90 -> 0 | O48: ='Alternate Shot'!C59/2 -> 0 | P48: =Scramble!C60/2 -> 0 | Q48: =Stroke!C60/2 -> 0 | R48: =SUM(N48:Q48) -> 0
A49: =SUM(A45:A48) -> 0 | B49: Totals | D49: =SUM(D45:D48) -> 0 | E49: =SUM(E45:E48) -> 0 | F49: =SUM(F45:F48) -> 0 | G49: =SUM(G45:G48) -> 0 | H49: =SUM(H45:H48) -> 0 | K49: =SUM(K45:K48) -> 0 | L49: Totals | N49: =SUM(N45:N48) -> 0 | O49: =SUM(O45:O48) -> 0 | P49: =SUM(P45:P48) -> 0 | Q49: =SUM(Q45:Q48) -> 0 | R49: =SUM(R45:R48) -> 0
A51: Rank | B51: Player # | C51: Rough Riders | D51: Individual Match Points | E51: Alternate Shot Points | F51: Scramble Points | G51: Stroke Points | H51: Individual Points | K51: Rank | L51: Player # | M51: Pin Seekers | N51: Individual Match Points | O51: Alternate Shot Points | P51: Scramble Points | Q51: Stroke Points | R51: Individual Points
B52: 1 | C52: Chris Kirk | D52: =Match!C45 -> 0 | E52: ='Alternate Shot'!C31/2 -> 0 | F52: =Scramble!C31/2 -> 0 | G52: =Stroke!C31/2 -> 0 | H52: =SUM(D52:G52) -> 0 | L52: 1 | M52: Cam Davis | N52: =Match!C93 -> 0 | O52: ='Alternate Shot'!C63/2 -> 0 | P52: =Scramble!C63/2 -> 0 | Q52: =Stroke!C63/2 -> 0 | R52: =SUM(N52:Q52) -> 0
B53: 2 | C53: Jason Day | D53: =Match!C46 -> 0 | E53: ='Alternate Shot'!C32/2 -> 0 | F53: =Scramble!C32/2 -> 0 | G53: =Stroke!C31/2 -> 0 | H53: =SUM(D53:G53) -> 0 | L53: 2 | M53: Nick Dunlap | N53: =Match!C94 -> 0 | O53: ='Alternate Shot'!C64/2 -> 0 | P53: =Scramble!C64/2 -> 0 | Q53: =Stroke!C63/2 -> 0 | R53: =SUM(N53:Q53) -> 0
B54: 3 | C54: Akshay Bhatia | D54: =Match!C47 -> 0 | E54: ='Alternate Shot'!C32/2 -> 0 | F54: =Scramble!C31/2 -> 0 | G54: =Stroke!C32/2 -> 0 | H54: =SUM(D54:G54) -> 0 | L54: 3 | M54: Sepp Straka | N54: =Match!C95 -> 0 | O54: ='Alternate Shot'!C64/2 -> 0 | P54: =Scramble!C63/2 -> 0 | Q54: =Stroke!C64/2 -> 0 | R54: =SUM(N54:Q54) -> 0
B55: 4 | C55: Viktor Hovland | D55: =Match!C48 -> 0 | E55: ='Alternate Shot'!C31/2 -> 0 | F55: =Scramble!C32/2 -> 0 | G55: =Stroke!C32/2 -> 0 | H55: =SUM(D55:G55) -> 0 | L55: 4 | M55: Jake Knapp | N55: =Match!C96 -> 0 | O55: ='Alternate Shot'!C63/2 -> 0 | P55: =Scramble!C64/2 -> 0 | Q55: =Stroke!C64/2 -> 0 | R55: =SUM(N55:Q55) -> 0
A56: =SUM(A52:A55) -> 0 | B56: Totals | D56: =SUM(D52:D55) -> 0 | E56: =SUM(E52:E55) -> 0 | F56: =SUM(F52:F55) -> 0 | G56: =SUM(G52:G55) -> 0 | H56: =SUM(H52:H55) -> 0 | K56: =SUM(K52:K55) -> 0 | L56: Totals | N56: =SUM(N52:N55) -> 0 | O56: =SUM(O52:O55) -> 0 | P56: =SUM(P52:P55) -> 0 | Q56: =SUM(Q52:Q55) -> 0 | R56: =SUM(R52:R55) -> 0

Sheet Match
A1: Players and Teams | C1: Points | I1: Week 1 | M1: Week 2 | Q1: Week 3 | U1: Week 4 | Y1: Week 5 | AC1: Week 6 | AG1: Week 7 | AK1: Week 8 | AO1: Week 9 | AS1: Week 10 | AW1: Week 11 | BA1: Week 12 | BE1: Week 13 | BI1: Week 14 | BM1: Week 15 | BQ1: Week 16 | BU1: Week 17 | BY1: Week 18 | CC1: Week 19 | CG1: Week 20 | CK1: Week 21 | CO1: Week 22
A2: Player # | B2: Drive | C2: Points | D2: Holes | E2: Home | F2: Away | G2: Division | H2: Non Division | I2: Score | J2: Opponent | K2: Opp Score | L2: W-L | M2: Score | N2: Opponent | O2: Opp Score | P2: W-L | Q2: Score | R2: Opponent | S2: Opp Score | T2: W-L | U2: Score | V2: Opponent | W2: Opp Score | X2: W-L | Y2: Score | Z2: Opponent | AA2: Opp Score | AB2: W-L | AC2: Score | AD2: Opponent | AE2: Opp Score | AF2: W-L | AG2: Score | AH2: Opponent | AI2: Opp Score | AJ2: W-L | AK2: Score | AL2: Opponent | AM2: Opp Score | AN2: W-L | AO2: Score | AP2: Opponent | AQ2: Opp Score | AR2: W-L | AS2: Score | AT2: Opponent | AU2: Opp Score | AV2: W-L | AW2: Score | AX2: Opponent | AY2: Opp Score | AZ2: W-L | BA2: Score | BB2: Opponent | BC2: Opp Score | BD2: W-L | BE2: Score | BF2: Opponent | BG2: Opp Score | BH2: W-L | BI2: Score | BJ2: Opponent | BK2: Opp Score | BL2: W-L | BM2: Score | BN2: Opponent | BO2: Opp Score | BP2: W-L | BQ2: Score | BR2: Opponent | BS2: Opp Score | BT2: W-L | BU2: Score | BV2: Opponent | BW2: Opp Score | BX2: W-L | BY2: Score | BZ2: Opponent | CA2: Opp Score | CB2: W-L | CC2: Score | CD2: Opponent | CE2: Opp Score | CF2: W-L | CG2: Score | CH2: Opponent | CI2: Opp Score | CJ2: W-L | CK2: Score | CL2: Opponent | CM2: Opp Score | CN2: W-L | CO2: Score | CP2: Opponent | CQ2: Opp Score | CR2: W-L
A3: 1 | B3: Patrick Cantlay | C3: =L3+P3+T3+X3+AB3+AF3+AJ3+AN3+AR3+AV3+AZ3+BD3+BH3+BL3+BP3+BT3+BX3+CB3+CF3+CJ3+CN3+CR3 -> 0 | D3: =(I3+M3+Q3+U3+Y3+AC3+AG3+AK3+AO3+AS3+AW3+BA3+BE3+BI3+BM3+BQ3+BU3+BY3+CC3+CG3+CK3+CO3)/22 -> 0 | E3: =L3+T3+AB3+AR3+AV3+AZ3+BL3+BP3+BX3+CB3+CF3 -> 0 | F3: =P3+X3+AF3+AJ3+AN3+BD3+BT3+CJ3+CN3+CR3+BH3 -> 0 | G3: =L3+T3+AB3+AJ3+AN3+AV3+BD3+BL3+BT3+BX3+CF3+CJ3+CN3+CR3 -> 0 | H3: =P3+X3+AF3+AR3+AZ3+BH3+BP3+CB3 -> 0 | J3: NYGC | N3: Crushers | R3: Common | V3: Majesticks | Z3: LAGC | AD3: Fireballs | AH3: Rough Riders | AL3: Scramblers | AP3: Pin Seekers | AT3: BGC | AX3: KGC | BB3: Common | BF3: Torque | BJ3: Links | BN3: Aces | BR3: LAGC | BV3: Rough Riders | BZ3: Stinger | CD3: Scramblers | CH3: BGC | CL3: NYGC | CP3: Links
A4: 2 | B4: Justin Thomas | C4: =L4+P4+T4+X4+AB4+AF4+AJ4+AN4+AR4+AV4+AZ4+BD4+BH4+BL4+BP4+BT4+BX4+CB4+CF4+CJ4+CN4+CR4 -> 0 | D4: =(I4+M4+Q4+U4+Y4+AC4+AG4+AK4+AO4+AS4+AW4+BA4+BE4+BI4+BM4+BQ4+BU4+BY4+CC4+CG4+CK4+CO4)/22 -> 0 | E4: =L4+T4+AB4+AR4+AV4+AZ4+BL4+BP4+BX4+CB4+CF4 -> 0 | F4: =P4+X4+AF4+AJ4+AN4+BD4+BT4+CJ4+CN4+CR4+BH4 -> 0 | G4: =L4+T4+AB4+AJ4+AN4+AV4+BD4+BL4+BT4+BX4+CF4+CJ4+CN4+CR4 -> 0 | H4: =P4+X4+AF4+AR4+AZ4+BH4+BP4+CB4 -> 0 | J4: NYGC | N4: Crushers | R4: Common | V4: Majesticks | Z4: LAGC | AD4: Fireballs | AH4: Rough Riders | AL4: Scramblers | AP4: Pin Seekers | AT4: BGC | AX4: KGC | BB4: Common | BF4: Torque | BJ4: Links | BN4: Aces | BR4: LAGC | BV4: Rough Riders | BZ4: Stinger | CD4: Scramblers | CH4: BGC | CL4: NYGC | CP4: Links
A5: 3 | B5: Billy Horschel | C5: =L5+P5+T5+X5+AB5+AF5+AJ5+AN5+AR5+AV5+AZ5+BD5+BH5+BL5+BP5+BT5+BX5+CB5+CF5+CJ5+CN5+CR5 -> 0 | D5: =(I5+M5+Q5+U5+Y5+AC5+AG5+AK5+AO5+AS5+AW5+BA5+BE5+BI5+BM5+BQ5+BU5+BY5+CC5+CG5+CK5+CO5)/22 -> 0 | E5: =L5+T5+AB5+AR5+AV5+AZ5+BL5+BP5+BX5+CB5+CF5 -> 0 | F5: =P5+X5+AF5+AJ5+AN5+BD5+BT5+CJ5+CN5+CR5+BH5 -> 0 | G5: =L5+T5+AB5+AJ5+AN5+AV5+BD5+BL5+BT5+BX5+CF5+CJ5+CN5+CR5 -> 0 | H5: =P5+X5+AF5+AR5+AZ5+BH5+BP5+CB5 -> 0 | J5: NYGC | N5: Crushers | R5: Common | V5: Majesticks | Z5: LAGC | AD5: Fireballs | AH5: Rough Riders | AL5: Scramblers | AP5: Pin Seekers | AT5: BGC | AX5: KGC | BB5: Common | BF5: Torque | BJ5: Links | BN5: Aces | BR5: LAGC | BV5: Rough Riders | BZ5: Stinger | CD5: Scramblers | CH5: BGC | CL5: NYGC | CP5: Links
A6: 4 | B6: Lucas Glover | C6: =L6+P6+T6+X6+AB6+AF6+AJ6+AN6+AR6+AV6+AZ6+BD6+BH6+BL6+BP6+BT6+BX6+CB6+CF6+CJ6+CN6+CR6 -> 0 | D6: =I6+M6+Q6+U6+Y6+AC6+AG6+AK6+AO6+AS6+AW6+BA6+BE6+BI6+BM6+BQ6+BU6+BY6+CC6+CG6+CK6+CO6 -> 0 | E6: =L6+T6+AB6+AR6+AV6+AZ6+BL6+BP6+BX6+CB6+CF6 -> 0 | F6: =P6+X6+AF6+AJ6+AN6+BD6+BT6+CJ6+CN6+CR6+BH6 -> 0 | G6: =L6+T6+AB6+AJ6+AN6+AV6+BD6+BL6+BT6+BX6+CF6+CJ6+CN6+CR6 -> 0 | H6: =P6+X6+AF6+AR6+AZ6+BH6+BP6+CB6 -> 0 | J6: NYGC | N6: Crushers | R6: Common | V6: Majesticks | Z6: LAGC | AD6: Fireballs | AH6: Rough Riders | AL6: Scramblers | AP6: Pin Seekers | AT6: BGC | AX6: KGC | BB6: Common | BF6: Torque | BJ6: Links | BN6: Aces | BR6: LAGC | BV6: Rough Riders | BZ6: Stinger | CD6: Scramblers | CH6: BGC | CL6: NYGC | CP6: Links
A8: Player # | B8: Common | C8: Points | D8: Holes | E8: Home | F8: Away | G8: Division | H8: Non Division | I8: Score | J8: Opponent | K8: Opp Score | L8: W-L | M8: Score | N8: Opponent | O8: Opp Score | P8: W-L | Q8: Score | R8: Opponent | S8: Opp Score | T8: W-L | U8: Score | V8: Opponent | W8: Opp Score | X8: W-L | Y8: Score | Z8: Opponent | AA8: Opp Score | AB8: W-L | AC8: Score | AD8: Opponent | AE8: Opp Score | AF8: W-L | AG8: Score | AH8: Opponent | AI8: Opp Score | AJ8: W-L | AK8: Score | AL8: Opponent | AM8: Opp Score | AN8: W-L | AO8: Score | AP8: Opponent | AQ8: Opp Score | AR8: W-L | AS8: Score | AT8: Opponent | AU8: Opp Score | AV8: W-L | AW8: Score | AX8: Opponent | AY8: Opp Score | AZ8: W-L | BA8: Score | BB8: Opponent | BC8: Opp Score | BD8: W-L | BE8: Score | BF8: Opponent | BG8: Opp Score | BH8: W-L | BI8: Score | BJ8: Opponent | BK8: Opp Score | BL8: W-L | BM8: Score | BN8: Opponent | BO8: Opp Score | BP8: W-L | BQ8: Score | BR8: Opponent | BS8: Opp Score | BT8: W-L | BU8: Score | BV8: Opponent | BW8: Opp Score | BX8: W-L | BY8: Score | BZ8: Opponent | CA8: Opp Score | CB8: W-L | CC8: Score | CD8: Opponent | CE8: Opp Score | CF8: W-L | CG8: Score | CH8: Opponent | CI8: Opp Score | CJ8: W-L | CK8: Score | CL8: Opponent | CM8: Opp Score | CN8: W-L | CO8: Score | CP8: Opponent | CQ8: Opp Score | CR8: W-L
A9: 1 | B9: Hideki Matsuyama | C9: =L9+P9+T9+X9+AB9+AF9+AJ9+AN9+AR9+AV9+AZ9+BD9+BH9+BL9+BP9+BT9+BX9+CB9+CF9+CJ9+CN9+CR9 -> 0 | D9: =(I9+M9+Q9+U9+Y9+AC9+AG9+AK9+AO9+AS9+AW9+BA9+BE9+BI9+BM9+BQ9+BU9+BY9+CC9+CG9+CK9+CO9)/22 -> 0 | E9: =L9+AR9+AZ9+BD9+BP9+BT9+BX9+CB9+CF9+CJ9+CR9 -> 0 | F9: =P9+T9+X9+AB9+AF9+AJ9+AN9+AV9+BH9+BL9+CN9 -> 0 | G9: =L9+T9+AB9+AJ9+AN9+AV9+BD9+BL9+BT9+BX9+CF9+CJ9+CN9+CR9 -> 0 | H9: =P9+X9+AF9+AR9+AZ9+BH9+BP9+CB9 -> 0 | J9: BGC | N9: Majesticks | R9: Drive | V9: Crushers | Z9: Scramblers | AD9: Torque | AH9: NYGC | AL9: Links | AP9: KGC | AT9: Rough Riders | AX9: Pin Seekers | BB9: Drive | BF9: Fireballs | BJ9: LAGC | BN9: Stinger | BR9: Scramblers | BV9: NYGC | BZ9: Aces | CD9: Links | CH9: Rough Riders | CL9: BGC | CP9: LAGC
A10: 2 | B10: Keegan Bradley | C10: =L10+P10+T10+X10+AB10+AF10+AJ10+AN10+AR10+AV10+AZ10+BD10+BH10+BL10+BP10+BT10+BX10+CB10+CF10+CJ10+CN10+CR10 -> 0 | D10: =(I10+M10+Q10+U10+Y10+AC10+AG10+AK10+AO10+AS10+AW10+BA10+BE10+BI10+BM10+BQ10+BU10+BY10+CC10+CG10+CK10+CO10)/22 -> 0 | E10: =L10+AR10+AZ10+BD10+BP10+BT10+BX10+CB10+CF10+CJ10+CR10 -> 0 | F10: =P10+T10+X10+AB10+AF10+AJ10+AN10+AV10+BH10+BL10+CN10 -> 0 | G10: =L10+T10+AB10+AJ10+AN10+AV10+BD10+BL10+BT10+BX10+CF10+CJ10+CN10+CR10 -> 0 | H10: =P10+X10+AF10+AR10+AZ10+BH10+BP10+CB10 -> 0 | J10: BGC | N10: Majesticks | R10: Drive | V10: Crushers | Z10: Scramblers | AD10: Torque | AH10: NYGC | AL10: Links | AP10: KGC | AT10: Rough Riders | AX10: Pin Seekers | BB10: Drive | BF10: Fireballs | BJ10: LAGC | BN10: Stinger | BR10: Scramblers | BV10: NYGC | BZ10: Aces | CD10: Links | CH10: Rough Riders | CL10: BGC | CP10: LAGC
A11: 3 | B11: Rory McIlroy | C11: =L11+P11+T11+X11+AB11+AF11+AJ11+AN11+AR11+AV11+AZ11+BD11+BH11+BL11+BP11+BT11+BX11+CB11+CF11+CJ11+CN11+CR11 -> 0 | D11: =(I11+M11+Q11+U11+Y11+AC11+AG11+AK11+AO11+AS11+AW11+BA11+BE11+BI11+BM11+BQ11+BU11+BY11+CC11+CG11+CK11+CO11)/22 -> 0 | E11: =L11+AR11+AZ11+BD11+BP11+BT11+BX11+CB11+CF11+CJ11+CR11 -> 0 | F11: =P11+T11+X11+AB11+AF11+AJ11+AN11+AV11+BH11+BL11+CN11 -> 0 | G11: =L11+T11+AB11+AJ11+AN11+AV11+BD11+BL11+BT11+BX11+CF11+CJ11+CN11+CR11 -> 0 | H11: =P11+X11+AF11+AR11+AZ11+BH11+BP11+CB11 -> 0 | J11: BGC | N11: Majesticks | R11: Drive | V11: Crushers | Z11: Scramblers | AD11: Torque | AH11: NYGC | AL11: Links | AP11: KGC | AT11: Rough Riders | AX11: Pin Seekers | BB11: Drive | BF11: Fireballs | BJ11: LAGC | BN11: Stinger | BR11: Scramblers | BV11: NYGC | BZ11: Aces | CD11: Links | CH11: Rough Riders | CL11: BGC | CP11: LAGC
A12: 4 | B12: Adam Scott | C12: =L12+P12+T12+X12+AB12+AF12+AJ12+AN12+AR12+AV12+AZ12+BD12+BH12+BL12+BP12+BT12+BX12+CB12+CF12+CJ12+CN12+CR12 -> 0 | D12: =I12+M12+Q12+U12+Y12+AC12+AG12+AK12+AO12+AS12+AW12+BA12+BE12+BI12+BM12+BQ12+BU12+BY12+CC12+CG12+CK12+CO12 -> 0 | E12: =L12+AR12+AZ12+BD12+BP12+BT12+BX12+CB12+CF12+CJ12+CR12 -> 0 | F12: =P12+T12+X12+AB12+AF12+AJ12+AN12+AV12+BH12+BL12+CN12 -> 0 | G12: =L12+T12+AB12+AJ12+AN12+AV12+BD12+BL12+BT12+BX12+CF12+CJ12+CN12+CR12 -> 0 | H12: =P12+X12+AF12+AR12+AZ12+BH12+BP12+CB12 -> 0 | J12: BGC | N12: Majesticks | R12: Drive | V12: Crushers | Z12: Scramblers | AD12: Torque | AH12: NYGC | AL12: Links | AP12: KGC | AT12: Rough Riders | AX12: Pin Seekers | BB12: Drive | BF12: Fireballs | BJ12: LAGC | BN12: Stinger | BR12: Scramblers | BV12: NYGC | BZ12: Aces | CD12: Links | CH12: Rough Riders | CL12: BGC | CP12: LAGC
A14: Player # | B14: Links | C14: Points | D14: Holes | E14: Home | F14: Away | G14: Division | H14: Non Division | I14: Score | J14: Opponent | K14: Opp Score | L14: W-L | M14: Score | N14: Opponent | O14: Opp Score | P14: W-L | Q14: Score | R14: Opponent | S14: Opp Score | T14: W-L | U14: Score | V14: Opponent | W14: Opp Score | X14: W-L | Y14: Score | Z14: Opponent | AA14: Opp Score | AB14: W-L | AC14: Score | AD14: Opponent | AE14: Opp Score | AF14: W-L | AG14: Score | AH14: Opponent | AI14: Opp Score | AJ14: W-L | AK14: Score | AL14: Opponent | AM14: Opp Score | AN14: W-L | AO14: Score | AP14: Opponent | AQ14: Opp Score | AR14: W-L | AS14: Score | AT14: Opponent | AU14: Opp Score | AV14: W-L | AW14: Score | AX14: Opponent | AY14: Opp Score | AZ14: W-L | BA14: Score | BB14: Opponent | BC14: Opp Score | BD14: W-L | BE14: Score | BF14: Opponent | BG14: Opp Score | BH14: W-L | BI14: Score | BJ14: Opponent | BK14: Opp Score | BL14: W-L | BM14: Score | BN14: Opponent | BO14: Opp Score | BP14: W-L | BQ14: Score | BR14: Opponent | BS14: Opp Score | BT14: W-L | BU14: Score | BV14: Opponent | BW14: Opp Score | BX14: W-L | BY14: Score | BZ14: Opponent | CA14: Opp Score | CB14: W-L | CC14: Score | CD14: Opponent | CE14: Opp Score | CF14: W-L | CG14: Score | CH14: Opponent | CI14: Opp Score | CJ14: W-L | CK14: Score | CL14: Opponent | CM14: Opp Score | CN14: W-L | CO14: Score | CP14: Opponent | CQ14: Opp Score | CR14: W-L
A15: 1 | B15: Max Homa | C15: =L15+P15+T15+X15+AB15+AF15+AJ15+AN15+AR15+AV15+AZ15+BD15+BH15+BL15+BP15+BT15+BX15+CB15+CF15+CJ15+CN15+CR15 -> 0 | D15: =(I15+M15+Q15+U15+Y15+AC15+AG15+AK15+AO15+AS15+AW15+BA15+BE15+BI15+BM15+BQ15+BU15+BY15+CC15+CG15+CK15+CO15)/22 -> 0 | E15: =AB15+AN15+AR15+AZ15+BD15+BP15+BX15+CB15+CJ15+CN15+CR15 -> 0 | F15: =L15+P15+T15+X15+AF15+AJ15+AV15+BH15+BL15+BT15+CF15 -> 0 | G15: =L15+T15+AB15+AJ15+AN15+AV15+BD15+BL15+BT15+BX15+CF15+CJ15+CN15+CR15 -> 0 | H15: =P15+X15+AF15+AR15+AZ15+BH15+BP15+CB15 -> 0 | J15: Scramblers | N15: Fireballs | R15: NYGC | V15: Torque | Z15: Rough Riders | AD15: Crushers | AH15: BGC | AL15: Common | AP15: Stinger | AT15: LAGC | AX15: Aces | BB15: NYGC | BF15: Majesticks | BJ15: Drive | BN15: KGC | BR15: Rough Riders | BV15: BGC | BZ15: Pin Seekers | CD15: Common | CH15: LAGC | CL15: Scramblers | CP15: Drive
A16: 2 | B16: Tiger Woods | C16: =L16+P16+T16+X16+AB16+AF16+AJ16+AN16+AR16+AV16+AZ16+BD16+BH16+BL16+BP16+BT16+BX16+CB16+CF16+CJ16+CN16+CR16 -> 0 | D16: =(I16+M16+Q16+U16+Y16+AC16+AG16+AK16+AO16+AS16+AW16+BA16+BE16+BI16+BM16+BQ16+BU16+BY16+CC16+CG16+CK16+CO16)/22 -> 0 | E16: =AB16+AN16+AR16+AZ16+BD16+BP16+BX16+CB16+CJ16+CN16+CR16 -> 0 | F16: =L16+P16+T16+X16+AF16+AJ16+AV16+BH16+BL16+BT16+CF16 -> 0 | G16: =L16+T16+AB16+AJ16+AN16+AV16+BD16+BL16+BT16+BX16+CF16+CJ16+CN16+CR16 -> 0 | H16: =P16+X16+AF16+AR16+AZ16+BH16+BP16+CB16 -> 0 | J16: Scramblers | N16: Fireballs | R16: NYGC | V16: Torque | Z16: Rough Riders | AD16: Crushers | AH16: BGC | AL16: Common | AP16: Stinger | AT16: LAGC | AX16: Aces | BB16: NYGC | BF16: Majesticks | BJ16: Drive | BN16: KGC | BR16: Rough Riders | BV16: BGC | BZ16: Pin Seekers | CD16: Common | CH16: LAGC | CL16: Scramblers | CP16: Drive
A17: 3 | B17: Tom Kim | C17: =L17+P17+T17+X17+AB17+AF17+AJ17+AN17+AR17+AV17+AZ17+BD17+BH17+BL17+BP17+BT17+BX17+CB17+CF17+CJ17+CN17+CR17 -> 0 | D17: =(I17+M17+Q17+U17+Y17+AC17+AG17+AK17+AO17+AS17+AW17+BA17+BE17+BI17+BM17+BQ17+BU17+BY17+CC17+CG17+CK17+CO17)/22 -> 0 | E17: =AB17+AN17+AR17+AZ17+BD17+BP17+BX17+CB17+CJ17+CN17+CR17 -> 0 | F17: =L17+P17+T17+X17+AF17+AJ17+AV17+BH17+BL17+BT17+CF17 -> 0 | G17: =L17+T17+AB17+AJ17+AN17+AV17+BD17+BL17+BT17+BX17+CF17+CJ17+CN17+CR17 -> 0 | H17: =P17+X17+AF17+AR17+AZ17+BH17+BP17+CB17 -> 0 | J17: Scramblers | N17: Fireballs | R17: NYGC | V17: Torque | Z17: Rough Riders | AD17: Crushers | AH17: BGC | AL17: Common | AP17: Stinger | AT17: LAGC | AX17: Aces | BB17: NYGC | BF17: Majesticks | BJ17: Drive | BN17: KGC | BR17: Rough Riders | BV17: BGC | BZ17: Pin Seekers | CD17: Common | CH17: LAGC | CL17: Scramblers | CP17: Drive
A18: 4 | B18: Kevin Kisner | C18: =L18+P18+T18+X18+AB18+AF18+AJ18+AN18+AR18+AV18+AZ18+BD18+BH18+BL18+BP18+BT18+BX18+CB18+CF18+CJ18+CN18+CR18 -> 0 | D18: =I18+M18+Q18+U18+Y18+AC18+AG18+AK18+AO18+AS18+AW18+BA18+BE18+BI18+BM18+BQ18+BU18+BY18+CC18+CG18+CK18+CO18 -> 0 | E18: =AB18+AN18+AR18+AZ18+BD18+BP18+BX18+CB18+CJ18+CN18+CR18 -> 0 | F18: =L18+P18+T18+X18+AF18+AJ18+AV18+BH18+BL18+BT18+CF18 -> 0 | G18: =L18+T18+AB18+AJ18+AN18+AV18+BD18+BL18+BT18+BX18+CF18+CJ18+CN18+CR18 -> 0 | H18: =P18+X18+AF18+AR18+AZ18+BH18+BP18+CB18 -> 0 | J18: Scramblers | N18: Fireballs | R18: NYGC | V18: Torque | Z18: Rough Riders | AD18: Crushers | AH18: BGC | AL18: Common | AP18: Stinger | AT18: LAGC | AX18: Aces | BB18: NYGC | BF18: Majesticks | BJ18: Drive | BN18: KGC | BR18: Rough Riders | BV18: BGC | BZ18: Pin Seekers | CD18: Common | CH18: LAGC | CL18: Scramblers | CP18: Drive
A20: Player # | B20: LA Golf Club | C20: Points | D20: Holes | E20: Home | F20: Away | G20: Division | H20: Non Division | I20: Score | J20: Opponent | K20: Opp Score | L20: W-L | M20: Score | N20: Opponent | O20: Opp Score | P20: W-L | Q20: Score | R20: Opponent | S20: Opp Score | T20: W-L | U20: Score | V20: Opponent | W20: Opp Score | X20: W-L | Y20: Score | Z20: Opponent | AA20: Opp Score | AB20: W-L | AC20: Score | AD20: Opponent | AE20: Opp Score | AF20: W-L | AG20: Score | AH20: Opponent | AI20: Opp Score | AJ20: W-L | AK20: Score | AL20: Opponent | AM20: Opp Score | AN20: W-L | AO20: Score | AP20: Opponent | AQ20: Opp Score | AR20: W-L | AS20: Score | AT20: Opponent | AU20: Opp Score | AV20: W-L | AW20: Score | AX20: Opponent | AY20: Opp Score | AZ20: W-L | BA20: Score | BB20: Opponent | BC20: Opp Score | BD20: W-L | BE20: Score | BF20: Opponent | BG20: Opp Score | BH20: W-L | BI20: Score | BJ20: Opponent | BK20: Opp Score | BL20: W-L | BM20: Score | BN20: Opponent | BO20: Opp Score | BP20: W-L | BQ20: Score | BR20: Opponent | BS20: Opp Score | BT20: W-L | BU20: Score | BV20: Opponent | BW20: Opp Score | BX20: W-L | BY20: Score | BZ20: Opponent | CA20: Opp Score | CB20: W-L | CC20: Score | CD20: Opponent | CE20: Opp Score | CF20: W-L | CG20: Score | CH20: Opponent | CI20: Opp Score | CJ20: W-L | CK20: Score | CL20: Opponent | CM20: Opp Score | CN20: W-L | CO20: Score | CP20: Opponent | CQ20: Opp Score | CR20: W-L
A21: 1 | B21: Sahith Theegala | C21: =L21+P21+T21+X21+AB21+AF21+AJ21+AN21+AR21+AV21+AZ21+BD21+BH21+BL21+BP21+BT21+BX21+CB21+CF21+CJ21+CN21+CR21 -> 0 | D21: =(I21+M21+Q21+U21+Y21+AC21+AG21+AK21+AO21+AS21+AW21+BA21+BE21+BI21+BM21+BQ21+BU21+BY21+CC21+CG21+CK21+CO21)/22 -> 0 | E21: =T21+AR21+AV21+AZ21+BL21+BP21+BT21+BX21+CB21+CF21+CN21 -> 0 | F21: =L21+P21+X21+AB21+AF21+AJ21+AN21+BD21+BH21+CJ21+CR21 -> 0 | G21: =L21+T21+AB21+AJ21+AN21+AV21+BD21+BL21+BT21+BX21+CF21+CJ21+CN21+CR21 -> 0 | H21: =P21+X21+AF21+AR21+AZ21+BH21+BP21+CB21 -> 0 | J21: Rough Riders | N21: Torque | R21: BGC | V21: Fireballs | Z21: Drive | AD21: Majesticks | AH21: Scramblers | AL21: NYGC | AP21: Aces | AT21: Links | AX21: Stinger | BB21: BGC | BF21: Crushers | BJ21: Common | BN21: Pin Seekers | BR21: Drive | BV21: Scramblers | BZ21: KGC | CD21: NYGC | CH21: Links | CL21: Rough Riders | CP21: Common
A22: 2 | B22: Collin Morikawa | C22: =L22+P22+T22+X22+AB22+AF22+AJ22+AN22+AR22+AV22+AZ22+BD22+BH22+BL22+BP22+BT22+BX22+CB22+CF22+CJ22+CN22+CR22 -> 0 | D22: =(I22+M22+Q22+U22+Y22+AC22+AG22+AK22+AO22+AS22+AW22+BA22+BE22+BI22+BM22+BQ22+BU22+BY22+CC22+CG22+CK22+CO22)/22 -> 0 | E22: =T22+AR22+AV22+AZ22+BL22+BP22+BT22+BX22+CB22+CF22+CN22 -> 0 | F22: =L22+P22+X22+AB22+AF22+AJ22+AN22+BD22+BH22+CJ22+CR22 -> 0 | G22: =L22+T22+AB22+AJ22+AN22+AV22+BD22+BL22+BT22+BX22+CF22+CJ22+CN22+CR22 -> 0 | H22: =P22+X22+AF22+AR22+AZ22+BH22+BP22+CB22 -> 0 | J22: Rough Riders | N22: Torque | R22: BGC | V22: Fireballs | Z22: Drive | AD22: Majesticks | AH22: Scramblers | AL22: NYGC | AP22: Aces | AT22: Links | AX22: Stinger | BB22: BGC | BF22: Crushers | BJ22: Common | BN22: Pin Seekers | BR22: Drive | BV22: Scramblers | BZ22: KGC | CD22: NYGC | CH22: Links | CL22: Rough Riders | CP22: Common
A23: 3 | B23: Tommy Fleetwood | C23: =L23+P23+T23+X23+AB23+AF23+AJ23+AN23+AR23+AV23+AZ23+BD23+BH23+BL23+BP23+BT23+BX23+CB23+CF23+CJ23+CN23+CR23 -> 0 | D23: =(I23+M23+Q23+U23+Y23+AC23+AG23+AK23+AO23+AS23+AW23+BA23+BE23+BI23+BM23+BQ23+BU23+BY23+CC23+CG23+CK23+CO23)/22 -> 0 | E23: =T23+AR23+AV23+AZ23+BL23+BP23+BT23+BX23+CB23+CF23+CN23 -> 0 | F23: =L23+P23+X23+AB23+AF23+AJ23+AN23+BD23+BH23+CJ23+CR23 -> 0 | G23: =L23+T23+AB23+AJ23+AN23+AV23+BD23+BL23+BT23+BX23+CF23+CJ23+CN23+CR23 -> 0 | H23: =P23+X23+AF23+AR23+AZ23+BH23+BP23+CB23 -> 0 | J23: Rough Riders | N23: Torque | R23: BGC | V23: Fireballs | Z23: Drive | AD23: Majesticks | AH23: Scramblers | AL23: NYGC | AP23: Aces | AT23: Links | AX23: Stinger | BB23: BGC | BF23: Crushers | BJ23: Common | BN23: Pin Seekers | BR23: Drive | BV23: Scramblers | BZ23: KGC | CD23: NYGC | CH23: Links | CL23: Rough Riders | CP23: Common
A24: 4 | B24: Justin Rose | C24: =L24+P24+T24+X24+AB24+AF24+AJ24+AN24+AR24+AV24+AZ24+BD24+BH24+BL24+BP24+BT24+BX24+CB24+CF24+CJ24+CN24+CR24 -> 0 | D24: =I24+M24+Q24+U24+Y24+AC24+AG24+AK24+AO24+AS24+AW24+BA24+BE24+BI24+BM24+BQ24+BU24+BY24+CC24+CG24+CK24+CO24 -> 0 | E24: =T24+AR24+AV24+AZ24+BL24+BP24+BT24+BX24+CB24+CF24+CN24 -> 0 | F24: =L24+P24+X24+AB24+AF24+AJ24+AN24+BD24+BH24+CJ24+CR24 -> 0 | G24: =L24+T24+AB24+AJ24+AN24+AV24+BD24+BL24+BT24+BX24+CF24+CJ24+CN24+CR24 -> 0 | H24: =P24+X24+AF24+AR24+AZ24+BH24+BP24+CB24 -> 0 | J24: Rough Riders | N24: Torque | R24: BGC | V24: Fireballs | Z24: Drive | AD24: Majesticks | AH24: Scramblers | AL24: NYGC | AP24: Aces | AT24: Links | AX24: Stinger | BB24: BGC | BF24: Crushers | BJ24: Common | BN24: Pin Seekers | BR24: Drive | BV24: Scramblers | BZ24: KGC | CD24: NYGC | CH24: Links | CL24: Rough Riders | CP24: Common
A26: Player # | B26: New York Golf Club | C26: Points | D26: Holes | E26: Home | F26: Away | G26: Division | H26: Non Division | I26: Score | J26: Opponent | K26: Opp Score | L26: W-L | M26: Score | N26: Opponent | O26: Opp Score | P26: W-L | Q26: Score | R26: Opponent | S26: Opp Score | T26: W-L | U26: Score | V26: Opponent | W26: Opp Score | X26: W-L | Y26: Score | Z26: Opponent | AA26: Opp Score | AB26: W-L | AC26: Score | AD26: Opponent | AE26: Opp Score | AF26: W-L | AG26: Score | AH26: Opponent | AI26: Opp Score | AJ26: W-L | AK26: Score | AL26: Opponent | AM26: Opp Score | AN26: W-L | AO26: Score | AP26: Opponent | AQ26: Opp Score | AR26: W-L | AS26: Score | AT26: Opponent | AU26: Opp Score | AV26: W-L | AW26: Score | AX26: Opponent | AY26: Opp Score | AZ26: W-L | BA26: Score | BB26: Opponent | BC26: Opp Score | BD26: W-L | BE26: Score | BF26: Opponent | BG26: Opp Score | BH26: W-L | BI26: Score | BJ26: Opponent | BK26: Opp Score | BL26: W-L | BM26: Score | BN26: Opponent | BO26: Opp Score | BP26: W-L | BQ26: Score | BR26: Opponent | BS26: Opp Score | BT26: W-L | BU26: Score | BV26: Opponent | BW26: Opp Score | BX26: W-L | BY26: Score | BZ26: Opponent | CA26: Opp Score | CB26: W-L | CC26: Score | CD26: Opponent | CE26: Opp Score | CF26: W-L | CG26: Score | CH26: Opponent | CI26: Opp Score | CJ26: W-L | CK26: Score | CL26: Opponent | CM26: Opp Score | CN26: W-L | CO26: Score | CP26: Opponent | CQ26: Opp Score | CR26: W-L
A27: 1 | B27: Rickie Fowler | C27: =L27+P27+T27+X27+AB27+AF27+AJ27+AN27+AR27+AV27+AZ27+BD27+BH27+BL27+BP27+BT27+BX27+CB27+CF27+CJ27+CN27+CR27 -> 0 | D27: =(I27+M27+Q27+U27+Y27+AC27+AG27+AK27+AO27+AS27+AW27+BA27+BE27+BI27+BM27+BQ27+BU27+BY27+CC27+CG27+CK27+CO27)/22 -> 0 | E27: =T27+AB27+AJ27+AN27+AR27+AV27+AZ27+BL27+BP27+CB27+CN27 -> 0 | F27: =L27+P27+X27+AF27+BD27+BH27+BT27+BX27+CF27+CJ27+CR27 -> 0 | G27: =L27+T27+AB27+AJ27+AN27+AV27+BD27+BL27+BT27+BX27+CF27+CJ27+CN27+CR27 -> 0 | H27: =P27+X27+AF27+AR27+AZ27+BH27+BP27+CB27 -> 0 | J27: Drive | N27: Aces | R27: Links | V27: Stinger | Z27: BGC | AD27: KGC | AH27: Common | AL27: LAGC | AP27: Torque | AT27: Scramblers | AX27: Fireballs | BB27: Links | BF27: Pin Seekers | BJ27: Rough Riders | BN27: Crushers | BR27: BGC | BV27: Common | BZ27: Majesticks | CD27: LAGC | CH27: Scramblers | CL27: Drive | CP27: Rough Riders
A28: 2 | B28: Cameron Young | C28: =L28+P28+T28+X28+AB28+AF28+AJ28+AN28+AR28+AV28+AZ28+BD28+BH28+BL28+BP28+BT28+BX28+CB28+CF28+CJ28+CN28+CR28 -> 0 | D28: =(I28+M28+Q28+U28+Y28+AC28+AG28+AK28+AO28+AS28+AW28+BA28+BE28+BI28+BM28+BQ28+BU28+BY28+CC28+CG28+CK28+CO28)/22 -> 0 | E28: =T28+AB28+AJ28+AN28+AR28+AV28+AZ28+BL28+BP28+CB28+CN28 -> 0 | F28: =L28+P28+X28+AF28+BD28+BH28+BT28+BX28+CF28+CJ28+CR28 -> 0 | G28: =L28+T28+AB28+AJ28+AN28+AV28+BD28+BL28+BT28+BX28+CF28+CJ28+CN28+CR28 -> 0 | H28: =P28+X28+AF28+AR28+AZ28+BH28+BP28+CB28 -> 0 | J28: Drive | N28: Aces | R28: Links | V28: Stinger | Z28: BGC | AD28: KGC | AH28: Common | AL28: LAGC | AP28: Torque | AT28: Scramblers | AX28: Fireballs | BB28: Links | BF28: Pin Seekers | BJ28: Rough Riders | BN28: Crushers | BR28: BGC | BV28: Common | BZ28: Majesticks | CD28: LAGC | CH28: Scramblers | CL28: Drive | CP28: Rough Riders
A29: 3 | B29: Matt Fitzpatrick | C29: =L29+P29+T29+X29+AB29+AF29+AJ29+AN29+AR29+AV29+AZ29+BD29+BH29+BL29+BP29+BT29+BX29+CB29+CF29+CJ29+CN29+CR29 -> 0 | D29: =(I29+M29+Q29+U29+Y29+AC29+AG29+AK29+AO29+AS29+AW29+BA29+BE29+BI29+BM29+BQ29+BU29+BY29+CC29+CG29+CK29+CO29)/22 -> 0 | E29: =T29+AB29+AJ29+AN29+AR29+AV29+AZ29+BL29+BP29+CB29+CN29 -> 0 | F29: =L29+P29+X29+AF29+BD29+BH29+BT29+BX29+CF29+CJ29+CR29 -> 0 | G29: =L29+T29+AB29+AJ29+AN29+AV29+BD29+BL29+BT29+BX29+CF29+CJ29+CN29+CR29 -> 0 | H29: =P29+X29+AF29+AR29+AZ29+BH29+BP29+CB29 -> 0 | J29: Drive | N29: Aces | R29: Links | V29: Stinger | Z29: BGC | AD29: KGC | AH29: Common | AL29: LAGC | AP29: Torque | AT29: Scramblers | AX29: Fireballs | BB29: Links | BF29: Pin Seekers | BJ29: Rough Riders | BN29: Crushers | BR29: BGC | BV29: Common | BZ29: Majesticks | CD29: LAGC | CH29: Scramblers | CL29: Drive | CP29: Rough Riders
A30: 4 | B30: Xander Schauffele | C30: =L30+P30+T30+X30+AB30+AF30+AJ30+AN30+AR30+AV30+AZ30+BD30+BH30+BL30+BP30+BT30+BX30+CB30+CF30+CJ30+CN30+CR30 -> 0 | D30: =I30+M30+Q30+U30+Y30+AC30+AG30+AK30+AO30+AS30+AW30+BA30+BE30+BI30+BM30+BQ30+BU30+BY30+CC30+CG30+CK30+CO30 -> 0 | E30: =T30+AB30+AJ30+AN30+AR30+AV30+AZ30+BL30+BP30+CB30+CN30 -> 0 | F30: =L30+P30+X30+AF30+BD30+BH30+BT30+BX30+CF30+CJ30+CR30 -> 0 | G30: =L30+T30+AB30+AJ30+AN30+AV30+BD30+BL30+BT30+BX30+CF30+CJ30+CN30+CR30 -> 0 | H30: =P30+X30+AF30+AR30+AZ30+BH30+BP30+CB30 -> 0 | J30: Drive | N30: Aces | R30: Links | V30: Stinger | Z30: BGC | AD30: KGC | AH30: Common | AL30: LAGC | AP30: Torque | AT30: Scramblers | AX30: Fireballs | BB30: Links | BF30: Pin Seekers | BJ30: Rough Riders | BN30: Crushers | BR30: BGC | BV30: Common | BZ30: Majesticks | CD30: LAGC | CH30: Scramblers | CL30: Drive | CP30: Rough Riders
A32: Player # | B32: Bay Golf Club | C32: Points | D32: Holes | E32: Home | F32: Away | G32: Division | H32: Non Division | I32: Score | J32: Opponent | K32: Opp Score | L32: W-L | M32: Score | N32: Opponent | O32: Opp Score | P32: W-L | Q32: Score | R32: Opponent | S32: Opp Score | T32: W-L | U32: Score | V32: Opponent | W32: Opp Score | X32: W-L | Y32: Score | Z32: Opponent | AA32: Opp Score | AB32: W-L | AC32: Score | AD32: Opponent | AE32: Opp Score | AF32: W-L | AG32: Score | AH32: Opponent | AI32: Opp Score | AJ32: W-L | AK32: Score | AL32: Opponent | AM32: Opp Score | AN32: W-L | AO32: Score | AP32: Opponent | AQ32: Opp Score | AR32: W-L | AS32: Score | AT32: Opponent | AU32: Opp Score | AV32: W-L | AW32: Score | AX32: Opponent | AY32: Opp Score | AZ32: W-L | BA32: Score | BB32: Opponent | BC32: Opp Score | BD32: W-L | BE32: Score | BF32: Opponent | BG32: Opp Score | BH32: W-L | BI32: Score | BJ32: Opponent | BK32: Opp Score | BL32: W-L | BM32: Score | BN32: Opponent | BO32: Opp Score | BP32: W-L | BQ32: Score | BR32: Opponent | BS32: Opp Score | BT32: W-L | BU32: Score | BV32: Opponent | BW32: Opp Score | BX32: W-L | BY32: Score | BZ32: Opponent | CA32: Opp Score | CB32: W-L | CC32: Score | CD32: Opponent | CE32: Opp Score | CF32: W-L | CG32: Score | CH32: Opponent | CI32: Opp Score | CJ32: W-L | CK32: Score | CL32: Opponent | CM32: Opp Score | CN32: W-L | CO32: Score | CP32: Opponent | CQ32: Opp Score | CR32: W-L
A33: 1 | B33: Min Woo Lee | C33: =L33+P33+T33+X33+AB33+AF33+AJ33+AN33+AR33+AV33+AZ33+BD33+BH33+BL33+BP33+BT33+BX33+CB33+CF33+CJ33+CN33+CR33 -> 0 | D33: =(I33+M33+Q33+U33+Y33+AC33+AG33+AK33+AO33+AS33+AW33+BA33+BE33+BI33+BM33+BQ33+BU33+BY33+CC33+CG33+CK33+CO33)/22 -> 0 | E33: =AJ33+AR33+AZ33+BD33+BL33+BP33+BT33+CB33+CF33+CJ33+CN33 -> 0 | F33: =L33+P33+T33+X33+AB33+AF33+AN33+AV33+BH33+BX33+CR33 -> 0 | G33: =L33+T33+AB33+AJ33+AN33+AV33+BD33+BL33+BT33+BX33+CF33+CJ33+CN33+CR33 -> 0 | H33: =P33+X33+AF33+AR33+AZ33+BH33+BP33+CB33 -> 0 | J33: Common | N33: Stinger | R33: LAGC | V33: Aces | Z33: NYGC | AD33: Pin Seekers | AH33: Links | AL33: Rough Riders | AP33: Fireballs | AT33: Drive | AX33: Torque | BB33: LAGC | BF33: KGC | BJ33: Scramblers | BN33: Majesticks | BR33: NYGC | BV33: Links | BZ33: Crushers | CD33: Rough Riders | CH33: Drive | CL33: Common | CP33: Scramblers
A34: 2 | B34: Shane Lowry | C34: =L34+P34+T34+X34+AB34+AF34+AJ34+AN34+AR34+AV34+AZ34+BD34+BH34+BL34+BP34+BT34+BX34+CB34+CF34+CJ34+CN34+CR34 -> 0 | D34: =(I34+M34+Q34+U34+Y34+AC34+AG34+AK34+AO34+AS34+AW34+BA34+BE34+BI34+BM34+BQ34+BU34+BY34+CC34+CG34+CK34+CO34)/22 -> 0 | E34: =AJ34+AR34+AZ34+BD34+BL34+BP34+BT34+CB34+CF34+CJ34+CN34 -> 0 | F34: =L34+P34+T34+X34+AB34+AF34+AN34+AV34+BH34+BX34+CR34 -> 0 | G34: =L34+T34+AB34+AJ34+AN34+AV34+BD34+BL34+BT34+BX34+CF34+CJ34+CN34+CR34 -> 0 | H34: =P34+X34+AF34+AR34+AZ34+BH34+BP34+CB34 -> 0 | J34: Common | N34: Stinger | R34: LAGC | V34: Aces | Z34: NYGC | AD34: Pin Seekers | AH34: Links | AL34: Rough Riders | AP34: Fireballs | AT34: Drive | AX34: Torque | BB34: LAGC | BF34: KGC | BJ34: Scramblers | BN34: Majesticks | BR34: NYGC | BV34: Links | BZ34: Crushers | CD34: Rough Riders | CH34: Drive | CL34: Common | CP34: Scramblers
A35: 3 | B35: Wyndham Clark | C35: =L35+P35+T35+X35+AB35+AF35+AJ35+AN35+AR35+AV35+AZ35+BD35+BH35+BL35+BP35+BT35+BX35+CB35+CF35+CJ35+CN35+CR35 -> 0 | D35: =(I35+M35+Q35+U35+Y35+AC35+AG35+AK35+AO35+AS35+AW35+BA35+BE35+BI35+BM35+BQ35+BU35+BY35+CC35+CG35+CK35+CO35)/22 -> 0 | E35: =AJ35+AR35+AZ35+BD35+BL35+BP35+BT35+CB35+CF35+CJ35+CN35 -> 0 | F35: =L35+P35+T35+X35+AB35+AF35+AN35+AV35+BH35+BX35+CR35 -> 0 | G35: =L35+T35+AB35+AJ35+AN35+AV35+BD35+BL35+BT35+BX35+CF35+CJ35+CN35+CR35 -> 0 | H35: =P35+X35+AF35+AR35+AZ35+BH35+BP35+CB35 -> 0 | J35: Common | N35: Stinger | R35: LAGC | V35: Aces | Z35: NYGC | AD35: Pin Seekers | AH35: Links | AL35: Rough Riders | AP35: Fireballs | AT35: Drive | AX35: Torque | BB35: LAGC | BF35: KGC | BJ35: Scramblers | BN35: Majesticks | BR35: NYGC | BV35: Links | BZ35: Crushers | CD35: Rough Riders | CH35: Drive | CL35: Common | CP35: Scramblers
A36: 4 | B36: Ludvig Aberg | C36: =L36+P36+T36+X36+AB36+AF36+AJ36+AN36+AR36+AV36+AZ36+BD36+BH36+BL36+BP36+BT36+BX36+CB36+CF36+CJ36+CN36+CR36 -> 0 | D36: =I36+M36+Q36+U36+Y36+AC36+AG36+AK36+AO36+AS36+AW36+BA36+BE36+BI36+BM36+BQ36+BU36+BY36+CC36+CG36+CK36+CO36 -> 0 | E36: =AJ36+AR36+AZ36+BD36+BL36+BP36+BT36+CB36+CF36+CJ36+CN36 -> 0 | F36: =L36+P36+T36+X36+AB36+AF36+AN36+AV36+BH36+BX36+CR36 -> 0 | G36: =L36+T36+AB36+AJ36+AN36+AV36+BD36+BL36+BT36+BX36+CF36+CJ36+CN36+CR36 -> 0 | H36: =P36+X36+AF36+AR36+AZ36+BH36+BP36+CB36 -> 0 | J36: Common | N36: Stinger | R36: LAGC | V36: Aces | Z36: NYGC | AD36: Pin Seekers | AH36: Links | AL36: Rough Riders | AP36: Fireballs | AT36: Drive | AX36: Torque | BB36: LAGC | BF36: KGC | BJ36: Scramblers | BN36: Majesticks | BR36: NYGC | BV36: Links | BZ36: Crushers | CD36: Rough Riders | CH36: Drive | CL36: Common | CP36: Scramblers
A38: Player # | B38: Scramblers | C38: Points | D38: Holes | E38: Home | F38: Away | G38: Division | H38: Non Division | I38: Score | J38: Opponent | K38: Opp Score | L38: W-L | M38: Score | N38: Opponent | O38: Opp Score | P38: W-L | Q38: Score | R38: Opponent | S38: Opp Score | T38: W-L | U38: Score | V38: Opponent | W38: Opp Score | X38: W-L | Y38: Score | Z38: Opponent | AA38: Opp Score | AB38: W-L | AC38: Score | AD38: Opponent | AE38: Opp Score | AF38: W-L | AG38: Score | AH38: Opponent | AI38: Opp Score | AJ38: W-L | AK38: Score | AL38: Opponent | AM38: Opp Score | AN38: W-L | AO38: Score | AP38: Opponent | AQ38: Opp Score | AR38: W-L | AS38: Score | AT38: Opponent | AU38: Opp Score | AV38: W-L | AW38: Score | AX38: Opponent | AY38: Opp Score | AZ38: W-L | BA38: Score | BB38: Opponent | BC38: Opp Score | BD38: W-L | BE38: Score | BF38: Opponent | BG38: Opp Score | BH38: W-L | BI38: Score | BJ38: Opponent | BK38: Opp Score | BL38: W-L | BM38: Score | BN38: Opponent | BO38: Opp Score | BP38: W-L | BQ38: Score | BR38: Opponent | BS38: Opp Score | BT38: W-L | BU38: Score | BV38: Opponent | BW38: Opp Score | BX38: W-L | BY38: Score | BZ38: Opponent | CA38: Opp Score | CB38: W-L | CC38: Score | CD38: Opponent | CE38: Opp Score | CF38: W-L | CG38: Score | CH38: Opponent | CI38: Opp Score | CJ38: W-L | CK38: Score | CL38: Opponent | CM38: Opp Score | CN38: W-L | CO38: Score | CP38: Opponent | CQ38: Opp Score | CR38: W-L
A39: 1 | B39: Scottie Scheffler | C39: =L39+P39+T39+X39+AB39+AF39+AJ39+AN39+AR39+AV39+AZ39+BD39+BH39+BL39+BP39+BT39+BX39+CB39+CF39+CJ39+CN39+CR39 -> 0 | D39: =(I39+M39+Q39+U39+Y39+AC39+AG39+AK39+AO39+AS39+AW39+BA39+BE39+BI39+BM39+BQ39+BU39+BY39+CC39+CG39+CK39+CO39)/22 -> 0 | E39: =L39+AB39+AJ39+AN39+AR39+AZ39+BD39+BP39+CB39+CJ39+CR39 -> 0 | F39: =P39+T39+X39+AF39+AV39+BH39+BL39+BT39+BX39+CF39+CN39 -> 0 | G39: =L39+T39+AB39+AJ39+AN39+AV39+BD39+BL39+BT39+BX39+CF39+CJ39+CN39+CR39 -> 0 | H39: =P39+X39+AF39+AR39+AZ39+BH39+BP39+CB39 -> 0 | J39: Links | N39: KGC | R39: Rough Riders | V39: Pin Seekers | Z39: Common | AD39: Aces | AH39: LAGC | AL39: Drive | AP39: Majesticks | AT39: NYGC | AX39: Crushers | BB39: Rough Riders | BF39: Stinger | BJ39: BGC | BN39: Fireballs | BR39: Common | BV39: LAGC | BZ39: Torque | CD39: Drive | CH39: NYGC | CL39: Links | CP39: BGC
A40: 2 | B40: Will Zalatoris | C40: =L40+P40+T40+X40+AB40+AF40+AJ40+AN40+AR40+AV40+AZ40+BD40+BH40+BL40+BP40+BT40+BX40+CB40+CF40+CJ40+CN40+CR40 -> 0 | D40: =(I40+M40+Q40+U40+Y40+AC40+AG40+AK40+AO40+AS40+AW40+BA40+BE40+BI40+BM40+BQ40+BU40+BY40+CC40+CG40+CK40+CO40)/22 -> 0 | E40: =L40+AB40+AJ40+AN40+AR40+AZ40+BD40+BP40+CB40+CJ40+CR40 -> 0 | F40: =P40+T40+X40+AF40+AV40+BH40+BL40+BT40+BX40+CF40+CN40 -> 0 | G40: =L40+T40+AB40+AJ40+AN40+AV40+BD40+BL40+BT40+BX40+CF40+CJ40+CN40+CR40 -> 0 | H40: =P40+X40+AF40+AR40+AZ40+BH40+BP40+CB40 -> 0 | J40: Links | N40: KGC | R40: Rough Riders | V40: Pin Seekers | Z40: Common | AD40: Aces | AH40: LAGC | AL40: Drive | AP40: Majesticks | AT40: NYGC | AX40: Crushers | BB40: Rough Riders | BF40: Stinger | BJ40: BGC | BN40: Fireballs | BR40: Common | BV40: LAGC | BZ40: Torque | CD40: Drive | CH40: NYGC | CL40: Links | CP40: BGC
A41: 3 | B41: Sam Burns | C41: =L41+P41+T41+X41+AB41+AF41+AJ41+AN41+AR41+AV41+AZ41+BD41+BH41+BL41+BP41+BT41+BX41+CB41+CF41+CJ41+CN41+CR41 -> 0 | D41: =(I41+M41+Q41+U41+Y41+AC41+AG41+AK41+AO41+AS41+AW41+BA41+BE41+BI41+BM41+BQ41+BU41+BY41+CC41+CG41+CK41+CO41)/22 -> 0 | E41: =L41+AB41+AJ41+AN41+AR41+AZ41+BD41+BP41+CB41+CJ41+CR41 -> 0 | F41: =P41+T41+X41+AF41+AV41+BH41+BL41+BT41+BX41+CF41+CN41 -> 0 | G41: =L41+T41+AB41+AJ41+AN41+AV41+BD41+BL41+BT41+BX41+CF41+CJ41+CN41+CR41 -> 0 | H41: =P41+X41+AF41+AR41+AZ41+BH41+BP41+CB41 -> 0 | J41: Links | N41: KGC | R41: Rough Riders | V41: Pin Seekers | Z41: Common | AD41: Aces | AH41: LAGC | AL41: Drive | AP41: Majesticks | AT41: NYGC | AX41: Crushers | BB41: Rough Riders | BF41: Stinger | BJ41: BGC | BN41: Fireballs | BR41: Common | BV41: LAGC | BZ41: Torque | CD41: Drive | CH41: NYGC | CL41: Links | CP41: BGC
A42: 4 | B42: Tony Finau | C42: =L42+P42+T42+X42+AB42+AF42+AJ42+AN42+AR42+AV42+AZ42+BD42+BH42+BL42+BP42+BT42+BX42+CB42+CF42+CJ42+CN42+CR42 -> 0 | D42: =I42+M42+Q42+U42+Y42+AC42+AG42+AK42+AO42+AS42+AW42+BA42+BE42+BI42+BM42+BQ42+BU42+BY42+CC42+CG42+CK42+CO42 -> 0 | E42: =L42+AB42+AJ42+AN42+AR42+AZ42+BD42+BP42+CB42+CJ42+CR42 -> 0 | F42: =P42+T42+X42+AF42+AV42+BH42+BL42+BT42+BX42+CF42+CN42 -> 0 | G42: =L42+T42+AB42+AJ42+AN42+AV42+BD42+BL42+BT42+BX42+CF42+CJ42+CN42+CR42 -> 0 | H42: =P42+X42+AF42+AR42+AZ42+BH42+BP42+CB42 -> 0 | J42: Links | N42: KGC | R42: Rough Riders | V42: Pin Seekers | Z42: Common | AD42: Aces | AH42: LAGC | AL42: Drive | AP42: Majesticks | AT42: NYGC | AX42: Crushers | BB42: Rough Riders | BF42: Stinger | BJ42: BGC | BN42: Fireballs | BR42: Common | BV42: LAGC | BZ42: Torque | CD42: Drive | CH42: NYGC | CL42: Links | CP42: BGC
A44: Player # | B44: Rough Riders | C44: Points | D44: Holes | E44: Home | F44: Away | G44: Division | H44: Non Division | I44: Score | J44: Opponent | K44: Opp Score | L44: W-L | M44: Score | N44: Opponent | O44: Opp Score | P44: W-L | Q44: Score | R44: Opponent | S44: Opp Score | T44: W-L | U44: Score | V44: Opponent | W44: Opp Score | X44: W-L | Y44: Score | Z44: Opponent | AA44: Opp Score | AB44: W-L | AC44: Score | AD44: Opponent | AE44: Opp Score | AF44: W-L | AG44: Score | AH44: Opponent | AI44: Opp Score | AJ44: W-L | AK44: Score | AL44: Opponent | AM44: Opp Score | AN44: W-L | AO44: Score | AP44: Opponent | AQ44: Opp Score | AR44: W-L | AS44: Score | AT44: Opponent | AU44: Opp Score | AV44: W-L | AW44: Score | AX44: Opponent | AY44: Opp Score | AZ44: W-L | BA44: Score | BB44: Opponent | BC44: Opp Score | BD44: W-L | BE44: Score | BF44: Opponent | BG44: Opp Score | BH44: W-L | BI44: Score | BJ44: Opponent | BK44: Opp Score | BL44: W-L | BM44: Score | BN44: Opponent | BO44: Opp Score | BP44: W-L | BQ44: Score | BR44: Opponent | BS44: Opp Score | BT44: W-L | BU44: Score | BV44: Opponent | BW44: Opp Score | BX44: W-L | BY44: Score | BZ44: Opponent | CA44: Opp Score | CB44: W-L | CC44: Score | CD44: Opponent | CE44: Opp Score | CF44: W-L | CG44: Score | CH44: Opponent | CI44: Opp Score | CJ44: W-L | CK44: Score | CL44: Opponent | CM44: Opp Score | CN44: W-L | CO44: Score | CP44: Opponent | CQ44: Opp Score | CR44: W-L
A45: 1 | B45: Chris Kirk | C45: =L45+P45+T45+X45+AB45+AF45+AJ45+AN45+AR45+AV45+AZ45+BD45+BH45+BL45+BP45+BT45+BX45+CB45+CF45+CJ45+CN45+CR45 -> 0 | D45: =(I45+M45+Q45+U45+Y45+AC45+AG45+AK45+AO45+AS45+AW45+BA45+BE45+BI45+BM45+BQ45+BU45+BY45+CC45+CG45+CK45+CO45)/22 -> 0 | E45: =L45+T45+AJ45+AN45+AR45+AV45+AZ45+BP45+BT45+CB45+CR45 -> 0 | F45: =P45+X45+AB45+AF45+BD45+BH45+BL45+BX45+CF45+CJ45+CN45 -> 0 | G45: =L45+T45+AB45+AJ45+AN45+AV45+BD45+BL45+BT45+BX45+CF45+CJ45+CN45+CR45 -> 0 | H45: =P45+X45+AF45+AR45+AZ45+BH45+BP45+CB45 -> 0 | J45: LAGC | N45: Pin Seekers | R45: Scramblers | V45: KGC | Z45: Links | AD45: Stinger | AH45: Drive | AL45: BGC | AP45: Crushers | AT45: Common | AX45: Majesticks | BB45: Scramblers | BF45: Aces | BJ45: NYGC | BN45: Torque | BR45: Links | BV45: Drive | BZ45: Fireballs | CD45: BGC | CH45: Common | CL45: LAGC | CP45: NYGC
A46: 2 | B46: Jason Day | C46: =L46+P46+T46+X46+AB46+AF46+AJ46+AN46+AR46+AV46+AZ46+BD46+BH46+BL46+BP46+BT46+BX46+CB46+CF46+CJ46+CN46+CR46 -> 0 | D46: =(I46+M46+Q46+U46+Y46+AC46+AG46+AK46+AO46+AS46+AW46+BA46+BE46+BI46+BM46+BQ46+BU46+BY46+CC46+CG46+CK46+CO46)/22 -> 0 | E46: =L46+T46+AJ46+AN46+AR46+AV46+AZ46+BP46+BT46+CB46+CR46 -> 0 | F46: =P46+X46+AB46+AF46+BD46+BH46+BL46+BX46+CF46+CJ46+CN46 -> 0 | G46: =L46+T46+AB46+AJ46+AN46+AV46+BD46+BL46+BT46+BX46+CF46+CJ46+CN46+CR46 -> 0 | H46: =P46+X46+AF46+AR46+AZ46+BH46+BP46+CB46 -> 0 | J46: LAGC | N46: Pin Seekers | R46: Scramblers | V46: KGC | Z46: Links | AD46: Stinger | AH46: Drive | AL46: BGC | AP46: Crushers | AT46: Common | AX46: Majesticks | BB46: Scramblers | BF46: Aces | BJ46: NYGC | BN46: Torque | BR46: Links | BV46: Drive | BZ46: Fireballs | CD46: BGC | CH46: Common | CL46: LAGC | CP46: NYGC
A47: 3 | B47: Akshay Bhatia | C47: =L47+P47+T47+X47+AB47+AF47+AJ47+AN47+AR47+AV47+AZ47+BD47+BH47+BL47+BP47+BT47+BX47+CB47+CF47+CJ47+CN47+CR47 -> 0 | D47: =(I47+M47+Q47+U47+Y47+AC47+AG47+AK47+AO47+AS47+AW47+BA47+BE47+BI47+BM47+BQ47+BU47+BY47+CC47+CG47+CK47+CO47)/22 -> 0 | E47: =L47+T47+AJ47+AN47+AR47+AV47+AZ47+BP47+BT47+CB47+CR47 -> 0 | F47: =P47+X47+AB47+AF47+BD47+BH47+BL47+BX47+CF47+CJ47+CN47 -> 0 | G47: =L47+T47+AB47+AJ47+AN47+AV47+BD47+BL47+BT47+BX47+CF47+CJ47+CN47+CR47 -> 0 | H47: =P47+X47+AF47+AR47+AZ47+BH47+BP47+CB47 -> 0 | J47: LAGC | N47: Pin Seekers | R47: Scramblers | V47: KGC | Z47: Links | AD47: Stinger | AH47: Drive | AL47: BGC | AP47: Crushers | AT47: Common | AX47: Majesticks | BB47: Scramblers | BF47: Aces | BJ47: NYGC | BN47: Torque | BR47: Links | BV47: Drive | BZ47: Fireballs | CD47: BGC | CH47: Common | CL47: LAGC | CP47: NYGC
A48: 4 | B48: Viktor Hovland | C48: =L48+P48+T48+X48+AB48+AF48+AJ48+AN48+AR48+AV48+AZ48+BD48+BH48+BL48+BP48+BT48+BX48+CB48+CF48+CJ48+CN48+CR48 -> 0 | D48: =I48+M48+Q48+U48+Y48+AC48+AG48+AK48+AO48+AS48+AW48+BA48+BE48+BI48+BM48+BQ48+BU48+BY48+CC48+CG48+CK48+CO48 -> 0 | E48: =L48+T48+AJ48+AN48+AR48+AV48+AZ48+BP48+BT48+CB48+CR48 -> 0 | F48: =P48+X48+AB48+AF48+BD48+BH48+BL48+BX48+CF48+CJ48+CN48 -> 0 | G48: =L48+T48+AB48+AJ48+AN48+AV48+BD48+BL48+BT48+BX48+CF48+CJ48+CN48+CR48 -> 0 | H48: =P48+X48+AF48+AR48+AZ48+BH48+BP48+CB48 -> 0 | J48: LAGC | N48: Pin Seekers | R48: Scramblers | V48: KGC | Z48: Links | AD48: Stinger | AH48: Drive | AL48: BGC | AP48: Crushers | AT48: Common | AX48: Majesticks | BB48: Scramblers | BF48: Aces | BJ48: NYGC | BN48: Torque | BR48: Links | BV48: Drive | BZ48: Fireballs | CD48: BGC | CH48: Common | CL48: LAGC | CP48: NYGC
A50: Player # | B50: Crushers | C50: Points | D50: Holes | E50: Home | F50: Away | G50: Division | H50: Non Division | I50: Score | J50: Opponent | K50: Opp Score | L50: W-L | M50: Score | N50: Opponent | O50: Opp Score | P50: W-L | Q50: Score | R50: Opponent | S50: Opp Score | T50: W-L | U50: Score | V50: Opponent | W50: Opp Score | X50: W-L | Y50: Score | Z50: Opponent | AA50: Opp Score | AB50: W-L | AC50: Score | AD50: Opponent | AE50: Opp Score | AF50: W-L | AG50: Score | AH50: Opponent | AI50: Opp Score | AJ50: W-L | AK50: Score | AL50: Opponent | AM50: Opp Score | AN50: W-L | AO50: Score | AP50: Opponent | AQ50: Opp Score | AR50: W-L | AS50: Score | AT50: Opponent | AU50: Opp Score | AV50: W-L | AW50: Score | AX50: Opponent | AY50: Opp Score | AZ50: W-L | BA50: Score | BB50: Opponent | BC50: Opp Score | BD50: W-L | BE50: Score | BF50: Opponent | BG50: Opp Score | BH50: W-L | BI50: Score | BJ50: Opponent | BK50: Opp Score | BL50: W-L | BM50: Score | BN50: Opponent | BO50: Opp Score | BP50: W-L | BQ50: Score | BR50: Opponent | BS50: Opp Score | BT50: W-L | BU50: Score | BV50: Opponent | BW50: Opp Score | BX50: W-L | BY50: Score | BZ50: Opponent | CA50: Opp Score | CB50: W-L | CC50: Score | CD50: Opponent | CE50: Opp Score | CF50: W-L | CG50: Score | CH50: Opponent | CI50: Opp Score | CJ50: W-L | CK50: Score | CL50: Opponent | CM50: Opp Score | CN50: W-L | CO50: Score | CP50: Opponent | CQ50: Opp Score | CR50: W-L
A51: 1 | B51: Bryson DeChambeau | C51: =L51+P51+T51+X51+AB51+AF51+AJ51+AN51+AR51+AV51+AZ51+BD51+BH51+BL51+BP51+BT51+BX51+CB51+CF51+CJ51+CN51+CR51 -> 0 | D51: =(I51+M51+Q51+U51+Y51+AC51+AG51+AK51+AO51+AS51+AW51+BA51+BE51+BI51+BM51+BQ51+BU51+BY51+CC51+CG51+CK51+CO51)/22 -> 0 | E51: =L51+P51+X51+AF51+AJ51+AV51+BD51+BH51+BT51+CF51+CR51 -> 0 | F51: =T51+AB51+AN51+AR51+AZ51+BL51+BP51+BX51+CB51+CJ51+CN51 -> 0 | G51: =L51+T51+AB51+AJ51+AN51+AV51+BD51+BL51+BT51+BX51+CF51+CJ51+CN51+CR51 -> 0 | H51: =P51+X51+AF51+AR51+AZ51+BH51+BP51+CB51 -> 0 | J51: Aces | N51: Drive | R51: Majesticks | V51: Common | Z51: Torque | AD51: Links | AH51: Pin Seekers | AL51: KGC | AP51: Rough Riders | AT51: Stinger | AX51: Scramblers | BB51: Majesticks | BF51: LAGC | BJ51: Fireballs | BN51: NYGC | BR51: Torque | BV51: Pin Seekers | BZ51: BGC | CD51: KGC | CH51: Stinger | CL51: Aces | CP51: Fireballs
A52: 2 | B52: Paul Casey | C52: =L52+P52+T52+X52+AB52+AF52+AJ52+AN52+AR52+AV52+AZ52+BD52+BH52+BL52+BP52+BT52+BX52+CB52+CF52+CJ52+CN52+CR52 -> 0 | D52: =(I52+M52+Q52+U52+Y52+AC52+AG52+AK52+AO52+AS52+AW52+BA52+BE52+BI52+BM52+BQ52+BU52+BY52+CC52+CG52+CK52+CO52)/22 -> 0 | E52: =L52+P52+X52+AF52+AJ52+AV52+BD52+BH52+BT52+CF52+CR52 -> 0 | F52: =T52+AB52+AN52+AR52+AZ52+BL52+BP52+BX52+CB52+CJ52+CN52 -> 0 | G52: =L52+T52+AB52+AJ52+AN52+AV52+BD52+BL52+BT52+BX52+CF52+CJ52+CN52+CR52 -> 0 | H52: =P52+X52+AF52+AR52+AZ52+BH52+BP52+CB52 -> 0 | J52: Aces | N52: Drive | R52: Majesticks | V52: Common | Z52: Torque | AD52: Links | AH52: Pin Seekers | AL52: KGC | AP52: Rough Riders | AT52: Stinger | AX52: Scramblers | BB52: Majesticks | BF52: LAGC | BJ52: Fireballs | BN52: NYGC | BR52: Torque | BV52: Pin Seekers | BZ52: BGC | CD52: KGC | CH52: Stinger | CL52: Aces | CP52: Fireballs
A53: 3 | B53: Charles Howell III | C53: =L53+P53+T53+X53+AB53+AF53+AJ53+AN53+AR53+AV53+AZ53+BD53+BH53+BL53+BP53+BT53+BX53+CB53+CF53+CJ53+CN53+CR53 -> 0 | D53: =(I53+M53+Q53+U53+Y53+AC53+AG53+AK53+AO53+AS53+AW53+BA53+BE53+BI53+BM53+BQ53+BU53+BY53+CC53+CG53+CK53+CO53)/22 -> 0 | E53: =L53+P53+X53+AF53+AJ53+AV53+BD53+BH53+BT53+CF53+CR53 -> 0 | F53: =T53+AB53+AN53+AR53+AZ53+BL53+BP53+BX53+CB53+CJ53+CN53 -> 0 | G53: =L53+T53+AB53+AJ53+AN53+AV53+BD53+BL53+BT53+BX53+CF53+CJ53+CN53+CR53 -> 0 | H53: =P53+X53+AF53+AR53+AZ53+BH53+BP53+CB53 -> 0 | J53: Aces | N53: Drive | R53: Majesticks | V53: Common | Z53: Torque | AD53: Links | AH53: Pin Seekers | AL53: KGC | AP53: Rough Riders | AT53: Stinger | AX53: Scramblers | BB53: Majesticks | BF53: LAGC | BJ53: Fireballs | BN53: NYGC | BR53: Torque | BV53: Pin Seekers | BZ53: BGC | CD53: KGC | CH53: Stinger | CL53: Aces | CP53: Fireballs
A54: 4 | B54: Bubba Watson | C54: =L54+P54+T54+X54+AB54+AF54+AJ54+AN54+AR54+AV54+AZ54+BD54+BH54+BL54+BP54+BT54+BX54+CB54+CF54+CJ54+CN54+CR54 -> 0 | D54: =I54+M54+Q54+U54+Y54+AC54+AG54+AK54+AO54+AS54+AW54+BA54+BE54+BI54+BM54+BQ54+BU54+BY54+CC54+CG54+CK54+CO54 -> 0 | E54: =L54+P54+X54+AF54+AJ54+AV54+BD54+BH54+BT54+CF54+CR54 -> 0 | F54: =T54+AB54+AN54+AR54+AZ54+BL54+BP54+BX54+CB54+CJ54+CN54 -> 0 | G54: =L54+T54+AB54+AJ54+AN54+AV54+BD54+BL54+BT54+BX54+CF54+CJ54+CN54+CR54 -> 0 | H54: =P54+X54+AF54+AR54+AZ54+BH54+BP54+CB54 -> 0 | J54: Aces | N54: Drive | R54: Majesticks | V54: Common | Z54: Torque | AD54: Links | AH54: Pin Seekers | AL54: KGC | AP54: Rough Riders | AT54: Stinger | AX54: Scramblers | BB54: Majesticks | BF54: LAGC | BJ54: Fireballs | BN54: NYGC | BR54: Torque | BV54: Pin Seekers | BZ54: BGC | CD54: KGC | CH54: Stinger | CL54: Aces | CP54: Fireballs
A56: Player # | B56: Majesticks | C56: Points | D56: Holes | E56: Home | F56: Away | G56: Division | H56: Non Division | I56: Score | J56: Opponent | K56: Opp Score | L56: W-L | M56: Score | N56: Opponent | O56: Opp Score | P56: W-L | Q56: Score | R56: Opponent | S56: Opp Score | T56: W-L | U56: Score | V56: Opponent | W56: Opp Score | X56: W-L | Y56: Score | Z56: Opponent | AA56: Opp Score | AB56: W-L | AC56: Score | AD56: Opponent | AE56: Opp Score | AF56: W-L | AG56: Score | AH56: Opponent | AI56: Opp Score | AJ56: W-L | AK56: Score | AL56: Opponent | AM56: Opp Score | AN56: W-L | AO56: Score | AP56: Opponent | AQ56: Opp Score | AR56: W-L | AS56: Score | AT56: Opponent | AU56: Opp Score | AV56: W-L | AW56: Score | AX56: Opponent | AY56: Opp Score | AZ56: W-L | BA56: Score | BB56: Opponent | BC56: Opp Score | BD56: W-L | BE56: Score | BF56: Opponent | BG56: Opp Score | BH56: W-L | BI56: Score | BJ56: Opponent | BK56: Opp Score | BL56: W-L | BM56: Score | BN56: Opponent | BO56: Opp Score | BP56: W-L | BQ56: Score | BR56: Opponent | BS56: Opp Score | BT56: W-L | BU56: Score | BV56: Opponent | BW56: Opp Score | BX56: W-L | BY56: Score | BZ56: Opponent | CA56: Opp Score | CB56: W-L | CC56: Score | CD56: Opponent | CE56: Opp Score | CF56: W-L | CG56: Score | CH56: Opponent | CI56: Opp Score | CJ56: W-L | CK56: Score | CL56: Opponent | CM56: Opp Score | CN56: W-L | CO56: Score | CP56: Opponent | CQ56: Opp Score | CR56: W-L
A57: 1 | B57: Phil Mickelson | C57: =L57+P57+T57+X57+AB57+AF57+AJ57+AN57+AR57+AV57+AZ57+BD57+BH57+BL57+BP57+BT57+BX57+CB57+CF57+CJ57+CN57+CR57 -> 0 | D57: =(I57+M57+Q57+U57+Y57+AC57+AG57+AK57+AO57+AS57+AW57+BA57+BE57+BI57+BM57+BQ57+BU57+BY57+CC57+CG57+CK57+CO57)/22 -> 0 | E57: =L57+P57+T57+X57+AF57+AJ57+AV57+BH57+BL57+BT57+CF57 -> 0 | F57: =AB57+AN57+AR57+AZ57+BD57+BP57+BX57+CB57+CJ57+CN57+CR57 -> 0 | G57: =L57+T57+AB57+AJ57+AN57+AV57+BD57+BL57+BT57+BX57+CF57+CJ57+CN57+CR57 -> 0 | H57: =P57+X57+AF57+AR57+AZ57+BH57+BP57+CB57 -> 0 | J57: Stinger | N57: Common | R57: Crushers | V57: Drive | Z57: KGC | AD57: LAGC | AH57: Aces | AL57: Fireballs | AP57: Scramblers | AT57: Pin Seekers | AX57: Rough Riders | BB57: Crushers | BF57: Links | BJ57: Torque | BN57: BGC | BR57: KGC | BV57: Aces | BZ57: NYGC | CD57: Fireballs | CH57: Pin Seekers | CL57: Stinger | CP57: Torque
A58: 2 | B58: Ian Poulter | C58: =L58+P58+T58+X58+AB58+AF58+AJ58+AN58+AR58+AV58+AZ58+BD58+BH58+BL58+BP58+BT58+BX58+CB58+CF58+CJ58+CN58+CR58 -> 0 | D58: =(I58+M58+Q58+U58+Y58+AC58+AG58+AK58+AO58+AS58+AW58+BA58+BE58+BI58+BM58+BQ58+BU58+BY58+CC58+CG58+CK58+CO58)/22 -> 0 | E58: =L58+P58+T58+X58+AF58+AJ58+AV58+BH58+BL58+BT58+CF58 -> 0 | F58: =AB58+AN58+AR58+AZ58+BD58+BP58+BX58+CB58+CJ58+CN58+CR58 -> 0 | G58: =L58+T58+AB58+AJ58+AN58+AV58+BD58+BL58+BT58+BX58+CF58+CJ58+CN58+CR58 -> 0 | H58: =P58+X58+AF58+AR58+AZ58+BH58+BP58+CB58 -> 0 | J58: Stinger | N58: Common | R58: Crushers | V58: Drive | Z58: KGC | AD58: LAGC | AH58: Aces | AL58: Fireballs | AP58: Scramblers | AT58: Pin Seekers | AX58: Rough Riders | BB58: Crushers | BF58: Links | BJ58: Torque | BN58: BGC | BR58: KGC | BV58: Aces | BZ58: NYGC | CD58: Fireballs | CH58: Pin Seekers | CL58: Stinger | CP58: Torque
A59: 3 | B59: Lee Westwood | C59: =L59+P59+T59+X59+AB59+AF59+AJ59+AN59+AR59+AV59+AZ59+BD59+BH59+BL59+BP59+BT59+BX59+CB59+CF59+CJ59+CN59+CR59 -> 0 | D59: =(I59+M59+Q59+U59+Y59+AC59+AG59+AK59+AO59+AS59+AW59+BA59+BE59+BI59+BM59+BQ59+BU59+BY59+CC59+CG59+CK59+CO59)/22 -> 0 | E59: =L59+P59+T59+X59+AF59+AJ59+AV59+BH59+BL59+BT59+CF59 -> 0 | F59: =AB59+AN59+AR59+AZ59+BD59+BP59+BX59+CB59+CJ59+CN59+CR59 -> 0 | G59: =L59+T59+AB59+AJ59+AN59+AV59+BD59+BL59+BT59+BX59+CF59+CJ59+CN59+CR59 -> 0 | H59: =P59+X59+AF59+AR59+AZ59+BH59+BP59+CB59 -> 0 | J59: Stinger | N59: Common | R59: Crushers | V59: Drive | Z59: KGC | AD59: LAGC | AH59: Aces | AL59: Fireballs | AP59: Scramblers | AT59: Pin Seekers | AX59: Rough Riders | BB59: Crushers | BF59: Links | BJ59: Torque | BN59: BGC | BR59: KGC | BV59: Aces | BZ59: NYGC | CD59: Fireballs | CH59: Pin Seekers | CL59: Stinger | CP59: Torque
A60: 4 | B60: Henrik Stenson | C60: =L60+P60+T60+X60+AB60+AF60+AJ60+AN60+AR60+AV60+AZ60+BD60+BH60+BL60+BP60+BT60+BX60+CB60+CF60+CJ60+CN60+CR60 -> 0 | D60: =I60+M60+Q60+U60+Y60+AC60+AG60+AK60+AO60+AS60+AW60+BA60+BE60+BI60+BM60+BQ60+BU60+BY60+CC60+CG60+CK60+CO60 -> 0 | E60: =L60+P60+T60+X60+AF60+AJ60+AV60+BH60+BL60+BT60+CF60 -> 0 | F60: =AB60+AN60+AR60+AZ60+BD60+BP60+BX60+CB60+CJ60+CN60+CR60 -> 0 | G60: =L60+T60+AB60+AJ60+AN60+AV60+BD60+BL60+BT60+BX60+CF60+CJ60+CN60+CR60 -> 0 | H60: =P60+X60+AF60+AR60+AZ60+BH60+BP60+CB60 -> 0 | J60: Stinger | N60: Common | R60: Crushers | V60: Drive | Z60: KGC | AD60: LAGC | AH60: Aces | AL60: Fireballs | AP60: Scramblers | AT60: Pin Seekers | AX60: Rough Riders | BB60: Crushers | BF60: Links | BJ60: Torque | BN60: BGC | BR60: KGC | BV60: Aces | BZ60: NYGC | CD60: Fireballs | CH60: Pin Seekers | CL60: Stinger | CP60: Torque
A62: Player # | B62: Fireballs | C62: Points | D62: Holes | E62: Home | F62: Away | G62: Division | H62: Non Division | I62: Score | J62: Opponent | K62: Opp Score | L62: W-L | M62: Score | N62: Opponent | O62: Opp Score | P62: W-L | Q62: Score | R62: Opponent | S62: Opp Score | T62: W-L | U62: Score | V62: Opponent | W62: Opp Score | X62: W-L | Y62: Score | Z62: Opponent | AA62: Opp Score | AB62: W-L | AC62: Score | AD62: Opponent | AE62: Opp Score | AF62: W-L | AG62: Score | AH62: Opponent | AI62: Opp Score | AJ62: W-L | AK62: Score | AL62: Opponent | AM62: Opp Score | AN62: W-L | AO62: Score | AP62: Opponent | AQ62: Opp Score | AR62: W-L | AS62: Score | AT62: Opponent | AU62: Opp Score | AV62: W-L | AW62: Score | AX62: Opponent | AY62: Opp Score | AZ62: W-L | BA62: Score | BB62: Opponent | BC62: Opp Score | BD62: W-L | BE62: Score | BF62: Opponent | BG62: Opp Score | BH62: W-L | BI62: Score | BJ62: Opponent | BK62: Opp Score | BL62: W-L | BM62: Score | BN62: Opponent | BO62: Opp Score | BP62: W-L | BQ62: Score | BR62: Opponent | BS62: Opp Score | BT62: W-L | BU62: Score | BV62: Opponent | BW62: Opp Score | BX62: W-L | BY62: Score | BZ62: Opponent | CA62: Opp Score | CB62: W-L | CC62: Score | CD62: Opponent | CE62: Opp Score | CF62: W-L | CG62: Score | CH62: Opponent | CI62: Opp Score | CJ62: W-L | CK62: Score | CL62: Opponent | CM62: Opp Score | CN62: W-L | CO62: Score | CP62: Opponent | CQ62: Opp Score | CR62: W-L
A63: 1 | B63: Tyrrell Hatton | C63: =L63+P63+T63+X63+AB63+AF63+AJ63+AN63+AR63+AV63+AZ63+BD63+BH63+BL63+BP63+BT63+BX63+CB63+CF63+CJ63+CN63+CR63 -> 0 | D63: =(I63+M63+Q63+U63+Y63+AC63+AG63+AK63+AO63+AS63+AW63+BA63+BE63+BI63+BM63+BQ63+BU63+BY63+CC63+CG63+CK63+CO63)/22 -> 0 | E63: =L63+P63+T63+X63+AF63+AN63+AV63+BH63+BL63+BT63+BX63 -> 0 | F63: =AB63+AJ63+AR63+AZ63+BD63+BP63+CB63+CF63+CJ63+CN63+CR63 -> 0 | G63: =L63+T63+AB63+AJ63+AN63+AV63+BD63+BL63+BT63+BX63+CF63+CJ63+CN63+CR63 -> 0 | H63: =P63+X63+AF63+AR63+AZ63+BH63+BP63+CB63 -> 0 | J63: KGC | N63: Links | R63: Aces | V63: LAGC | Z63: Pin Seekers | AD63: Drive | AH63: Stinger | AL63: Majesticks | AP63: BGC | AT63: Torque | AX63: NYGC | BB63: Aces | BF63: Common | BJ63: Crushers | BN63: Scramblers | BR63: Pin Seekers | BV63: Stinger | BZ63: Rough Riders | CD63: Majesticks | CH63: Torque | CL63: KGC | CP63: Crushers
A64: 2 | B64: Cam Smith | C64: =L64+P64+T64+X64+AB64+AF64+AJ64+AN64+AR64+AV64+AZ64+BD64+BH64+BL64+BP64+BT64+BX64+CB64+CF64+CJ64+CN64+CR64 -> 0 | D64: =(I64+M64+Q64+U64+Y64+AC64+AG64+AK64+AO64+AS64+AW64+BA64+BE64+BI64+BM64+BQ64+BU64+BY64+CC64+CG64+CK64+CO64)/22 -> 0 | E64: =L64+P64+T64+X64+AF64+AN64+AV64+BH64+BL64+BT64+BX64 -> 0 | F64: =AB64+AJ64+AR64+AZ64+BD64+BP64+CB64+CF64+CJ64+CN64+CR64 -> 0 | G64: =L64+T64+AB64+AJ64+AN64+AV64+BD64+BL64+BT64+BX64+CF64+CJ64+CN64+CR64 -> 0 | H64: =P64+X64+AF64+AR64+AZ64+BH64+BP64+CB64 -> 0 | J64: KGC | N64: Links | R64: Aces | V64: LAGC | Z64: Pin Seekers | AD64: Drive | AH64: Stinger | AL64: Majesticks | AP64: BGC | AT64: Torque | AX64: NYGC | BB64: Aces | BF64: Common | BJ64: Crushers | BN64: Scramblers | BR64: Pin Seekers | BV64: Stinger | BZ64: Rough Riders | CD64: Majesticks | CH64: Torque | CL64: KGC | CP64: Crushers
A65: 3 | B65: Sergio Garcia | C65: =L65+P65+T65+X65+AB65+AF65+AJ65+AN65+AR65+AV65+AZ65+BD65+BH65+BL65+BP65+BT65+BX65+CB65+CF65+CJ65+CN65+CR65 -> 0 | D65: =(I65+M65+Q65+U65+Y65+AC65+AG65+AK65+AO65+AS65+AW65+BA65+BE65+BI65+BM65+BQ65+BU65+BY65+CC65+CG65+CK65+CO65)/22 -> 0 | E65: =L65+P65+T65+X65+AF65+AN65+AV65+BH65+BL65+BT65+BX65 -> 0 | F65: =AB65+AJ65+AR65+AZ65+BD65+BP65+CB65+CF65+CJ65+CN65+CR65 -> 0 | G65: =L65+T65+AB65+AJ65+AN65+AV65+BD65+BL65+BT65+BX65+CF65+CJ65+CN65+CR65 -> 0 | H65: =P65+X65+AF65+AR65+AZ65+BH65+BP65+CB65 -> 0 | J65: KGC | N65: Links | R65: Aces | V65: LAGC | Z65: Pin Seekers | AD65: Drive | AH65: Stinger | AL65: Majesticks | AP65: BGC | AT65: Torque | AX65: NYGC | BB65: Aces | BF65: Common | BJ65: Crushers | BN65: Scramblers | BR65: Pin Seekers | BV65: Stinger | BZ65: Rough Riders | CD65: Majesticks | CH65: Torque | CL65: KGC | CP65: Crushers
A66: 4 | B66: Jon Rahm | C66: =L66+P66+T66+X66+AB66+AF66+AJ66+AN66+AR66+AV66+AZ66+BD66+BH66+BL66+BP66+BT66+BX66+CB66+CF66+CJ66+CN66+CR66 -> 0 | D66: =I66+M66+Q66+U66+Y66+AC66+AG66+AK66+AO66+AS66+AW66+BA66+BE66+BI66+BM66+BQ66+BU66+BY66+CC66+CG66+CK66+CO66 -> 0 | E66: =L66+P66+T66+X66+AF66+AN66+AV66+BH66+BL66+BT66+BX66 -> 0 | F66: =AB66+AJ66+AR66+AZ66+BD66+BP66+CB66+CF66+CJ66+CN66+CR66 -> 0 | G66: =L66+T66+AB66+AJ66+AN66+AV66+BD66+BL66+BT66+BX66+CF66+CJ66+CN66+CR66 -> 0 | H66: =P66+X66+AF66+AR66+AZ66+BH66+BP66+CB66 -> 0 | J66: KGC | N66: Links | R66: Aces | V66: LAGC | Z66: Pin Seekers | AD66: Drive | AH66: Stinger | AL66: Majesticks | AP66: BGC | AT66: Torque | AX66: NYGC | BB66: Aces | BF66: Common | BJ66: Crushers | BN66: Scramblers | BR66: Pin Seekers | BV66: Stinger | BZ66: Rough Riders | CD66: Majesticks | CH66: Torque | CL66: KGC | CP66: Crushers
A68: Player # | B68: Torque | C68: Points | D68: Holes | E68: Home | F68: Away | G68: Division | H68: Non Division | I68: Score | J68: Opponent | K68: Opp Score | L68: W-L | M68: Score | N68: Opponent | O68: Opp Score | P68: W-L | Q68: Score | R68: Opponent | S68: Opp Score | T68: W-L | U68: Score | V68: Opponent | W68: Opp Score | X68: W-L | Y68: Score | Z68: Opponent | AA68: Opp Score | AB68: W-L | AC68: Score | AD68: Opponent | AE68: Opp Score | AF68: W-L | AG68: Score | AH68: Opponent | AI68: Opp Score | AJ68: W-L | AK68: Score | AL68: Opponent | AM68: Opp Score | AN68: W-L | AO68: Score | AP68: Opponent | AQ68: Opp Score | AR68: W-L | AS68: Score | AT68: Opponent | AU68: Opp Score | AV68: W-L | AW68: Score | AX68: Opponent | AY68: Opp Score | AZ68: W-L | BA68: Score | BB68: Opponent | BC68: Opp Score | BD68: W-L | BE68: Score | BF68: Opponent | BG68: Opp Score | BH68: W-L | BI68: Score | BJ68: Opponent | BK68: Opp Score | BL68: W-L | BM68: Score | BN68: Opponent | BO68: Opp Score | BP68: W-L | BQ68: Score | BR68: Opponent | BS68: Opp Score | BT68: W-L | BU68: Score | BV68: Opponent | BW68: Opp Score | BX68: W-L | BY68: Score | BZ68: Opponent | CA68: Opp Score | CB68: W-L | CC68: Score | CD68: Opponent | CE68: Opp Score | CF68: W-L | CG68: Score | CH68: Opponent | CI68: Opp Score | CJ68: W-L | CK68: Score | CL68: Opponent | CM68: Opp Score | CN68: W-L | CO68: Score | CP68: Opponent | CQ68: Opp Score | CR68: W-L
